BEGIN:VCALENDAR
VERSION:2.0
PRODID:-//FL Bikers - ECPv6.15.20//NONSGML v1.0//EN
CALSCALE:GREGORIAN
METHOD:PUBLISH
X-ORIGINAL-URL:https://flbikers.com
X-WR-CALDESC:Events for FL Bikers
REFRESH-INTERVAL;VALUE=DURATION:PT1H
X-Robots-Tag:noindex
X-PUBLISHED-TTL:PT1H
BEGIN:VTIMEZONE
TZID:UTC
BEGIN:STANDARD
TZOFFSETFROM:+0000
TZOFFSETTO:+0000
TZNAME:UTC
DTSTART:20240101T000000
END:STANDARD
END:VTIMEZONE
BEGIN:VEVENT
DTSTART;TZID=UTC:20250905T180000
DTEND;TZID=UTC:20250905T220000
DTSTAMP:20260419T142700
CREATED:20250721T220542Z
LAST-MODIFIED:20250721T220542Z
UID:40284-1757095200-1757109600@flbikers.com
SUMMARY:AMVETS 44 Riders September Steak Night
DESCRIPTION:Ride in the first Friday of the month for dinnerJoin Amvets Post 44 for Ribeye Steak\, Baked Potato and Side Salad\, Live Music\, Drinks & Camaraderie\nEvent Details\n\n\n\nFri\, Sep 05\, 2025\n6:00 PM – 10:00 PM\n\n\nAmvets Post 44\n\n\n5521 State Rd 60\n\n\nPlant City\, FL 33567
URL:https://flbikers.com/event/amvets-44-riders-september-steak-night/
LOCATION:5521 State Road 60\, 5521 State Road 60\, Plant City\, Florida\, 33567
END:VEVENT
BEGIN:VEVENT
DTSTART;TZID=UTC:20250905T180000
DTEND;TZID=UTC:20250905T223000
DTSTAMP:20260419T142700
CREATED:20250721T220711Z
LAST-MODIFIED:20250721T220711Z
UID:40287-1757095200-1757111400@flbikers.com
SUMMARY:Warrior Weekend 2025
DESCRIPTION:Warrior Shield Foundation is hosting the 2025 Warrior Weekend with Cpl Chad O Foundation as the beneficiary!\n-Hero Fest Concert Friday evening-Shooting Experience with John “TIG” Tiegen and Dave “BOON” Benton-Escorted Motorcycle Ride-Gala Night -Airboat Gator Hunt\n\n\nEvent Details\n\n\n\nFri\, Sep 05\, 2025\n6:00 PM\n\n\nRosen Centre Hotel\n\n\n9850 Hawaiian Ct\n\n\nOrlando\, FL 32819
URL:https://flbikers.com/event/warrior-weekend-2025/
LOCATION:FL
END:VEVENT
BEGIN:VEVENT
DTSTART;VALUE=DATE:20250906
DTEND;VALUE=DATE:20250907
DTSTAMP:20260419T142700
CREATED:20250906T164551Z
LAST-MODIFIED:20250806T164740Z
UID:40301-1757116800-1757203199@flbikers.com
SUMMARY:Sunshine State Showdown 2025
DESCRIPTION:Come check out some of the hottest rides from around the state. This is an open to all makes and models from lifted to lowered trucks\, bagged to stanced cars\, sxs\, motorcycles etc… Bring the family for two great days of fun\, music\, vehicles\, food and more!!\nSunshine State Showdown September 6-7 2025Saturday Time : 9am – 6pmSunday Time: 9am-3pmLocation: Lake County Fairgrounds\n\nColoring contest for the kids sponsored by TheDevilsRejects\nTop 50 and Best Of\nSpectators $15\nPre registration $30\nDay of show $40\nVip $50 only 24 spots available (pavilion parking)\n\nGolf carts must be registered\n\n\nEvent Details\n\n\n\nSat\, Sep 06\, 2025\n\n\nLake County Fair Association\n\n\n2101 N County Road 452\n\n\nEustis\, FL
URL:https://flbikers.com/event/sunshine-state-showdown-2025-2/
LOCATION:2101 N County Rd\, 2101 N County Road 452\, Eustis\, Florida
END:VEVENT
BEGIN:VEVENT
DTSTART;TZID=UTC:20250906T080000
DTEND;TZID=UTC:20250907T170000
DTSTAMP:20260419T142700
CREATED:20250721T220831Z
LAST-MODIFIED:20250806T164937Z
UID:40289-1757145600-1757264400@flbikers.com
SUMMARY:Webster Motorcycle Swap Meet - September
DESCRIPTION:Webster Westside presents Florida’s largest monthly motorcycle swap meet! Since 1995\, this event has catered to motorcycle enthusiasts across Florida. \nWe have vendors that sell both new and used parts and related merchandise. You find everything from that unique part you’ve been looking for\, to a ready-made project motorcycle or your own custom ride. \nGreat shopping\, hot food\, cold drinks\, an ATM machine\, overnight night camping and early vendor setup is also available. \nHeld the first Sunday/Saturday of every month… Rain or shine! \n7am – 2pm both days \nGeneral Admission:\nOnly $5 Admission gets you:\n2 FREE Drinks (Beer\, Soda\, or Water) on Saturday!\n1 FREE Drink on Sunday! \nVendors:\nSet up a space for just $12 on Saturday\n$25 on Sunday and sell both days! \n\nEvent Details\n\n\n\nSat\, Sep 06\, 2025 –\nSun\, Sep 07\, 2025\n\n\nWebster Cycle Swap Meet\n\n\n516 NW 3rd St\n\n\nWebster\, FL 33597
URL:https://flbikers.com/event/webster-motorcycle-swap-meet-september/
LOCATION:516 NW 3rd St. Webster\, Florida 33597
END:VEVENT
BEGIN:VEVENT
DTSTART;TZID=UTC:20250906T090000
DTEND;TZID=UTC:20250906T170000
DTSTAMP:20260419T142700
CREATED:20250826T163822Z
LAST-MODIFIED:20250826T163822Z
UID:40310-1757149200-1757178000@flbikers.com
SUMMARY:Central Florida's Ride to Fight Suicicde
DESCRIPTION:Welcome to Central Florida’s Ride to Fight Suicicde \nBenefitting Central FL Chapter & American Foundation for Suicide Prevention \nLunch included \nFree patches for First 100 to register \nThis is a police escorted ride
URL:https://flbikers.com/event/central-floridas-ride-to-fight-suicicde/
LOCATION:620 Hickman Circle Sanford\, FL 32771\, 620 Hickman Circle\, Sanford\, FL\, 32771
END:VEVENT
BEGIN:VEVENT
DTSTART;TZID=UTC:20250906T090000
DTEND;TZID=UTC:20250906T170000
DTSTAMP:20260419T142700
CREATED:20250826T164111Z
LAST-MODIFIED:20250826T164111Z
UID:40314-1757149200-1757178000@flbikers.com
SUMMARY:Skully's Poker Run 2025
DESCRIPTION:FL 20-17’s annual sanctioned event. Hosted by AmVets Post 26 in Dover\, FL\, this year’s event is a Poker Run.\nRegistration begins at 9:00am. 20 for riders\, 10 for passengersFirst bike out at 10:30amLast bike in 3:30pm\nAll bikes welcome!\n\nWhat to Expect:Cash Prize Live DJVendorsFood Truck2A Raffle50/50 RaffleRaffle Baskets Full bar Swag Table A Kick Ass Ride
URL:https://flbikers.com/event/skullys-poker-run-2025/
LOCATION:221 S Dover\, 221 S Dover Rd\, Dover\, FL\, 33527
END:VEVENT
BEGIN:VEVENT
DTSTART;TZID=UTC:20250906T100000
DTEND;TZID=UTC:20250906T170000
DTSTAMP:20260419T142700
CREATED:20250826T165016Z
LAST-MODIFIED:20250826T165016Z
UID:40318-1757152800-1757178000@flbikers.com
SUMMARY:4th Annual Jeeps vs Harleys
DESCRIPTION:Welcome to the 4th Annual Jeeps vs Harleys \nBenefitting the Lake Helen Boys and Girls Club \n\nFood Trucks\nVendors\nRaffles and so much more!
URL:https://flbikers.com/event/4th-annual-jeeps-vs-harleys/
LOCATION:Seminole Harley-Davidson 620 Hickman Cir Sanford\, Florida 32771
END:VEVENT
BEGIN:VEVENT
DTSTART;TZID=UTC:20250914T083000
DTEND;TZID=UTC:20250914T160000
DTSTAMP:20260419T142700
CREATED:20250902T204612Z
LAST-MODIFIED:20250902T204612Z
UID:40337-1757838600-1757865600@flbikers.com
SUMMARY:9/11 Memorial Ride and Ceremony
DESCRIPTION:Event Details\n\n\n\nSun\, Sep 14\, 2025\n8:30 AM – 4:00 PM\n\n\nFlagler County Courthouse\n\n\n1769 Old Moody Blvd\n\n\nBunnell\, FL 32110
URL:https://flbikers.com/event/9-11-memorial-ride-and-ceremony/
LOCATION:FL
END:VEVENT
BEGIN:VEVENT
DTSTART;VALUE=DATE:20250919
DTEND;VALUE=DATE:20250922
DTSTAMP:20260419T142700
CREATED:20250806T165256Z
LAST-MODIFIED:20250806T165256Z
UID:40303-1758240000-1758499199@flbikers.com
SUMMARY:Cartel Baggers Getaway to the Keys
DESCRIPTION:Cartel Baggers Key West Getaway\nRide out in true South Florida style with Cartel Baggers as we take over the road from Miami to Key West! It’s a weekend full of scenic riding\, high-octane energy\, and unforgettable memories—all in support of a great cause.\nFRIDAY\, SEPTEMBER 19\, 2025\n8:00 AM – Meet at Peterson’s H-D South for a light breakfast and check-in.\n10:00 AM – Kick Stands Up! We roll out with Florida Highway Patrol for a scenic ride down to the Keys via the Stretch.\nStop #1 – Jimmy Johnson’s Big ChillArrive and hang for about 1.5 hours\nStop #2 – Robbie’s of IslamoradaEscorted by Monroe County Police\, we stop here for 1 hour\nStop #3 – Lick It BBQAnother 1.5-hour stop with police escort\nFinal Stop – Sunset GrillA great place to relax before heading into Key West\nAfter Sunset Grill\, riders will check in at the iconic Casa Marina Hotel\, where a designated green area will be set aside for Bike Show participants. $25 Bike Display Fee (covers the entire weekend) All proceeds benefit Friendship Circle Miami\n  \nFRIDAY NIGHT Meet us at the legendary Sloppy Joe’s Bar for the official welcome party!\n  \nSATURDAY\, SEPTEMBER 2010:00 AM – 2:00 PM – Bike Show on Duval Street\, hosted by Peterson’s Harley-Davidson South & Cartel Baggers\n  \n2:00 PM – Cool off at the Casa Marina Pool Party\n  \nLater in the day – We ride again\, escorted by Monroe Police to Pickles Sandbar for sunset vibes and good times.\n\nSUNDAY\, SEPTEMBER 21\nSunday is open for leisure\, cruising\, and heading back at your own pace. Make it your perfect Keys weekend.\nDon’t miss this epic ride for a cause.\nBikes. Brotherhood. Key West.\n\n\nEvent Details\n\n\n\nFri\, Sep 19\, 2025 –\nSun\, Sep 21\, 2025\n\n\nPeterson’s Harley-Davidson South\n\n\n19825 S Dixie Hwy\n\n\nCutler Bay\, FL 33157
URL:https://flbikers.com/event/cartel-baggers-getaway-to-the-keys/
LOCATION:19825 South Dixie Highway Cutler Bay\, Florida 33157
END:VEVENT
BEGIN:VEVENT
DTSTART;TZID=UTC:20250920T103000
DTEND;TZID=UTC:20250920T170000
DTSTAMP:20260419T142700
CREATED:20250902T204235Z
LAST-MODIFIED:20250902T204235Z
UID:40334-1758364200-1758387600@flbikers.com
SUMMARY:Journeys with James
DESCRIPTION:Event Details\n\n\n\nSat\, Sep 20\, 2025\n10:30 AM\n\n\nHarley-Davidson of New Port Richey\n\n\n5817 State Road 54\n\n\nNew Port Richey\, FL 34652
URL:https://flbikers.com/event/journeys-with-james/
LOCATION:Harley Davidson of New Port Richie\, 5817 State Road 54\, New Port Richey\, FL\, 34652\, United States
END:VEVENT
BEGIN:VEVENT
DTSTART;TZID=UTC:20250920T110000
DTEND;TZID=UTC:20250920T210000
DTSTAMP:20260419T142700
CREATED:20250902T204036Z
LAST-MODIFIED:20250902T204036Z
UID:40331-1758366000-1758402000@flbikers.com
SUMMARY:Doc Adams Band at Crystal HD
DESCRIPTION:Event Details\n\n\n\nSat\, Sep 20\, 2025\n11:00 AM\n\n\nCrystal Harley-Davidson\n\n\n1147 S Suncoast Blvd\n\n\nHomosassa\, FL 34448
URL:https://flbikers.com/event/doc-adams-band-at-crystal-hd/
LOCATION:Crystal Harley-Davidson 1147 S Suncoast Blvd\, Homosassa\, FL 34448
END:VEVENT
BEGIN:VEVENT
DTSTART;TZID=UTC:20250920T120000
DTEND;TZID=UTC:20250920T170000
DTSTAMP:20260419T142700
CREATED:20250902T203854Z
LAST-MODIFIED:20250902T203854Z
UID:40326-1758369600-1758387600@flbikers.com
SUMMARY:DaMonkey MotoRentals - 2nd Annual Slow Race Competition
DESCRIPTION:Event Details\n\n\n\nSat\, Sep 20\, 2025\n12:00 PM – 5:00 PM\n\n\nDaMonkey MotoRentals\n\n\n4780 Woolbright Rd. Suite 200\n\n\nBoynton Beach\, FL 33436
URL:https://flbikers.com/event/damonkey-motorentals-2nd-annual-slow-race-competition/
LOCATION:DaMonkey MotoRentals\, 4780 Woolbright Rd. Suite 200\, Boynton Beach\, Florida\, 33426
END:VEVENT
BEGIN:VEVENT
DTSTART;TZID=UTC:20250920T180000
DTEND;TZID=UTC:20250920T220000
DTSTAMP:20260419T142700
CREATED:20250902T203625Z
LAST-MODIFIED:20250902T203625Z
UID:40322-1758391200-1758405600@flbikers.com
SUMMARY:Midpoint Bike Night & Community Cruise In
DESCRIPTION:Event Details\n\n\n\nSat\, Sep 20\, 2025\n6:00 PM\n\n\n17860 NE 22nd Ct\n\n\nCitra\, FL 32113\n\n\n\n 
URL:https://flbikers.com/event/midpoint-bike-night-community-cruise-in/
LOCATION:17860 NE 22nd Ct\, 17860 NE 22nd Ct\, Citra\, Florida\, 32113
END:VEVENT
BEGIN:VEVENT
DTSTART;TZID=UTC:20250927T190000
DTEND;TZID=UTC:20250927T210000
DTSTAMP:20260419T142700
CREATED:20250806T165546Z
LAST-MODIFIED:20250806T165546Z
UID:40305-1758999600-1759006800@flbikers.com
SUMMARY:ALR September Bike Night @ Captain and Tequilla Dockside
DESCRIPTION:Join the American Legion Riders the last Saturday of every month for Bike Night \nDJ Music \n$2 Domestics \nRaffles 50/50\nMoney raised stays in the community \nand Lots of Fun \nEvent Details\n\n\n\nSat\, Sep 27\, 2025\n7:00 PM – 9:00 PM\n\n\nCaptain and Tequilla Dockside\n\n\n69 Lakeview Dr\n\n\nKissimmee\, FL 34741
URL:https://flbikers.com/event/alr-september-bike-night-captain-and-tequilla-dockside/
LOCATION:69 lakeview dr\, 69 Lakeview Dr\, Kissimmee\, FL\, 34741
END:VEVENT
END:VCALENDAR