BEGIN:VCALENDAR
VERSION:2.0
PRODID:-//FL Bikers - ECPv6.15.20//NONSGML v1.0//EN
CALSCALE:GREGORIAN
METHOD:PUBLISH
X-ORIGINAL-URL:https://flbikers.com
X-WR-CALDESC:Events for FL Bikers
REFRESH-INTERVAL;VALUE=DURATION:PT1H
X-Robots-Tag:noindex
X-PUBLISHED-TTL:PT1H
BEGIN:VTIMEZONE
TZID:UTC
BEGIN:STANDARD
TZOFFSETFROM:+0000
TZOFFSETTO:+0000
TZNAME:UTC
DTSTART:20230101T000000
END:STANDARD
END:VTIMEZONE
BEGIN:VEVENT
DTSTART;TZID=UTC:20240803T070000
DTEND;TZID=UTC:20240804T140000
DTSTAMP:20260425T144044
CREATED:20240711T154451Z
LAST-MODIFIED:20240711T154451Z
UID:30361-1722668400-1722780000@flbikers.com
SUMMARY:Webster Cycle Swap Meet
DESCRIPTION:Join Florida’s largest monthly motorcycle swap meet featuring vendors with both new and used parts\, project motorcycles\, custom rides\, and more. Enjoy great shopping\, hot food\, cold drinks\, and overnight camping.
URL:https://flbikers.com/event/webster-cycle-swap-meet-2/
LOCATION:516 NW 3rd St. Webster\, Florida 33597
END:VEVENT
BEGIN:VEVENT
DTSTART;TZID=UTC:20240803T110000
DTEND;TZID=UTC:20240803T160000
DTSTAMP:20260425T144044
CREATED:20240711T155111Z
LAST-MODIFIED:20240711T155111Z
UID:30370-1722682800-1722700800@flbikers.com
SUMMARY:Space Coast HOG Grill & Chill
DESCRIPTION:Join the Space Coast HOG Chapter for the Grill & Chill Customer Appreciation Event on Saturday\, August 3\, 2024\, from 11:00 AM to 4:00 PM at Space Coast Harley-Davidson\, 1440 Sportsman Ln NE\, Palm Bay\, FL. Enjoy free beer\, burgers\, hot dogs\, and great times with fellow Harley enthusiasts. This event is a perfect opportunity to relax\, socialize\, and celebrate the vibrant Harley-Davidson community.
URL:https://flbikers.com/event/space-coast-hog-grill-chill-2/
LOCATION:Space Coast Harley-Davidson 1440 Sportsman Lane NE\, Palm Bay\, Florida\, 32905
END:VEVENT
BEGIN:VEVENT
DTSTART;TZID=UTC:20240811T080000
DTEND;TZID=UTC:20240811T140000
DTSTAMP:20260425T144044
CREATED:20240711T154310Z
LAST-MODIFIED:20240711T154310Z
UID:30359-1723363200-1723384800@flbikers.com
SUMMARY:Super Swap Sunday Car & Motorcycle Swap Meet
DESCRIPTION:Get ready for another edition of the Super Swap Sunday Car & Motorcycle Swap Meet on August 11\, 2024\, from 8:00 AM to 2:00 PM at Teddy Morse’s Daytona Harley-Davidson in Ormond Beach\, FL. This event features $10 vendor spots with an 18 x 30 space and free admission for shoppers. It’s the perfect opportunity to find great deals on car and motorcycle parts\, accessories\, and much more. Come join the fun and connect with fellow enthusiasts! For more information\, visit the event page.
URL:https://flbikers.com/event/super-swap-sunday-car-motorcycle-swap-meet-3/
LOCATION:1637 N US Highway 1 Ormond Beach Fl 32174
END:VEVENT
BEGIN:VEVENT
DTSTART;TZID=UTC:20240813T181500
DTEND;TZID=UTC:20240813T200000
DTSTAMP:20260425T144044
CREATED:20240812T141451Z
LAST-MODIFIED:20240812T141451Z
UID:30393-1723572900-1723579200@flbikers.com
SUMMARY:Hog Chapter Ice cream ride KSU
DESCRIPTION:You scream\, I scream we all scream for Ice Cream. Chapter Ride Led by Jane KSU @ 6:15 pm to Ms. Steve’s Ice Cream 5803 County Road 484 Belleview\, Fl
URL:https://flbikers.com/event/hog-chapter-ice-cream-ride-ksu/
LOCATION:Ms. Steves Ice Cream\, 5803 County Road 484\, Belleview\, FL\, United States
END:VEVENT
BEGIN:VEVENT
DTSTART;TZID=UTC:20240815T170000
DTEND;TZID=UTC:20240815T210000
DTSTAMP:20260425T144044
CREATED:20240812T141639Z
LAST-MODIFIED:20240812T141639Z
UID:30396-1723741200-1723755600@flbikers.com
SUMMARY:Throttle Thursday Bike Night
DESCRIPTION:Every 3rd Thurs. is Bike Night at War Horse Harley-Davidson! Hang out with The Horde of Culture Band 5-9pm! Grab a Free Bike Wash! Warrior Wheels Foundation will be onsite. Enjoy cold drinks\, raffles\, available food and more. .
URL:https://flbikers.com/event/throttle-thursday-bike-night/
LOCATION:War Horse Harley-Davidson 5331 N US Hwy 441\, Ocala\, FL 34475
END:VEVENT
BEGIN:VEVENT
DTSTART;TZID=UTC:20240823T180000
DTEND;TZID=UTC:20240823T200000
DTSTAMP:20260425T144044
CREATED:20240812T142103Z
LAST-MODIFIED:20240812T142103Z
UID:30400-1724436000-1724443200@flbikers.com
SUMMARY:Ladies Garage Night
DESCRIPTION:Join Gainesville H-D for an empowering event designed to break down the barriers to motorcycling for women! Whether you’re a beginner or a pro\, this is your chance to learn about bikes\, gear\, and the basics of riding in a supportive and pressure-free environment.  \n 
URL:https://flbikers.com/event/ladies-garage-night/
LOCATION:Gainesville Harley-Davidson 4125 NW 97th Blvd\, Gainesville\, FL 32606
END:VEVENT
BEGIN:VEVENT
DTSTART;TZID=UTC:20240824T110000
DTEND;TZID=UTC:20240824T150000
DTSTAMP:20260425T144044
CREATED:20240812T141842Z
LAST-MODIFIED:20240812T141842Z
UID:30398-1724497200-1724511600@flbikers.com
SUMMARY:Chill n Grill at Daytona Harley Davidson
DESCRIPTION:Chill n Grill at Daytona Harley! The Vixens are serving Free Hot Dogs & Ice Cold Budweiser Draft inside at noon\, and outside from 11-2 our Bikini Bike Wash is open!
URL:https://flbikers.com/event/chill-n-grill-at-daytona-harley-davidson/
LOCATION:1637 N US Highway 1 Ormond Beach Fl 32174
END:VEVENT
BEGIN:VEVENT
DTSTART;TZID=UTC:20240831T070000
DTEND;TZID=UTC:20240901T140000
DTSTAMP:20260425T144044
CREATED:20240711T154616Z
LAST-MODIFIED:20240711T154616Z
UID:30363-1725087600-1725199200@flbikers.com
SUMMARY:Webster Cycle Swap Meet
DESCRIPTION:Attend the end-of-month swap meet for a chance to find unique parts\, accessories\, and bikes. Vendors and enthusiasts come together for this recurring event\, offering a fantastic community atmosphere.
URL:https://flbikers.com/event/webster-cycle-swap-meet-3/
LOCATION:516 NW 3rd St. Webster\, Florida 33597
END:VEVENT
BEGIN:VEVENT
DTSTART;TZID=UTC:20240831T123000
DTEND;TZID=UTC:20240831T180000
DTSTAMP:20260425T144044
CREATED:20240711T154813Z
LAST-MODIFIED:20240711T154813Z
UID:30365-1725107400-1725127200@flbikers.com
SUMMARY:MSS Miami 4th Anniversary - Sound Off & Bike Show
DESCRIPTION:Celebrate the 4th Anniversary of MSS Miami with an exciting Sound Off & Bike Show on August 31\, 2024\, from 12:00 PM to 6:00 PM in Doral\, FL. This event will feature a variety of motorcycle competitions\, live music\, delicious food\, and unique vendors. It’s a fantastic opportunity to enjoy the vibrant motorcycle community and showcase your bike. \nFor more information\, visit the event page.
URL:https://flbikers.com/event/mss-miami-4th-anniversary-sound-off-bike-show/
LOCATION:Carolina Ale House\, 8669 NW 36th Street\, Doral\, FL\, 33166\, United States
END:VEVENT
END:VCALENDAR