BEGIN:VCALENDAR
VERSION:2.0
PRODID:-//FL Bikers - ECPv6.15.20//NONSGML v1.0//EN
CALSCALE:GREGORIAN
METHOD:PUBLISH
X-WR-CALNAME:FL Bikers
X-ORIGINAL-URL:https://flbikers.com
X-WR-CALDESC:Events for FL Bikers
REFRESH-INTERVAL;VALUE=DURATION:PT1H
X-Robots-Tag:noindex
X-PUBLISHED-TTL:PT1H
BEGIN:VTIMEZONE
TZID:UTC
BEGIN:STANDARD
TZOFFSETFROM:+0000
TZOFFSETTO:+0000
TZNAME:UTC
DTSTART:20220101T000000
END:STANDARD
END:VTIMEZONE
BEGIN:VEVENT
DTSTART;TZID=UTC:20230803T190000
DTEND;TZID=UTC:20230803T230000
DTSTAMP:20260426T024513
CREATED:20230727T024759Z
LAST-MODIFIED:20230727T024902Z
UID:19060-1691089200-1691103600@flbikers.com
SUMMARY:Cafe 27\, Thursday bike night
DESCRIPTION:Come on Thursdays and enjoy with us live music\, great food\, specials and more !!
URL:https://flbikers.com/event/cafe-27-thursday-bike-night/
LOCATION:Cafe 27 Bar & Grill 4690 US Hwy 27 Southwest Ranches\, Florida
END:VEVENT
BEGIN:VEVENT
DTSTART;TZID=UTC:20230805T000000
DTEND;TZID=UTC:20230806T000000
DTSTAMP:20260426T024513
CREATED:20230724T013516Z
LAST-MODIFIED:20230724T013516Z
UID:19043-1691193600-1691280000@flbikers.com
SUMMARY:Webster Motorcycle Swap Meet - August
DESCRIPTION:Webster Westside Market presents Florida’s largest monthly car and motorcycle swap meet & show on the first Saturday & Sunday of every month. \n7am – 1 pm on Both Days \nMore than 200 vendors provide both new and used parts and related merchandise. You find everything from that unique part you’ve been looking for\, to a ready-made project car or motorcycle or your own custom ride. \nIn the corral\, you can either buy or sell a car or bike or just enjoy sharing your amazing ride with other enthusiasts.
URL:https://flbikers.com/event/webster-motorcycle-swap-meet-august/
LOCATION:Webster Auto and Cycle Swap Meet 516 NW 3rd St. Webster\, Florida 33597
END:VEVENT
BEGIN:VEVENT
DTSTART;TZID=UTC:20230810T170000
DTEND;TZID=UTC:20230810T210000
DTSTAMP:20260426T024513
CREATED:20230724T013724Z
LAST-MODIFIED:20230724T013757Z
UID:19045-1691686800-1691701200@flbikers.com
SUMMARY:Bike Night at Caddy's Bradenton
DESCRIPTION:Come on down and join us for our monthly Manatee County Bike Night \nDon’t forget! Every second Tuesday of the month at Caddy’s! \nBike Show – Live Music – Axe Throwing – Free Event!
URL:https://flbikers.com/event/bike-night-at-caddys-bradenton-5/
LOCATION:Caddy’s Bradenton 801 Riverside Dr E Bradenton\, Florida
END:VEVENT
BEGIN:VEVENT
DTSTART;TZID=UTC:20230811T190000
DTEND;TZID=UTC:20230811T190000
DTSTAMP:20260426T024513
CREATED:20230724T013914Z
LAST-MODIFIED:20230724T014005Z
UID:19049-1691780400-1691780400@flbikers.com
SUMMARY:Bike Night with My Remedy
DESCRIPTION:Ride on down to George & Dragon English Tavern – My Remedy is rocking out this Bike Night! It’s gunna be a wild party! \nSee you here!
URL:https://flbikers.com/event/bike-night-with-my-remedy-2/
LOCATION:George & Dragon English Tavern 502 Brevard Avenue Cocoa\, Florida 32922
END:VEVENT
BEGIN:VEVENT
DTSTART;TZID=UTC:20230819T110000
DTEND;TZID=UTC:20230819T110000
DTSTAMP:20260426T024513
CREATED:20230724T014139Z
LAST-MODIFIED:20230724T014139Z
UID:19051-1692442800-1692442800@flbikers.com
SUMMARY:Babes & BBQ
DESCRIPTION:Come on down and join us for Babes & BBQ Bike Night at Palm Beach Harley-Davidson \n– Free Food – Bikini Bike Wash – Games and so much more! \nDon’t miss out. \nHope to see you there!
URL:https://flbikers.com/event/babes-bbq/
LOCATION:Palm Beach Harley-Davidson 2955 45th St West Palm Beach\, Florida
END:VEVENT
BEGIN:VEVENT
DTSTART;TZID=UTC:20230829T190000
DTEND;TZID=UTC:20230829T230000
DTSTAMP:20260426T024513
CREATED:20230727T024537Z
LAST-MODIFIED:20230727T024653Z
UID:19058-1693335600-1693350000@flbikers.com
SUMMARY:BAY AREA RIDERS BIKE NIGHT
DESCRIPTION:If you’re a motorcycle rider in the Tampa Bay Area\, then this night is for YOU! Come hang out at Tampa Joes every Tuesday night for Bay Area riders bike night! All bikes and riders welcome! It doesn’t matter if you ride a sportbike harley\, slingshot or ryker\, you’re invited! Come see why this is the #1 bike night in Tampa Bay!!
URL:https://flbikers.com/event/bay-area-riders-bike-night-2/
LOCATION:Tampa Joe’s 9316 Anderson Rd Tampa\, FL
END:VEVENT
END:VCALENDAR