BEGIN:VCALENDAR
VERSION:2.0
PRODID:-//FL Bikers - ECPv6.15.20//NONSGML v1.0//EN
CALSCALE:GREGORIAN
METHOD:PUBLISH
X-WR-CALNAME:FL Bikers
X-ORIGINAL-URL:https://flbikers.com
X-WR-CALDESC:Events for FL Bikers
REFRESH-INTERVAL;VALUE=DURATION:PT1H
X-Robots-Tag:noindex
X-PUBLISHED-TTL:PT1H
BEGIN:VTIMEZONE
TZID:UTC
BEGIN:STANDARD
TZOFFSETFROM:+0000
TZOFFSETTO:+0000
TZNAME:UTC
DTSTART:20220101T000000
END:STANDARD
END:VTIMEZONE
BEGIN:VEVENT
DTSTART;TZID=UTC:20230701T070000
DTEND;TZID=UTC:20230702T130000
DTSTAMP:20260426T011447
CREATED:20230627T013440Z
LAST-MODIFIED:20230627T014940Z
UID:19021-1688194800-1688302800@flbikers.com
SUMMARY:Webster Motorcycle Swap Meet
DESCRIPTION:More than 200 vendors provide both new and used parts and related merchandise. You find everything from that unique part you’ve been looking for\, to a ready-made project car or motorcycle or your own custom ride. \nIn the corral\, you can either buy or sell a car or bike or just enjoy sharing your amazing ride with other enthusiasts. \n7am – 1 pm on Both Days \n 
URL:https://flbikers.com/event/webster-motorcycle-swap-meet-3/
LOCATION:Webster Auto and Cycle Swap Meet 516 NW 3rd St. Webster\, Florida 33597
END:VEVENT
BEGIN:VEVENT
DTSTART;TZID=UTC:20230707T180000
DTEND;TZID=UTC:20230707T210000
DTSTAMP:20260426T011447
CREATED:20230627T013953Z
LAST-MODIFIED:20230627T013953Z
UID:19024-1688752800-1688763600@flbikers.com
SUMMARY:First Friday Bike Night
DESCRIPTION:Join us on July 7 from 6pm to 9pm for our next First Friday event–Bike Night! Lakeland Harley-Davidson will have a motorcycle show\, raffles\, and entertainment by South of the Blues band in Munn Park.
URL:https://flbikers.com/event/first-friday-bike-night/
LOCATION:Lakeland Downtown Farmers Curb Market 117 N Kentucky Ave\, Lakeland\, FL
END:VEVENT
BEGIN:VEVENT
DTSTART;TZID=UTC:20230708T070000
DTEND;TZID=UTC:20230708T180000
DTSTAMP:20260426T011447
CREATED:20230627T012815Z
LAST-MODIFIED:20230627T013152Z
UID:19018-1688799600-1688839200@flbikers.com
SUMMARY:4th Annual East Coast/West Coast Ride
DESCRIPTION:Join our 4th Annual East Coast/West Coast Group Ride. \nEach summer we ride over to Florida’s east coast to support the independent Bike Shops in the area. \nFree Lunch \nThis is a full day of riding and we are not expected to return until approx. 6pm.
URL:https://flbikers.com/event/4th-annual-east-coast-west-coast-ride/
LOCATION:Biker Life Port Charlotte 3265 Tamiami Trail Suite D Port Charlotte\, Florida 33952
END:VEVENT
BEGIN:VEVENT
DTSTART;TZID=UTC:20230713T170000
DTEND;TZID=UTC:20230713T210000
DTSTAMP:20260426T011447
CREATED:20230627T014655Z
LAST-MODIFIED:20230627T014655Z
UID:19027-1689267600-1689282000@flbikers.com
SUMMARY:Bike Night at Caddy's Bradenton
DESCRIPTION:Ain’t No Party Like A West Coast Party! \nJoin us for our monthly Manatee County Bike Night. Every second Thursday of every month at Caddy’s Bradenton 6-10PM \nBike Show \nLive Music \nAxe Throwing with Grover’s Ave
URL:https://flbikers.com/event/bike-night-at-caddys-bradenton-4/
LOCATION:Caddy’s Bradenton 801 Riverside Drive East Bradenton\, FL
END:VEVENT
BEGIN:VEVENT
DTSTART;TZID=UTC:20230722T100000
DTEND;TZID=UTC:20230722T140000
DTSTAMP:20260426T011447
CREATED:20230628T011142Z
LAST-MODIFIED:20230628T011241Z
UID:19030-1690020000-1690034400@flbikers.com
SUMMARY:DREAMS COME TRUE ROCKING CAR & BIKE SHOW
DESCRIPTION:Come to the Nassau Moose Riders car and bike show and enjoy food\, vendors\, raffles and fun. Antique cars pre-1989 and all motorcycles are welcome to join the show. Barbecue is also available for $10.00 a plate which includes smoked BBQ\, baked beans and coleslaw. The event benefits Dreams Come True. Custom trophies will be awarded for the show. Bring the whole family for a fun-filled day!
URL:https://flbikers.com/event/dreams-come-true-rocking-car-bike-show/
LOCATION:Nassau Moose Lodge 850682 US Hwy 17 South Yulee\, FL
END:VEVENT
BEGIN:VEVENT
DTSTART;TZID=UTC:20230725T190000
DTEND;TZID=UTC:20230725T230000
DTSTAMP:20260426T011447
CREATED:20230628T011415Z
LAST-MODIFIED:20230628T011415Z
UID:19033-1690311600-1690326000@flbikers.com
SUMMARY:BAY AREA RIDERS BIKE NIGHT
DESCRIPTION:Tuesdays just got a little bit better. If you’re a motorcycle rider in the Tampa Bay Area\, then this night is for YOU! Come hang out at Tampa Joes every Tuesday night for Bay Area riders bike night! All bikes and riders welcome! It doesn’t matter if you ride a sportbike harley\, slingshot or ryker\, you’re invited!
URL:https://flbikers.com/event/bay-area-riders-bike-night/
LOCATION:Tampa Joe’s 9316 Anderson Rd Tampa\, FL
END:VEVENT
END:VCALENDAR