BEGIN:VCALENDAR
VERSION:2.0
PRODID:-//FL Bikers - ECPv6.15.20//NONSGML v1.0//EN
CALSCALE:GREGORIAN
METHOD:PUBLISH
X-ORIGINAL-URL:https://flbikers.com
X-WR-CALDESC:Events for FL Bikers
REFRESH-INTERVAL;VALUE=DURATION:PT1H
X-Robots-Tag:noindex
X-PUBLISHED-TTL:PT1H
BEGIN:VTIMEZONE
TZID:UTC
BEGIN:STANDARD
TZOFFSETFROM:+0000
TZOFFSETTO:+0000
TZNAME:UTC
DTSTART:20220101T000000
END:STANDARD
END:VTIMEZONE
BEGIN:VEVENT
DTSTART;TZID=UTC:20230602T000000
DTEND;TZID=UTC:20230604T000000
DTSTAMP:20260425T233727
CREATED:20230421T181550Z
LAST-MODIFIED:20230421T181859Z
UID:18957-1685664000-1685836800@flbikers.com
SUMMARY:Ellie Ray’s 11th Annual Bike Rodeo
DESCRIPTION:Pedal to the metal! Get ready for Ellie Ray’s 11th Annual Biker Rodeo – an event you don’t want to miss. Saddle up and join in on this super fun biker extravaganza that’ll have wheels everywhere spinning with delight!
URL:https://flbikers.com/event/ellie-rays-11th-annual-bike-rodeo/
LOCATION:Ellie Ray’s RV Resort & Campground 3349 Northwest 110th St.\, Branford\, FL
END:VEVENT
BEGIN:VEVENT
DTSTART;TZID=UTC:20230606T163000
DTEND;TZID=UTC:20230606T193000
DTSTAMP:20260425T233727
CREATED:20230421T182727Z
LAST-MODIFIED:20230421T182932Z
UID:18962-1686069000-1686079800@flbikers.com
SUMMARY:Bike Night
DESCRIPTION:Monthly bike gathering at RibCrib in Callaway. A time to gather meet new people and enjoy the best bbq! Bring your bike and get 20% off!
URL:https://flbikers.com/event/bike-night-6/
LOCATION:RibCrib BBQ 532 N Tyndall Pkwy\, Callaway\, FL
END:VEVENT
BEGIN:VEVENT
DTSTART;TZID=UTC:20230615T180000
DTEND;TZID=UTC:20230615T180000
DTSTAMP:20260425T233727
CREATED:20230421T182215Z
LAST-MODIFIED:20230421T182328Z
UID:18960-1686852000-1686852000@flbikers.com
SUMMARY:Shovelhed at Bike Night TCHD
DESCRIPTION:ShovelHed is a Central/South Florida Classic Rock Cover Band comprised of members that have graced both National and International stages with some of the worlds most influential artists.
URL:https://flbikers.com/event/shovelhed-at-bike-night-tchd/
LOCATION:Treasure Coast Harley-Davidson 4967 SE Federal Hwy Stuart\, Florida 34997
END:VEVENT
BEGIN:VEVENT
DTSTART;TZID=UTC:20230617T100000
DTEND;TZID=UTC:20230617T170000
DTSTAMP:20260425T233727
CREATED:20230421T185334Z
LAST-MODIFIED:20230421T185501Z
UID:18969-1686996000-1687021200@flbikers.com
SUMMARY:H-D of Tampa Bikes Brews and BBQ
DESCRIPTION:Live Music\, Free Bikini Bike wash\, BBQ and more! \nEvery month on the 3rd Saturday.
URL:https://flbikers.com/event/h-d-of-tampa-bikes-brews-and-bbq/
LOCATION:Harley-Davidson of Tampa\, 6920 N Dale Mabry Hwy\, Tampa\, FL 33614
END:VEVENT
BEGIN:VEVENT
DTSTART;TZID=UTC:20230618T090000
DTEND;TZID=UTC:20230618T150000
DTSTAMP:20260425T233727
CREATED:20230421T183328Z
LAST-MODIFIED:20230421T185143Z
UID:18965-1687078800-1687100400@flbikers.com
SUMMARY:13th Annual Crossroads Father's Day Car\, Truck and Motorcycle Show
DESCRIPTION:Awards: Best of Show\, Pastor’s Choice\, Club Participation\, Best Car\, Best Truck\, Rusty Dog sponsored by Topknots and Tails. \nFood trucks: Da Bronx\, Rustick Road\, EJ off the Bone\, Donut NV Daytona
URL:https://flbikers.com/event/13th-annual-crossroads-fathers-day-car-truck-and-motorcycle-show/
LOCATION:Crossroads Christian Church 3838 State Road 44\,New Smyrna Beach\, FL
END:VEVENT
BEGIN:VEVENT
DTSTART;TZID=UTC:20230625T110000
DTEND;TZID=UTC:20230625T150000
DTSTAMP:20260425T233727
CREATED:20230421T185645Z
LAST-MODIFIED:20230421T190638Z
UID:18972-1687690800-1687705200@flbikers.com
SUMMARY:CARS COFFEE & HARLEYS
DESCRIPTION:Misfit is back and taking on @spacecoastharley For our brand new series Cars Coffee & Harley’s. This event will be set for the last Sunday every month 11-3Pm\, All makes and models are welcome\, Don’t miss all the vendors food trucks cars and all the free coffee you can drink!
URL:https://flbikers.com/event/cars-coffee-harleys/
LOCATION:Space Coast Harley-Davidson 1440 Sportsman Lane NE\, Palm Bay\, Florida\, 32905
END:VEVENT
END:VCALENDAR