BEGIN:VCALENDAR
VERSION:2.0
PRODID:-//FL Bikers - ECPv6.15.20//NONSGML v1.0//EN
CALSCALE:GREGORIAN
METHOD:PUBLISH
X-WR-CALNAME:FL Bikers
X-ORIGINAL-URL:https://flbikers.com
X-WR-CALDESC:Events for FL Bikers
REFRESH-INTERVAL;VALUE=DURATION:PT1H
X-Robots-Tag:noindex
X-PUBLISHED-TTL:PT1H
BEGIN:VTIMEZONE
TZID:UTC
BEGIN:STANDARD
TZOFFSETFROM:+0000
TZOFFSETTO:+0000
TZNAME:UTC
DTSTART:20220101T000000
END:STANDARD
END:VTIMEZONE
BEGIN:VEVENT
DTSTART;TZID=UTC:20230503T000000
DTEND;TZID=UTC:20230507T000000
DTSTAMP:20260426T011704
CREATED:20230328T165430Z
LAST-MODIFIED:20230328T165814Z
UID:18781-1683072000-1683417600@flbikers.com
SUMMARY:Emerald Coast Bike Fest - Spring 2023
DESCRIPTION:The Emerald Coast Bike Fest is Fort Walton Beach’s biggest bike rally sponsored by Emerald Coast Harley-Davidson® \nThere is something for everyone including free concerts everyday\, quality vendors\, food and beverage\, including a full bar\, sold on site\, charity poker runs\, and a whole lot more
URL:https://flbikers.com/event/emerald-coast-bike-fest-spring-2023/
LOCATION:Emerald Coast Harley-Davidson 788 Beal Parkway Fort Walton Beach\, Florida 32547
END:VEVENT
BEGIN:VEVENT
DTSTART;TZID=UTC:20230503T000000
DTEND;TZID=UTC:20230507T000000
DTSTAMP:20260426T011704
CREATED:20230328T165943Z
LAST-MODIFIED:20230328T173550Z
UID:18784-1683072000-1683417600@flbikers.com
SUMMARY:Thunder Beach Motorcycle Rally Spring 2023
DESCRIPTION:This is the 25th Annual Thunder Beach Fall Motorcycle Rally \nThe Thunder Beach Rally is Most Biker-Friendly FREE Motorcycle Rally in the USA as you ride the “World’s Most Beautiful Beaches”. “Enjoy True Southern Hospitality” at a 5-day motorcycle rally in Panama City Beach\, Florida. \nMultiple venues\, with hundreds of vendors\, including many of the MC industry’s biggest names! Enjoy the Thunder Beach FREE Concert Series\, with National Entertainment!
URL:https://flbikers.com/event/thunder-beach-motorcycle-rally-spring-2023/
LOCATION:Throughout the City of Panama City Beach\, Panama City Beach\, FLORIDA\, 32407\, United States
END:VEVENT
BEGIN:VEVENT
DTSTART;TZID=UTC:20230506T090000
DTEND;TZID=UTC:20230506T160000
DTSTAMP:20260426T011704
CREATED:20230411T205305Z
LAST-MODIFIED:20230411T205305Z
UID:18810-1683363600-1683388800@flbikers.com
SUMMARY:INTERNATIONAL FEMALE RIDE DAY!!!
DESCRIPTION:#IFRD!!! WE ARE EXCITED TO CELEBRATE THIS WITH ALL LADY RIDERS!!! HOSTED BY\, “THE MOTO GYPSIES” SPACE COAST FLORIDA! THEY WILL BE LEADING THE RIDE FROM THE DEALERSHIP. PRE-REGISTRATION IS $20 AT https://tinyurl.com/2492nwr2 – CLICK ON THE LINK\, PRINT YOUR TICKET AND BRING IT WITH YOU THE DAY OF THE EVENT TO CHECK IN WITH YOU $$$ AND SIGN YOUR RIDE RELEASE FORM. REGISTRATION DAY OF IS $25\, WHICH INCLUDES THE RIDE RELEASE FORM AS WELL. KICKSTANDS UP AT 10:00AM\, RETURN BY 12PM. FREE FOOD\, FREE FAMILY FRIENDLY BEVERAGES AND FREE ADULT BEVERAGES COURTESY OF OUR H.O.G. CHAPTER!… WHILE SUPPLIES LAST! FREE MALE BIKE WASH AVAILABLE TO ALL OUR LADY RIDERS! LIVE MUSIC! ALL PROCEEDS WILL BE DONATED TO THE “RICHARD PHILLIPS DOWN BIKER FUND”! *PLEASE DRINK RESPONSIBLY*WHILE SUPPLIES LAST*
URL:https://flbikers.com/event/international-female-ride-day/
LOCATION:Space Coast Harley-Davidson 1440 Sportsman Lane NE\, Palm Bay\, Florida\, 32905
END:VEVENT
BEGIN:VEVENT
DTSTART;TZID=UTC:20230513T080000
DTEND;TZID=UTC:20230513T230000
DTSTAMP:20260426T011704
CREATED:20230328T174414Z
LAST-MODIFIED:20230328T174845Z
UID:18789-1683964800-1684018800@flbikers.com
SUMMARY:Boots on the Ground 2023 Poker Run and Concert
DESCRIPTION:10th Annual Boots on the Ground Poker Run and Concert \n44 different Poker Stops\, Live Music\, Slingshot and Bike Show\, Vendors\, Food Trucks\, Jeep & Golf Cart Poker Run and more. \nBenefits K9s For Warriors\, K9 Line\, Inc.\, Operation Barnabas\, Northeast Florida Women Veterans\, Inc.\, The Veterans Village of NE Florida\, The Florida Fallen Heroes Memorial Fund and Wreaths Across America.
URL:https://flbikers.com/event/boots-on-the-ground-2023-poker-run-and-concert/
LOCATION:Flamingo Lake RV Resort 3640 Newcomb Rd Jacksonville\, Florida 32218
END:VEVENT
BEGIN:VEVENT
DTSTART;TZID=UTC:20230518T180000
DTEND;TZID=UTC:20230518T210000
DTSTAMP:20260426T011704
CREATED:20230411T204724Z
LAST-MODIFIED:20230411T205032Z
UID:18807-1684432800-1684443600@flbikers.com
SUMMARY:Bike Night
DESCRIPTION:Join us for Central Florida’s BIGGEST and BEST Bike Night every Thursday starting at 6pm! All bikes are welcome! Whether you’re a true petrol head or just love checking out the lot full of bikes – this is your night! Don’t forget to come inside for a beer or two and a bite to eat!
URL:https://flbikers.com/event/bike-night-5/
LOCATION:Ace Cafe 100 W. Livingston St Orlando\, FL 32801
END:VEVENT
BEGIN:VEVENT
DTSTART;TZID=UTC:20230521T000000
DTEND;TZID=UTC:20230521T000000
DTSTAMP:20260426T011704
CREATED:20230328T173742Z
LAST-MODIFIED:20230328T174210Z
UID:18786-1684627200-1684627200@flbikers.com
SUMMARY:Distinguished Gentleman’s Ride 2023 - Florida
DESCRIPTION:The Distinguished Gentleman’s Ride unites classic and vintage style motorcycle riders all over the world to raise funds and awareness for prostate cancer research and men’s mental health. \nAt The Distinguished Gentleman’s Ride\, we ride for a purpose. \nOur focus is on gentlemen who have been dealt a tough hand in life. In particular\, we raise funds for cutting-edge research into prostate cancer\, and mental health and suicide prevention programs\, as part of our mission to support men’s health globally. These funds are invested by our partner\, Movember\, which is the world’s largest men’s health organization.
URL:https://flbikers.com/event/distinguished-gentlemans-ride-2023-florida/
LOCATION:Multiple Locations
END:VEVENT
BEGIN:VEVENT
DTSTART;TZID=UTC:20230521T090000
DTEND;TZID=UTC:20230521T120000
DTSTAMP:20260426T011704
CREATED:20230411T203809Z
LAST-MODIFIED:20230411T204424Z
UID:18805-1684659600-1684670400@flbikers.com
SUMMARY:3rd Annual Car Truck and Motorcycle Festival for the Boys and Girls Club of Marion County
DESCRIPTION:
URL:https://flbikers.com/event/3rd-annual-car-truck-and-motorcycle-festival-for-the-boys-and-girls-club-of-marion-county/
LOCATION:War Horse Harley-Davidson 5331 N US Hwy 441\, Ocala\, FL 34475
END:VEVENT
BEGIN:VEVENT
DTSTART;TZID=UTC:20230522T000000
DTEND;TZID=UTC:20230528T000000
DTSTAMP:20260426T011704
CREATED:20230328T175026Z
LAST-MODIFIED:20230328T175257Z
UID:18792-1684713600-1685232000@flbikers.com
SUMMARY:United Bikerz / Fast Harley Only Jamboree
DESCRIPTION:United Bikerz / Fast Harley invite you to 5 days of fun put together with bikers in mind.
URL:https://flbikers.com/event/united-bikerz-fast-harley-only-jamboree/
LOCATION:215 Sydney Washer Road Dover\, Florida 33527
END:VEVENT
BEGIN:VEVENT
DTSTART;TZID=UTC:20230527T110000
DTEND;TZID=UTC:20230527T180000
DTSTAMP:20260426T011704
CREATED:20230328T175503Z
LAST-MODIFIED:20230328T175503Z
UID:18795-1685185200-1685210400@flbikers.com
SUMMARY:Bikers Supporting Veterans
DESCRIPTION:Info fair and charity event
URL:https://flbikers.com/event/bikers-supporting-veterans/
LOCATION:Vero Beach Veterans 2500 15th Ave Vero Beach\, Florida 32960
END:VEVENT
END:VCALENDAR