BEGIN:VCALENDAR
VERSION:2.0
PRODID:-//FL Bikers - ECPv6.15.20//NONSGML v1.0//EN
CALSCALE:GREGORIAN
METHOD:PUBLISH
X-WR-CALNAME:FL Bikers
X-ORIGINAL-URL:https://flbikers.com
X-WR-CALDESC:Events for FL Bikers
REFRESH-INTERVAL;VALUE=DURATION:PT1H
X-Robots-Tag:noindex
X-PUBLISHED-TTL:PT1H
BEGIN:VTIMEZONE
TZID:UTC
BEGIN:STANDARD
TZOFFSETFROM:+0000
TZOFFSETTO:+0000
TZNAME:UTC
DTSTART:20220101T000000
END:STANDARD
END:VTIMEZONE
BEGIN:VEVENT
DTSTART;TZID=UTC:20230302T000000
DTEND;TZID=UTC:20230304T000000
DTSTAMP:20260419T143940
CREATED:20221220T185518Z
LAST-MODIFIED:20221220T190837Z
UID:13672-1677715200-1677888000@flbikers.com
SUMMARY:Sunshine Chapter AMCA Spring National
DESCRIPTION:Daytona Beach Stadium – Spring National AMCA Meet. New venue at The Daytona Stadium\, March 2\, 3 and 4th\, 2023. Parking for over 400 cars + over 400 spaces for swap meet vendors! Antique motorcycle show; Monster swap meet; AMCA judging Saturday March 4th.
URL:https://flbikers.com/event/sunshine-chapter-amca-spring-national/
LOCATION:3917 LPGA Blvd at The Stadium Port Orange\, Florida 32124
END:VEVENT
BEGIN:VEVENT
DTSTART;TZID=UTC:20230303T000000
DTEND;TZID=UTC:20230312T000000
DTSTAMP:20260419T143940
CREATED:20221220T191017Z
LAST-MODIFIED:20221220T191110Z
UID:13675-1677801600-1678579200@flbikers.com
SUMMARY:Daytona Bike Week - 2023
DESCRIPTION:2023 is the 82nd Annual Daytona Bike Week! Happening throughout Daytona Beach\, from the ocean to the world Famous Daytona Speedway and beyond\, the Daytona Bike Week Motorcycle Rally is one of the biggest motorcycle events in the country with over 500\,000 motorcycles rolling into Daytona in the spring for Bike Week. \nThere is something for everyone including\, old school biker parties\, motorcycle races\, concerts\, bike games\, people games\, tons of vendors and lots more. \nThis is one Motorcycle Rally you don’t want to miss.
URL:https://flbikers.com/event/daytona-bike-week-2023/
LOCATION:Throughout the City of Daytona Beach
END:VEVENT
BEGIN:VEVENT
DTSTART;TZID=UTC:20230304T100000
DTEND;TZID=UTC:20230304T180000
DTSTAMP:20260419T143940
CREATED:20221220T191351Z
LAST-MODIFIED:20221220T191709Z
UID:13678-1677924000-1677952800@flbikers.com
SUMMARY:Deland Bike Rally 2023
DESCRIPTION:Thousands of Motorcycles will line the streets of Downtown DeLand for one of the most popular bike rallies in the area. \nLive music\, vendors\, door prizes\, bike shows and more. Local merchants will be offering specials in the downtown shops and restaurants.
URL:https://flbikers.com/event/deland-bike-rally-2023/
LOCATION:Downtown DeLand\, Florida 32724
END:VEVENT
BEGIN:VEVENT
DTSTART;TZID=UTC:20230305T090000
DTEND;TZID=UTC:20230305T090000
DTSTAMP:20260419T143940
CREATED:20230111T154654Z
LAST-MODIFIED:20230111T160043Z
UID:13737-1678006800-1678006800@flbikers.com
SUMMARY:Leather & Lace MC Annual Bike Blessing & FREE Pancake Breakfast!
DESCRIPTION:Start Bike Week out on a positive note! Join the ladies of Leather & Lace MC at their annual Bike Blessing and FREE pancake breakfast! Gates open at 9:00. Breakfast is served 9:00-10:30. Bike blessing commences at 11:00. This is FREE and open to everyone! Questions? 941-224-5343
URL:https://flbikers.com/event/leather-lace-mc-annual-bike-blessing-free-pancake-breakfast/
LOCATION:Leather & Lace MC Clubhouse 574 Ariel Road Edgewater\, Florida 32141
END:VEVENT
BEGIN:VEVENT
DTSTART;TZID=UTC:20230309T120000
DTEND;TZID=UTC:20230309T180000
DTSTAMP:20260419T143940
CREATED:20221222T162337Z
LAST-MODIFIED:20221222T173026Z
UID:13711-1678363200-1678384800@flbikers.com
SUMMARY:Leather & Lace MC Bike Rodeo and Open House
DESCRIPTION:Planning your 2023 Bike Week? Be sure to pencil in the world-famous Leather & Lace MC Motorcycle Rodeo and Open House! This is a huge event where people come to see some amazing bike riding skills. There will also be our popular bike show. Think you’ve got the best-looking bike? Then prove it by entering it in this event! Don’t forget the ever-popular Shovel Race! Music\, Food\, and Fun! $10/pp.
URL:https://flbikers.com/event/leather-lace-mc-bike-rodeo-and-open-house/
LOCATION:Leather & Lace MC Clubhouse 574 Ariel Road Edgewater\, Florida 32141
END:VEVENT
BEGIN:VEVENT
DTSTART;TZID=UTC:20230310T000000
DTEND;TZID=UTC:20230312T000000
DTSTAMP:20260419T143940
CREATED:20221220T191927Z
LAST-MODIFIED:20221220T192519Z
UID:13681-1678406400-1678579200@flbikers.com
SUMMARY:Daytona 200 Motorcycle Race
DESCRIPTION:The World Famous DAYTONA 200 Motorcycle Race \nIn 2023\, MotoAmerica\, home of AMA Superbike and North America’s premier motorcycle road racing series\, is partnering with DAYTONA to host the DAYTONA 200.
URL:https://flbikers.com/event/daytona-200-motorcycle-race/
LOCATION:Daytona International Speedway 1801 W International Speedway Blvd\, Daytona Beach Florida
END:VEVENT
BEGIN:VEVENT
DTSTART;TZID=UTC:20230316T000000
DTEND;TZID=UTC:20230318T000000
DTSTAMP:20260419T143940
CREATED:20221222T161829Z
LAST-MODIFIED:20221222T162123Z
UID:13708-1678924800-1679097600@flbikers.com
SUMMARY:Florida Gathering of the Wings 2023
DESCRIPTION:This is the 43rd Annual Florida District GWRRA “Wizard of Oz” Gathering of the Wings \nLive Entertainment\, Guided Rides\, Games\, Comradery and Lots of Fun \nThis years theme Rock Around the Clock 50’s Sock Hop
URL:https://flbikers.com/event/florida-gathering-of-the-wings-2023/
LOCATION:Hilton Orlando/Altamonte Springs 350 Northlake Blvd\, Florida 32701
END:VEVENT
BEGIN:VEVENT
DTSTART;TZID=UTC:20230317T000000
DTEND;TZID=UTC:20230319T000000
DTSTAMP:20260419T143940
CREATED:20221220T192908Z
LAST-MODIFIED:20221220T194008Z
UID:13684-1679011200-1679184000@flbikers.com
SUMMARY:Hernando County Bike Fest 2023
DESCRIPTION:2023 will be the 2nd Annual Hernando County Bike Fest
URL:https://flbikers.com/event/hernando-county-bike-fest-2023/
LOCATION:Hernando Park 205 East Ft Dade Avenue Brooksville\, Florida 34601
END:VEVENT
BEGIN:VEVENT
DTSTART;TZID=UTC:20230330T000000
DTEND;TZID=UTC:20230401T000000
DTSTAMP:20260419T143940
CREATED:20221220T194227Z
LAST-MODIFIED:20221220T194227Z
UID:13688-1680134400-1680307200@flbikers.com
SUMMARY:All Female Ride - Jax 2023
DESCRIPTION:A Motorcycle Rally in Jacksonville\, FL for women from all walks of life celebrating and sharing a love for motorcycling. \nThe ride is also focused on giving awareness of motorcycle safety.
URL:https://flbikers.com/event/all-female-ride-jax-2023/
LOCATION:Fairfield Inn 4888 Lenoir Ave Jacksonville\, Florida 32216
END:VEVENT
BEGIN:VEVENT
DTSTART;TZID=UTC:20230331T180000
DTEND;TZID=UTC:20230331T220000
DTSTAMP:20260419T143940
CREATED:20221222T161415Z
LAST-MODIFIED:20221222T161459Z
UID:13706-1680285600-1680300000@flbikers.com
SUMMARY:RideNow Jax March Bike Night
DESCRIPTION:Motorcycles\, Music\, Food Trucks\, Raffles and Lots of Fun with Lots of Great People. \nAll riders and all bikes welcome.
URL:https://flbikers.com/event/ridenow-jax-march-bike-night/
LOCATION:RideNow Powersports 6407 Blanding Boulevard Jacksonville\, Florida 32244
END:VEVENT
END:VCALENDAR