BEGIN:VCALENDAR
VERSION:2.0
PRODID:-//FL Bikers - ECPv6.15.20//NONSGML v1.0//EN
CALSCALE:GREGORIAN
METHOD:PUBLISH
X-WR-CALNAME:FL Bikers
X-ORIGINAL-URL:https://flbikers.com
X-WR-CALDESC:Events for FL Bikers
REFRESH-INTERVAL;VALUE=DURATION:PT1H
X-Robots-Tag:noindex
X-PUBLISHED-TTL:PT1H
BEGIN:VTIMEZONE
TZID:UTC
BEGIN:STANDARD
TZOFFSETFROM:+0000
TZOFFSETTO:+0000
TZNAME:UTC
DTSTART:20210101T000000
END:STANDARD
END:VTIMEZONE
BEGIN:VEVENT
DTSTART;TZID=UTC:20221201T000000
DTEND;TZID=UTC:20221204T000000
DTSTAMP:20260425T115751
CREATED:20221107T200835Z
LAST-MODIFIED:20221107T200918Z
UID:13582-1669852800-1670112000@flbikers.com
SUMMARY:Alligator Alley Annual Bikers Bash 2022
DESCRIPTION:
URL:https://flbikers.com/event/alligator-alley-annual-bikers-bash-2022/
LOCATION:FL
END:VEVENT
BEGIN:VEVENT
DTSTART;TZID=UTC:20221203T090000
DTEND;TZID=UTC:20221203T090000
DTSTAMP:20260425T115751
CREATED:20221201T155526Z
LAST-MODIFIED:20221201T155526Z
UID:13596-1670058000-1670058000@flbikers.com
SUMMARY:19th Annual LCUMA Toy Run
DESCRIPTION:
URL:https://flbikers.com/event/19th-annual-lcuma-toy-run/
LOCATION:Lake Square Mall 10401 US-441\, Leesburg\, Florida 34788
END:VEVENT
BEGIN:VEVENT
DTSTART;TZID=UTC:20221203T090000
DTEND;TZID=UTC:20221203T160000
DTSTAMP:20260425T115751
CREATED:20221107T193843Z
LAST-MODIFIED:20221107T193843Z
UID:13564-1670058000-1670083200@flbikers.com
SUMMARY:Toys for Tots Ride
DESCRIPTION:
URL:https://flbikers.com/event/toys-for-tots-ride/
LOCATION:Tallahassee Harley-Davidson Dealership 1745 Capital Cir NW Tallahassee\, Florida 32303
END:VEVENT
BEGIN:VEVENT
DTSTART;TZID=UTC:20221204T090000
DTEND;TZID=UTC:20221204T160000
DTSTAMP:20260425T115751
CREATED:20221129T181820Z
LAST-MODIFIED:20221129T182249Z
UID:13591-1670144400-1670169600@flbikers.com
SUMMARY:AMVETS 13th Annual Toys 4 Tots Toy Run
DESCRIPTION:13th Annual Toys 4 Tots run. This ride is the only Hillsborough County Escorted Ride. We ask that you bring $10 per rider and an unwrapped gift for registration. Registration is from 0900-1100 @ Home Depot. Registration will get you a meal at River’s Edge. All proceeds and toys go directly to U.S. Marine Corps Reserve T4T program. \nLive music\, raffles\, 50/50\, food specials
URL:https://flbikers.com/event/amvets-13th-annual-toys-4-tots-toy-run/
LOCATION:Starts at Home Depot 5125 S Dale Mabry Hwy\, Tampa\, Florida 33611
END:VEVENT
BEGIN:VEVENT
DTSTART;TZID=UTC:20221204T130000
DTEND;TZID=UTC:20221204T160000
DTSTAMP:20260425T115751
CREATED:20221107T201408Z
LAST-MODIFIED:20221107T201408Z
UID:13584-1670158800-1670169600@flbikers.com
SUMMARY:ABATE of Florida Polk County Chapter Toy Run
DESCRIPTION:
URL:https://flbikers.com/event/abate-of-florida-polk-county-chapter-toy-run/
LOCATION:Christina Park 625 Co Rd 540A\, Lakeland\, Florida 33813
END:VEVENT
BEGIN:VEVENT
DTSTART;TZID=UTC:20221207T180000
DTEND;TZID=UTC:20221207T210000
DTSTAMP:20260425T115751
CREATED:20221107T200158Z
LAST-MODIFIED:20221107T200249Z
UID:13578-1670436000-1670446800@flbikers.com
SUMMARY:Duke’s Brewhouse Lakeland Bike Night
DESCRIPTION:
URL:https://flbikers.com/event/dukes-brewhouse-lakeland-bike-night-2/
LOCATION:Duke’s Brewhouse Lakeland 4960 Florida Ave S Lakeland\, FL 33813
END:VEVENT
BEGIN:VEVENT
DTSTART;TZID=UTC:20221210T100000
DTEND;TZID=UTC:20221210T100000
DTSTAMP:20260425T115751
CREATED:20221201T170439Z
LAST-MODIFIED:20221201T171716Z
UID:13599-1670666400-1670666400@flbikers.com
SUMMARY:Angel Tree Toy Run 2022
DESCRIPTION:
URL:https://flbikers.com/event/angel-tree-toy-run-2022/
LOCATION:Polk County Fire/Rescue Station 8936 US Hwy 98 N Lakeland\, Florida 33810
END:VEVENT
BEGIN:VEVENT
DTSTART;TZID=UTC:20221210T100000
DTEND;TZID=UTC:20221210T160000
DTSTAMP:20260425T115751
CREATED:20221107T194336Z
LAST-MODIFIED:20221107T194448Z
UID:13566-1670666400-1670688000@flbikers.com
SUMMARY:Bert's Black Widow 3rd Annual Toys for Tots Drive
DESCRIPTION:
URL:https://flbikers.com/event/berts-black-widow-3rd-annual-toys-for-tots-drive/
LOCATION:Bert’s Black Widow Harley-Davidson 2224 El Jobean Rd Port Charlotte\, Florida 33948
END:VEVENT
BEGIN:VEVENT
DTSTART;TZID=UTC:20221211T100000
DTEND;TZID=UTC:20221211T160000
DTSTAMP:20260425T115751
CREATED:20221107T194556Z
LAST-MODIFIED:20221107T194655Z
UID:13569-1670752800-1670774400@flbikers.com
SUMMARY:Space Coast Toys for Tots Toy Run
DESCRIPTION:
URL:https://flbikers.com/event/space-coast-toys-for-tots-toy-run/
LOCATION:Space Coast Harley-Davidson 1440 Sportsman Lane NE\, Palm Bay\, Florida\, 32905
END:VEVENT
BEGIN:VEVENT
DTSTART;TZID=UTC:20221211T120000
DTEND;TZID=UTC:20221211T170000
DTSTAMP:20260425T115751
CREATED:20221107T195444Z
LAST-MODIFIED:20221107T195444Z
UID:13573-1670760000-1670778000@flbikers.com
SUMMARY:Palm Beach County Motorcyclist Toys for Tots
DESCRIPTION:
URL:https://flbikers.com/event/palm-beach-county-motorcyclist-toys-for-tots/
LOCATION:FL
END:VEVENT
BEGIN:VEVENT
DTSTART;TZID=UTC:20221215T180000
DTEND;TZID=UTC:20221215T210000
DTSTAMP:20260425T115751
CREATED:20221107T195753Z
LAST-MODIFIED:20221107T195953Z
UID:13575-1671127200-1671138000@flbikers.com
SUMMARY:Treasure Coast Harley December Bike Night
DESCRIPTION:
URL:https://flbikers.com/event/treasure-coast-harley-december-bike-night/
LOCATION:Treasure Coast Harley-Davidson 4967 SE Federal Hwy Stuart\, Florida 34997
END:VEVENT
BEGIN:VEVENT
DTSTART;TZID=UTC:20221216T180000
DTEND;TZID=UTC:20221216T220000
DTSTAMP:20260425T115751
CREATED:20221206T165447Z
LAST-MODIFIED:20221206T165910Z
UID:13606-1671213600-1671228000@flbikers.com
SUMMARY:Bike Night
DESCRIPTION:
URL:https://flbikers.com/event/bike-night-4/
LOCATION:Wrigley BBQ 3208 Forest Hill Blvd\, Palm Springs\, Florida 33406
END:VEVENT
BEGIN:VEVENT
DTSTART;TZID=UTC:20221217T090000
DTEND;TZID=UTC:20221217T150000
DTSTAMP:20260425T115751
CREATED:20221214T153302Z
LAST-MODIFIED:20221214T153302Z
UID:13627-1671267600-1671289200@flbikers.com
SUMMARY:Annual Christmas donations for Douglas T Jacobson Veterans Home
DESCRIPTION:Collecting toiletries and comfort items for the veterans at the Douglas T. Jacobson Veterans Home in Port Charlotte\, FL. In addition to toothbrushes\, toothpaste\, candy\, magazines\, razors\, shaving cream etc… We are also taking donations or gift cards from Walmart.
URL:https://flbikers.com/event/annual-christmas-donations-for-douglas-t-jacobson-veterans-home/
LOCATION:Sunsports Cycle and Watercraft\, 3441 Colonial Blvd\, Fort Myers\, FL
END:VEVENT
BEGIN:VEVENT
DTSTART;TZID=UTC:20221218T093000
DTEND;TZID=UTC:20221218T170000
DTSTAMP:20260425T115751
CREATED:20221201T172033Z
LAST-MODIFIED:20221201T172033Z
UID:13602-1671355800-1671382800@flbikers.com
SUMMARY:Suncoast Brotherhood Annual Toy Run
DESCRIPTION:
URL:https://flbikers.com/event/suncoast-brotherhood-annual-toy-run/
LOCATION:Dunedin American Legion Post 275 360 Wilson St Dunedin\, Florida 34698
END:VEVENT
BEGIN:VEVENT
DTSTART;TZID=UTC:20221229T180000
DTEND;TZID=UTC:20221229T220000
DTSTAMP:20260425T115751
CREATED:20221107T200349Z
LAST-MODIFIED:20221107T200349Z
UID:13580-1672336800-1672351200@flbikers.com
SUMMARY:Bike Night at Caddy's Bradenton
DESCRIPTION:
URL:https://flbikers.com/event/bike-night-at-caddys-bradenton-2/
LOCATION:Caddy’s Bradenton 801 Riverside Dr E\, Bradenton\, Florida 34208
END:VEVENT
BEGIN:VEVENT
DTSTART;TZID=UTC:20221230T180000
DTEND;TZID=UTC:20221230T220000
DTSTAMP:20260425T115751
CREATED:20221206T170159Z
LAST-MODIFIED:20221206T171453Z
UID:13609-1672423200-1672437600@flbikers.com
SUMMARY:RideNow Jax December Bike Night
DESCRIPTION:
URL:https://flbikers.com/event/ridenow-jax-december-bike-night/
LOCATION:RideNow Powersports 6407 Blanding Boulevard Jacksonville\, Florida 32244
END:VEVENT
END:VCALENDAR