BEGIN:VCALENDAR
VERSION:2.0
PRODID:-//FL Bikers - ECPv6.15.20//NONSGML v1.0//EN
CALSCALE:GREGORIAN
METHOD:PUBLISH
X-WR-CALNAME:FL Bikers
X-ORIGINAL-URL:https://flbikers.com
X-WR-CALDESC:Events for FL Bikers
REFRESH-INTERVAL;VALUE=DURATION:PT1H
X-Robots-Tag:noindex
X-PUBLISHED-TTL:PT1H
BEGIN:VTIMEZONE
TZID:UTC
BEGIN:STANDARD
TZOFFSETFROM:+0000
TZOFFSETTO:+0000
TZNAME:UTC
DTSTART:20200101T000000
END:STANDARD
END:VTIMEZONE
BEGIN:VEVENT
DTSTART;TZID=UTC:20210311T120000
DTEND;TZID=UTC:20210311T180000
DTSTAMP:20260425T105414
CREATED:20210211T152323Z
LAST-MODIFIED:20210211T152323Z
UID:7368-1615464000-1615485600@flbikers.com
SUMMARY:Ruff Ride Poker Run Bike Week 2021
DESCRIPTION:Join them on March 11\, 2021 for Bike Week Ruff ride. An annual fundraiser to support the lifesaving work of Halifax Humane Society! This event will be slightly modified for the safety of all participants . Ride stops to be announced. $25 includes a special edition T-shirt. dinner and drink at Iron Horse Saloon \nSign up will be posted at \nhttps://www.halifaxhumanesociety.org/Ruff-Ride-Bikeweek-2021-8-7874.html
URL:https://flbikers.com/event/ruff-ride-poker-run-bike-week-2021/
LOCATION:Halifax Humane Society\, 2364 LPGA Boulevard\, Daytona Beach\, Florida\, 32124
END:VEVENT
BEGIN:VEVENT
DTSTART;TZID=UTC:20210311T120000
DTEND;TZID=UTC:20210311T180000
DTSTAMP:20260425T105414
CREATED:20210303T135857Z
LAST-MODIFIED:20210303T135857Z
UID:7403-1615464000-1615485600@flbikers.com
SUMMARY:Ruff Ride Poker Run Bike Week 2021
DESCRIPTION:Calling bikers\, drivers\, hikers\, walkers\, t-shirt lovers\, and of course animal lovers alike to rally together for benefit of helpless animals in our community! Join us on March 11\, 2021\, for Bike Week Ruff Ride – an annual fundraiser to support the lifesaving work of Halifax Humane Society! \nThis event will be slightly modified for the safety of all participants. \nPresented by Halifax Humane Society\, Iron Horse\, and Politis & Matovina. Ride stops to be announced. \n$25.00 includes a special edition T-shirt\, dinner\, and drink at Iron Horse Saloon! \nSign up info will be posted on the event website (below)
URL:https://flbikers.com/event/ruff-ride-poker-run-bike-week-2021-2/
LOCATION:Halifax Humane Society\, 2364 LPGA Boulevard\, Daytona Beach\, Florida\, 32124
END:VEVENT
BEGIN:VEVENT
DTSTART;TZID=UTC:20210318T190000
DTEND;TZID=UTC:20210318T230000
DTSTAMP:20260425T105414
CREATED:20210303T140639Z
LAST-MODIFIED:20210303T140639Z
UID:7405-1616094000-1616108400@flbikers.com
SUMMARY:All Riders 3rd Thursdays Bike Night
DESCRIPTION:We meet on the 3rd Thursday of every month at The Abbey Bar in downtown Deland for a craft beer or wine and talk about our passion for motorcycles. \nCome down and see us ! \nCheck out All RIders: IMC at: https://www.theallriders.com and our calendar of events at: https://www.theallriders.com
URL:https://flbikers.com/event/all-riders-3rd-thursdays-bike-night/
LOCATION:Abbey Bar\, 117 N Woodland Ave\, Deland\, Florida\, 32720
END:VEVENT
BEGIN:VEVENT
DTSTART;VALUE=DATE:20210320
DTEND;VALUE=DATE:20210321
DTSTAMP:20260425T105414
CREATED:20210303T141429Z
LAST-MODIFIED:20210303T141429Z
UID:7408-1616198400-1616284799@flbikers.com
SUMMARY:Shamrocks & Shenanigans Bikini Bike Wash
DESCRIPTION:Is you bike dirty? Don’t spend your Saturday detailing your bike! Get out and ride then stop by to see The Tattooed Sweethearts. They will be here from 11-3. Our HOG chapter will be on the grill serving up free hamburgers and Hot dogs. We will Also have Free Green Beer!!
URL:https://flbikers.com/event/shamrocks-shenanigans-bikini-bike-wash/
LOCATION:4202 Lakeland Hills Blvd\, 4202 Lakeland Hills Blvd\, Lakeland\, FL\, 33805\, United States
END:VEVENT
BEGIN:VEVENT
DTSTART;TZID=UTC:20210320T110000
DTEND;TZID=UTC:20210320T160000
DTSTAMP:20260425T105414
CREATED:20210303T144334Z
LAST-MODIFIED:20210303T144334Z
UID:7411-1616238000-1616256000@flbikers.com
SUMMARY:Brooksville Bike Rally
DESCRIPTION:  \nFREE Get the party started with Sniper presented by Lowman Law Firm on the Citarella Termite and Pest Management stage 12-4 Saturday March 20\, 2021. \nVendors open at 11:00 a.m \n10 Class Ride-In Bike Show sponsored by Scootergoods Magazine ($5 entry)\nBike show registration 11-1\nWinners announced during last band break and 50/50 drawing announced. \nEmcee’d by the Big Ragoo and The Red Headed Stepchild! \nBiker Games\, Raffles\, 50/50\, Beer\, Booze and Food!!! \nAngela Tilley and her Snazzy Suds Bikini Bike Wash Girls will be washing motorcycles. \nVendor spaces available at www.BrooksvilleBikeRallly.com/shop.
URL:https://flbikers.com/event/brooksville-bike-rally/
LOCATION:615 Old Hospital Dr\, 615 Old Hospital Dr\, Brooksville\, Florida\, 34601
END:VEVENT
BEGIN:VEVENT
DTSTART;TZID=UTC:20210325T190000
DTEND;TZID=UTC:20210325T230000
DTSTAMP:20260425T105414
CREATED:20210317T131110Z
LAST-MODIFIED:20210317T131110Z
UID:8009-1616698800-1616713200@flbikers.com
SUMMARY:Peggy's Biggest Bike Night
DESCRIPTION:Come out and join in on some fun and lots of games!!!
URL:https://flbikers.com/event/peggys-biggest-bike-night/
LOCATION:Peggy’s Coral\, 4511 US HWY 41 N\, Palmetto\, FL\, 34221\, United States
END:VEVENT
BEGIN:VEVENT
DTSTART;TZID=UTC:20210327T080000
DTEND;TZID=UTC:20210327T150000
DTSTAMP:20260425T105414
CREATED:20210310T132408Z
LAST-MODIFIED:20210310T132408Z
UID:7422-1616832000-1616857200@flbikers.com
SUMMARY:16th Annual Central Florida Ride for Our Troops
DESCRIPTION:To show the men and women in our Armed forces that the Central Florida Motorcycle Community has not forgotten their sacrifice and thank them for the job they do.
URL:https://flbikers.com/event/16th-annual-central-florida-ride-for-our-troops/
LOCATION:4100 Boggy Creek Road\, 4100 Boggy Creek Road\, Kissimme\, Florida\, 34744
END:VEVENT
BEGIN:VEVENT
DTSTART;TZID=UTC:20210403T100000
DTEND;TZID=UTC:20210403T160000
DTSTAMP:20260425T105414
CREATED:20210310T135119Z
LAST-MODIFIED:20210310T135119Z
UID:7425-1617444000-1617465600@flbikers.com
SUMMARY:Leesburg the Long Way
DESCRIPTION:“Well\, they post-poned the Leesburg Bikefest\, so that got me thinking. Why not head out to Leesburg in April and take the long way there? We will meet up at the ole’ traffic circle (Circle K gas station) in DeLand at 10:00 am (KSU 10:30)\, then ride out to Leesburg via routes 40 and 19. The ride will take about an hour and forty-five\, then we will land at the OakWood Smokehouse and Grill for some BBQ. \nWe’ll hang around there until everyone is fed and satisfied\, then we will take the direct route back to DeLand via route 44.” \nYou can check out the route via Scenic Ride Planner here: \nTo OakWood:\nhttps://scenicapp.space/route/fWuPBTwK \nReturn to Deland:\nhttps://scenicapp.space/route/JudWAUDw \nOakWood Smokehouse and Grill Menu: \nhttp://oakwoodsmokehouse.com/site/menu/
URL:https://flbikers.com/event/leesburg-the-long-way/
LOCATION:2185 W New York Ave\, 2185 W New York Ave\, DeLand\, Florida\, 32720
END:VEVENT
BEGIN:VEVENT
DTSTART;TZID=UTC:20210403T100000
DTEND;TZID=UTC:20210403T160000
DTSTAMP:20260425T105414
CREATED:20210331T170229Z
LAST-MODIFIED:20210331T170229Z
UID:8047-1617444000-1617465600@flbikers.com
SUMMARY:Demo Days
DESCRIPTION:We can’t think of a better way to spend Saturday other than out riding motorcycles! Head over to ECHD on Saturday\, April 3rd for our 2021 Demo Day. You can take one\, or all\, of the models out for a spin and let us know what you think. Your test ride gets you entered to win a $500 ECHD shopping spree\, on us! Test rides are happening all day and the grill gets fired up at noon. See you there!\nGift card cannot be used towards new motorcycle purchase.
URL:https://flbikers.com/event/demo-days/
LOCATION:Emerald Coast Harley Davidson\, 788 Beal Pwky NW\, Fort Walton Beach\, FL\, 32547\, United States
END:VEVENT
BEGIN:VEVENT
DTSTART;TZID=UTC:20210415T180000
DTEND;TZID=UTC:20210415T210000
DTSTAMP:20260425T105414
CREATED:20210331T170454Z
LAST-MODIFIED:20210331T170710Z
UID:8050-1618509600-1618520400@flbikers.com
SUMMARY:Bike Night at KC's Sandbar
DESCRIPTION:We’re taking our next ECHD Bike Night to none other than the famous\, local KC’s Sandbar & Grille! Feel the sand underneath your boots on Thursday\, April 15th beginning at 6 PM. Bike Night will feature – food & drink specials\, live music\, ECHD giveaways\, and MORE! All bikes are welcome and we’ve reserved bike only parking for your convenience. Whether you’re a solo rider or traveling in a pack\, join us for an Emerald Coast Harley-Davidson style good time! *Please drink responsibly*
URL:https://flbikers.com/event/bike-night-at-kcs-sandbar/
LOCATION:KC’s Sandbar and Grill\, 190 Miracle Strip Pkwy SE\, Fort Walton Beach\, FL\, 32547\, United States
END:VEVENT
BEGIN:VEVENT
DTSTART;TZID=UTC:20210417T160000
DTEND;TZID=UTC:20210417T220000
DTSTAMP:20260425T105414
CREATED:20210331T152951Z
LAST-MODIFIED:20210331T152951Z
UID:8037-1618675200-1618696800@flbikers.com
SUMMARY:Eagle Riders Pig Roast
DESCRIPTION:Food\, Live Music\, Bike Show\, Raffles\, Prizes
URL:https://flbikers.com/event/eagle-riders-pig-roast/
LOCATION:Main Street Zephyrhills\, 38421 5th Ave\, Zephyrhills\, FL\, 33542\, United States
END:VEVENT
BEGIN:VEVENT
DTSTART;VALUE=DATE:20210423
DTEND;VALUE=DATE:20210425
DTSTAMP:20260425T105414
CREATED:20210331T163815Z
LAST-MODIFIED:20210331T163815Z
UID:8040-1619136000-1619308799@flbikers.com
SUMMARY:Riding Into History
DESCRIPTION:300+ Antique Motorcycles of all makes and models from the best collectors in the SouthEast will be on display around the Walk of Champions promenade. \nWayne Carini of Chasing Classic Cars will be the Grand Marshal for the 21st Riding Into History!
URL:https://flbikers.com/event/riding-into-history/
LOCATION:World Golf Village\, 1 World Golf Pl\, St.Augustine\, FL\, 32092\, United States
END:VEVENT
BEGIN:VEVENT
DTSTART;VALUE=DATE:20210428
DTEND;VALUE=DATE:20210506
DTSTAMP:20260425T105414
CREATED:20210331T164608Z
LAST-MODIFIED:20210331T164608Z
UID:8044-1619568000-1620259199@flbikers.com
SUMMARY:Spring Thunder Beach Motorcycle Rally 2021
DESCRIPTION:Experience the Most Biker-Friendly FREE Rally in the USA as you ride the “World’s Most Beautiful Beaches”. Enjoy “True Southern Hospitality” at a 5-day Motorcycle Rally in Panama City Beach\, Florida. \nMultiple Venues with Hundreds of Vendors including many of the MC Industry’s Biggest Names! Enjoy the Thunder Beach Concert Series featuring 3 nights of FREE National Entertainment! Endless activities include the Miss and Ms (Ladies 35+) Thunder Beach Pageants\, Factory Demo Rides\, Stunt Shows and the Sgt. Kevin Kight Memorial Bike Parade. There are several Bike Shows including the “Best of Thunder Beach Custom Bike Show” by Southern Biker Magazine\, American Bagger’s “Baddest Bagger Show” and the Custom Dynamics “Thunder Beach LED Bike Show”. All venues are open from 9am – 7pm (unless otherwise noted in the Schedule of Events). There are NO Gate or Admission Fees and Parking is Always Free. Many Local Sponsors have Daily Specials on Food and Drink as well as Discounted Lodging Rates. \nThunder Beach welcomes “Full Throttle Energy Drink” as our newest Title Sponsor for 2020. \nCheck out ThunderBeachProductions.com or the TB mobile app for more information on the ‘FREE CONCERT SERIES & VIP Experience’ hosted by VisitPanamaCityBeach.com and so much more!
URL:https://flbikers.com/event/spring-thunder-beach-motorcycle-rally-2021/
LOCATION:FL
END:VEVENT
BEGIN:VEVENT
DTSTART;TZID=UTC:20210513T180000
DTEND;TZID=UTC:20210513T220000
DTSTAMP:20260425T105414
CREATED:20210511T180307Z
LAST-MODIFIED:20210511T180307Z
UID:8090-1620928800-1620943200@flbikers.com
SUMMARY:Ferg’s May Bike Night
DESCRIPTION:Live Music\, Bike Show Competition with Trophies\, Food & Drink Specials and Lots of Entertainment
URL:https://flbikers.com/event/fergs-may-bike-night/
LOCATION:1320 Central Avenue\, 1320 Central Avenue\, Saint Petersburg\, 33705
END:VEVENT
BEGIN:VEVENT
DTSTART;TZID=UTC:20210516T090000
DTEND;TZID=UTC:20210516T130000
DTSTAMP:20260425T105414
CREATED:20210511T181551Z
LAST-MODIFIED:20210511T181551Z
UID:8093-1621155600-1621170000@flbikers.com
SUMMARY:2nd Annual Law Enforcement Memorial Ride
DESCRIPTION:The Blue Angels PSMC welcomes you to join them for the 2nd annual Law Enforcement Ride. Proceeds benefit the St.Lucie Sheriff’s Police Athletic League and the 100 Club of Saint Lucie County. The ride will drive by all LE agencies as we pay tribute to fallen heroes who have made the ultimate sacrifice in Saint Lucie County. The memorial ride will finish at the PAL located at 1963 S. US 1 in Fort Pierce where there will be vendors/food and a car show.\nLine up will be at 9 AM at the Post Office on Midway Rd. Kick stands up will be 10 AM.
URL:https://flbikers.com/event/2nd-annual-law-enforcement-memorial-ride/
LOCATION:500 W Midway Rd\, 500 W Midway Rd\, Fort Pierce\, 34982\, United States
END:VEVENT
BEGIN:VEVENT
DTSTART;TZID=UTC:20210522T090000
DTEND;TZID=UTC:20210522T160000
DTSTAMP:20260425T105414
CREATED:20210511T183356Z
LAST-MODIFIED:20210511T183356Z
UID:8097-1621674000-1621699200@flbikers.com
SUMMARY:Dream Ride
DESCRIPTION:Dream Ride wants to bring the community together with poker\, a bike wash and more. All proceeds from this event will be donated to the Dream Ride to benefit the Special Olympics!
URL:https://flbikers.com/event/dream-ride/
LOCATION:Pop A Beer Bar & Grill\, 4907 S 50th St\, Tampa\, FL\, 33619\, United States
END:VEVENT
BEGIN:VEVENT
DTSTART;TZID=UTC:20210523T103000
DTEND;TZID=UTC:20210523T170000
DTSTAMP:20260425T105414
CREATED:20210511T184650Z
LAST-MODIFIED:20210511T184650Z
UID:8100-1621765800-1621789200@flbikers.com
SUMMARY:Ride the Wind
DESCRIPTION:Palm Bay Ride the Wind wants you to dress in your best aviator attire to embody the bold\, brave spirit and empower those who need to reach out for a helping hand. There is a $10 registration fee that goes to Serene Harbor; a Certified Domestic Violence Center in Brevard County\, Florida. In addition\, each registered rider will be given a blue feather to don on their handlebars on the day of the ride and a goody bag. you’ll receive a raffle ticket for a chance to win one of many awesome giveaways! Kick stands are up at 10:30am
URL:https://flbikers.com/event/ride-the-wind/
LOCATION:Space Coast Harley-Davidson\, 1440 Sportsman Ln NE\, Palm Bay\, FL\, 32905\, United States
END:VEVENT
BEGIN:VEVENT
DTSTART;TZID=UTC:20210526T180000
DTEND;TZID=UTC:20210526T200000
DTSTAMP:20260425T105414
CREATED:20210511T185320Z
LAST-MODIFIED:20210511T185320Z
UID:8103-1622052000-1622059200@flbikers.com
SUMMARY:Dan's Full Moon Ride
DESCRIPTION:Riders will take the long way to Coney’s Italian Ice and Creamery in Eustis and enjoy a frozen treat before heading back to the starting point. Riders will meet at the Circle K at the traffic circle on 44 in Deland at 6:00 pm. The ride out will be about 58 miles and take 80 minutes. The ride back is about 28.8 miles and take about 40 minutes.
URL:https://flbikers.com/event/dans-full-moon-ride/
LOCATION:Circle K\, 2185 West New York Avenue\, DeLand\, FL\, 32720\, United States
END:VEVENT
BEGIN:VEVENT
DTSTART;TZID=UTC:20210528T120000
DTEND;TZID=UTC:20210530T220000
DTSTAMP:20260425T105414
CREATED:20210511T190636Z
LAST-MODIFIED:20210511T190636Z
UID:8108-1622203200-1622412000@flbikers.com
SUMMARY:Florida Motor Cycle Expo
DESCRIPTION:Enjoy Free Admission\, Live Music\, Bike Show\, Lots of Vendors\, Food & Drink and More\, All Weekend Long. \nFriday May 28th noon – 10pm\nSaturday May 29th 10am – 10pm\nSunday May 30th 11am – 6pm
URL:https://flbikers.com/event/florida-motor-cycle-expo/
LOCATION:Bert’s Barracuda Harley Davidson\, 10525 49th St. N\, Clearwater\, FL\, 33762\, United States
END:VEVENT
BEGIN:VEVENT
DTSTART;TZID=UTC:20210603T190000
DTEND;TZID=UTC:20210603T220000
DTSTAMP:20260425T105414
CREATED:20210527T190211Z
LAST-MODIFIED:20210527T190211Z
UID:8123-1622746800-1622757600@flbikers.com
SUMMARY:West Coast Florida Riders Bike Night
DESCRIPTION:Ain’t No Party Like A West Coast Party!!! \nJoin us for WCFR for their monthly bike night with Live Music\, Vendors\, Bike Show\, Bucket Specials & Special Menu/Food Truck
URL:https://flbikers.com/event/west-coast-florida-riders-bike-night/
LOCATION:Breeze19 Kitchen-Bar\, 6818 US-19\, New Port Richey\, FL\, 34652\, United States
END:VEVENT
BEGIN:VEVENT
DTSTART;TZID=UTC:20210604T180000
DTEND;TZID=UTC:20210604T210000
DTSTAMP:20260425T105414
CREATED:20210527T190623Z
LAST-MODIFIED:20210527T190623Z
UID:8126-1622829600-1622840400@flbikers.com
SUMMARY:Seminole Harley-Davidson Bike Night
DESCRIPTION:Join Seminole Harley-Davidson for their monthly Bike Night!
URL:https://flbikers.com/event/seminole-harley-davidson-bike-night/
LOCATION:Seminole Harley-Davidson\, 620 Hickman Cir\, Sanford\, FL\, 32771\, United States
END:VEVENT
BEGIN:VEVENT
DTSTART;TZID=UTC:20210605T080000
DTEND;TZID=UTC:20210605T150000
DTSTAMP:20260425T105414
CREATED:20210601T165704Z
LAST-MODIFIED:20210601T165704Z
UID:8133-1622880000-1622905200@flbikers.com
SUMMARY:Veteran Salute Benefit\, Car\, Truck\, & Motorcycle Show
DESCRIPTION:Join the Marine Corps League\, Detachment 57 and Bert Barracuda Harley Davidson\, as they proudly present the inaugural\nVeterans Salute Benefit Car\, Truck\, & Motorcycle Show. There will be Food & Drinks\, Raffles\, Silent Auction and Fun. The motorcycle show entry fee is $25.
URL:https://flbikers.com/event/veteran-salute-benefit-car-truck-motorcycle-show/
LOCATION:Bert’s Barracuda Harley Davidson\, 10525 49th Street N\, Pinellas Park\, 33762\, United States
END:VEVENT
BEGIN:VEVENT
DTSTART;TZID=UTC:20210605T180000
DTEND;TZID=UTC:20210605T210000
DTSTAMP:20260425T105414
CREATED:20210527T191429Z
LAST-MODIFIED:20210527T191429Z
UID:8129-1622916000-1622926800@flbikers.com
SUMMARY:Harley Luau
DESCRIPTION:Bike Night at Tanners Lakeside Restaurant & Bar with Live music\, Drink specials\, Vendors on-site\, and Live music from DJ Billy.
URL:https://flbikers.com/event/harley-luau/
LOCATION:Tanners Lakeside Restaurant and Bar\, 4202 Lakeland Hills Blvd\, Lakeland\, Florida
END:VEVENT
BEGIN:VEVENT
DTSTART;TZID=UTC:20210606T100000
DTEND;TZID=UTC:20210606T150000
DTSTAMP:20260425T105414
CREATED:20210601T170639Z
LAST-MODIFIED:20210601T170639Z
UID:8138-1622973600-1622991600@flbikers.com
SUMMARY:Rockabilly Car and Bike Show
DESCRIPTION:Join Adamec Harley-Davidson for their Bike Show that will have Trophies\, Pin-Up Contest\, Live Music\, Vendors\, Food & Drinks\, Raffles and More.
URL:https://flbikers.com/event/rockabilly-car-and-bike-show/
LOCATION:Adamec Harley-Davidson\, 1520 Wells Rd\, Orange Park\, FL\, 32073\, United States
END:VEVENT
BEGIN:VEVENT
DTSTART;TZID=UTC:20210612T110000
DTEND;TZID=UTC:20210612T170000
DTSTAMP:20260425T105414
CREATED:20210601T171902Z
LAST-MODIFIED:20210601T171902Z
UID:8142-1623495600-1623517200@flbikers.com
SUMMARY:Family Fun Day
DESCRIPTION:Join Lakeland Harley Davidson for their Family Fun Day that has Bounce Houses\, Axe throwing\, Meet Cottonelle the lamb from 1-2\, Free Food\, Drinks and Live Music.
URL:https://flbikers.com/event/family-fun-day/
LOCATION:Lakeland Harley-Davidson\, 4202 Lakeland Hills Blvd\, Lakeland\, FL\, 33805\, United States
END:VEVENT
BEGIN:VEVENT
DTSTART;TZID=UTC:20210613T080000
DTEND;TZID=UTC:20210613T140000
DTSTAMP:20260425T105414
CREATED:20210601T172821Z
LAST-MODIFIED:20210601T172821Z
UID:8145-1623571200-1623592800@flbikers.com
SUMMARY:Biker Life Motorcycle Swap Meet
DESCRIPTION:Buy\, Sell\, Swap Motorcycle Parts and Accessories with the Proceeds benefiting the Harry Chapin Food Bank.
URL:https://flbikers.com/event/biker-life-motorcycle-swap-meet/
LOCATION:Biker Life\, 3265 Tamiami Trail\, Port Charlotte\, FL\, 33952\, United States
END:VEVENT
BEGIN:VEVENT
DTSTART;TZID=UTC:20210619T090000
DTEND;TZID=UTC:20210619T170000
DTSTAMP:20260425T105414
CREATED:20210601T173652Z
LAST-MODIFIED:20210601T173652Z
UID:8149-1624093200-1624122000@flbikers.com
SUMMARY:Sea 2 Sea 4 PTSD Awareness Ride
DESCRIPTION:This Ride is Escorted by the Lake County Sheriff’s Office. The Ride Starts at St John’s Hops (40923 Maxwell rd. Umatilla) and Ends at Gator H-D (1745 US Hwy 441\, Leesburg) with Live Music (from 11:30-3:30PM)\, Vendors\, Food Truck\, Full Bar and More.
URL:https://flbikers.com/event/sea-2-sea-4-ptsd-awareness-ride/
LOCATION:St Johns Hops\, 40923 Maxwell rd\, Umatilla\, FL\, United States
END:VEVENT
BEGIN:VEVENT
DTSTART;TZID=UTC:20210620T090000
DTEND;TZID=UTC:20210620T150000
DTSTAMP:20260425T105414
CREATED:20210601T175139Z
LAST-MODIFIED:20210601T175139Z
UID:8152-1624179600-1624201200@flbikers.com
SUMMARY:Crossroads Father's Day Car\, Truck & Motorcycle Show
DESCRIPTION:The 11th Annual Crossroads Father’s Day Car\, Truck & Motorcycle Show is a Multi-Class Car\, Truck & Motorcycle Show for all Makes\, Models and Years. There will also be Live Music\, 50/50\, Giveaways\, Food Trucks\, Worship Service and More
URL:https://flbikers.com/event/crossroads-fathers-day-car-truck-motorcycle-show/
LOCATION:Crossroads Christian Church\, 3838 State Road 44\, New Smyrna Beach\, FL\, 32168\, United States
END:VEVENT
BEGIN:VEVENT
DTSTART;TZID=UTC:20210626T100000
DTEND;TZID=UTC:20210626T140000
DTSTAMP:20260425T105414
CREATED:20210601T180328Z
LAST-MODIFIED:20210601T180328Z
UID:8155-1624701600-1624716000@flbikers.com
SUMMARY:MCHD H.O.G. Chapter Bike Show
DESCRIPTION:MCHD H.O.G. Chapter & Ladies of Harley Presents a Car and Bike Show with Prize Winners. Top 2 Peoples’ Choice Bikes & Top 2 Peoples’ Choice Cars. Food is provided and vendors are welcome.\n\nTo register: call (321) 307-2755 or email ladiesofharleymchd@gmail.com\nVehicle Registration:\nBIKES • $10\nCARS • $15\n*Proceeds to benefit local charities*
URL:https://flbikers.com/event/mchd-h-o-g-chapter-bike-show/
LOCATION:Miracle City Harley-Davidson\, 2405 South Hopkins Avenue\, Titusville\, Florida\, 32780\, United States
END:VEVENT
BEGIN:VEVENT
DTSTART;TZID=UTC:20210702T180000
DTEND;TZID=UTC:20210702T220000
DTSTAMP:20260425T105414
CREATED:20210607T190217Z
LAST-MODIFIED:20210607T190217Z
UID:8175-1625248800-1625263200@flbikers.com
SUMMARY:Rev\, White and Brew
DESCRIPTION:The Lead Foot City “Rev\, White & Brew Festival” will get you in the patriotic spirit! Complete with a Car\, Truck\, Bike Show\, Live Music\, Food Trucks\, Eating Contests\, Burnout Contest\, Beer\, oh and did we mention… FIREWORKS!! Hear music by headlining band\, Jaded.
URL:https://flbikers.com/event/rev-white-and-brew/
LOCATION:Lead Foot City\, 17109 Old Ayers Road\, Brooksville\, FL\, 34604\, United States
END:VEVENT
END:VCALENDAR