BEGIN:VCALENDAR
VERSION:2.0
PRODID:-//FL Bikers - ECPv6.15.20//NONSGML v1.0//EN
CALSCALE:GREGORIAN
METHOD:PUBLISH
X-ORIGINAL-URL:https://flbikers.com
X-WR-CALDESC:Events for FL Bikers
REFRESH-INTERVAL;VALUE=DURATION:PT1H
X-Robots-Tag:noindex
X-PUBLISHED-TTL:PT1H
BEGIN:VTIMEZONE
TZID:UTC
BEGIN:STANDARD
TZOFFSETFROM:+0000
TZOFFSETTO:+0000
TZNAME:UTC
DTSTART:20190101T000000
END:STANDARD
END:VTIMEZONE
BEGIN:VEVENT
DTSTART;TZID=UTC:20201024T160000
DTEND;TZID=UTC:20201024T210000
DTSTAMP:20260425T112359
CREATED:20201019T152730Z
LAST-MODIFIED:20201019T152730Z
UID:7163-1603555200-1603573200@flbikers.com
SUMMARY:SWFL Shield's 3rd Annual Trunk Or Treat
DESCRIPTION:Fun for the whole family ! contests and games for the kids an adults\nEVENT IS FREE TO THE PUBLIC !!!!!!!!!!!\nHay ride for everyone ! Contest for the Best decorated vehicle and costumes for both the children an adult’s\nRegister to win Plaques and gift certificates for the decorated vehicle contest starts at 3:30 pm $10 donation to enter.\nthere will be FREE raffles and other Raffle items. Proceeds to go to the SHIELD4KIDS bus stop bench program.
URL:https://flbikers.com/event/swfl-shields-3rd-annual-trunk-or-treat/
LOCATION:5512 8th St W\, Lehigh Acres\, FL 33971-6360\, United States
END:VEVENT
BEGIN:VEVENT
DTSTART;TZID=UTC:20201025T093000
DTEND;TZID=UTC:20201025T133000
DTSTAMP:20260425T112359
CREATED:20201006T163656Z
LAST-MODIFIED:20201006T163656Z
UID:7117-1603618200-1603632600@flbikers.com
SUMMARY:The Pumpkin Ride
DESCRIPTION:Sunday\, October 25\,2020 from 9:30AM to 1:30PM\nCountry motor cycle tour (800 CC and up.) Integrated group ride. Lunch stop included at the Swamp House. Starts at PANERA BREAD on US 441 Apopka. Kickstands up at 9:30 AM. No fee\, just lunch. We checked the Swamp House in a scouting trip a few weeks ago. Located on the scenic St. Johns and really feasted on what we think are the best hamburgers around. The service was excellent as well. Menu is very reasonable. So see you soon. Rick and Barbara.\nPanera Bread on US 441. in Apopka where delicious bagels\, coffee and muffins are being served well before the start. 
URL:https://flbikers.com/event/the-pumpkin-ride/
LOCATION:1538 W Orange Blossom Trail. Apopka\, FL 32712
END:VEVENT
BEGIN:VEVENT
DTSTART;TZID=UTC:20201029T170000
DTEND;TZID=UTC:20201029T230000
DTSTAMP:20260425T112359
CREATED:20201006T163819Z
LAST-MODIFIED:20201006T163819Z
UID:7121-1603990800-1604012400@flbikers.com
SUMMARY:Salty Shamrock Bike Night
DESCRIPTION:Thursday\, October 29\, 2020 from 5:00PM to 11:00PM\nMusic\, bike show\, vendors\, food & drink specials and more\nSalty Shamrock 
URL:https://flbikers.com/event/salty-shamrock-bike-night/
LOCATION:6186 N US Highway 41 Apollo beach Fl 33572
END:VEVENT
BEGIN:VEVENT
DTSTART;VALUE=DATE:20201031
DTEND;VALUE=DATE:20201101
DTSTAMP:20260425T112359
CREATED:20201006T164750Z
LAST-MODIFIED:20201006T164750Z
UID:7124-1604102400-1604188799@flbikers.com
SUMMARY:2nd Annual Invasion of Key West
DESCRIPTION:Saturday\, October 31\, 2020 7:00AM\nThe ride departs at Stu’s Indian Dealership and goes to Peterson’s Harley Davidson south for a brief ceremony! Then off to Key West. There will be 50/50 drawings\, door prizes raffle items and a drawing for a one of a kind Harley Davidson t-shirt quilt made from t-shirts from across America!!! The prize giveaways will be at Cowboy Bill’s in Key West on Duvall street!!\nStu’s Motorcycles 
URL:https://flbikers.com/event/2nd-annual-invasion-of-key-west/
LOCATION:14607 Ben C Prett/6 Mile Cypress Pkwy Fort Myers Fl 33912
END:VEVENT
BEGIN:VEVENT
DTSTART;VALUE=DATE:20201031
DTEND;VALUE=DATE:20201103
DTSTAMP:20260425T112359
CREATED:20201019T153742Z
LAST-MODIFIED:20201019T153742Z
UID:7166-1604102400-1604361599@flbikers.com
SUMMARY:2nd Annual Invasion Of Key West
DESCRIPTION:This event is being hosted by the Independent Motorcyclist Association to help bring Awareness to the growing problems of our Veterans with PTSD and suicide. There will be 50/50 drawings door prizes raffle items and a drawing for a one of a kind Harley Davidson t-shirt quilt made from t-shirts from across America.
URL:https://flbikers.com/event/2nd-annual-invasion-of-key-west-2/
LOCATION:14607 Ben C Prett/6 Mile Cypress Pkwy Fort Myers Fl 33912
END:VEVENT
BEGIN:VEVENT
DTSTART;TZID=UTC:20201101T110000
DTEND;TZID=UTC:20201101T150000
DTSTAMP:20260425T112359
CREATED:20201020T134453Z
LAST-MODIFIED:20201020T134453Z
UID:7169-1604228400-1604242800@flbikers.com
SUMMARY:DJ TRAE TUNING UP THE STAGE WITH ROCKING SOUNDS
DESCRIPTION:Music\, Available Food\, Free Beer (Please Drink Responsibly) and Fun!
URL:https://flbikers.com/event/dj-trae-tuning-up-the-stage-with-rocking-sounds/
LOCATION:1147 S. Suncoast Blvd\, Homosassa\, FL\, 34448-1461\, US
END:VEVENT
BEGIN:VEVENT
DTSTART;TZID=UTC:20201107T090000
DTEND;TZID=UTC:20201107T100000
DTSTAMP:20260425T112359
CREATED:20201020T135331Z
LAST-MODIFIED:20201020T135331Z
UID:7175-1604739600-1604743200@flbikers.com
SUMMARY:CMA FREE PANCAKE & SAUSAGE BREAKFAST
DESCRIPTION:Christian Motorcycle Association Free Breakfast.
URL:https://flbikers.com/event/cma-free-pancake-sausage-breakfast/
LOCATION:1147 S. Suncoast Blvd\, Homosassa\, FL\, 34448-1461\, US
END:VEVENT
BEGIN:VEVENT
DTSTART;TZID=UTC:20201107T120000
DTEND;TZID=UTC:20201107T180000
DTSTAMP:20260425T112359
CREATED:20201020T135013Z
LAST-MODIFIED:20201020T135013Z
UID:7172-1604750400-1604772000@flbikers.com
SUMMARY:Old School Biker Rodeo
DESCRIPTION:Biker Rodeo Games\, Live Music\, Prizes\, 50/50″s\, Raffles\, Food\, Drink and More
URL:https://flbikers.com/event/old-school-biker-rodeo/
LOCATION:11421 Osceola Dr\, New Port Richey\, FL 34654
END:VEVENT
BEGIN:VEVENT
DTSTART;VALUE=DATE:20201113
DTEND;VALUE=DATE:20201116
DTSTAMP:20260425T112359
CREATED:20201020T135703Z
LAST-MODIFIED:20201020T135703Z
UID:7178-1605225600-1605484799@flbikers.com
SUMMARY:Gator Bike Rally
DESCRIPTION:Live Music\, Food\, Full Bar and Lots More
URL:https://flbikers.com/event/gator-bike-rally/
LOCATION:1745 US Highway 441\, Leesburg\, FL 34748
END:VEVENT
BEGIN:VEVENT
DTSTART;VALUE=DATE:20201113
DTEND;VALUE=DATE:20201116
DTSTAMP:20260425T112359
CREATED:20201020T140350Z
LAST-MODIFIED:20201020T140350Z
UID:7181-1605225600-1605484799@flbikers.com
SUMMARY:Stormy Hill Bike Rally +H-D Demo Ride Truck
DESCRIPTION:Enjoy three days of live music\, vendors\, food and fun at Stormy Hill Bike Rally.\nLive music Friday: Steven Green Band 11am – 3pmSaturday: Sniper 10am – 2pm \nHard Country Rooster 2pm – 6pm \nSunday: Tommy Treadway 10am – 2pm\nVendors: Chrisco Pinstriping\, Suspension Technologies\, Rumbling Pride (LED Lighting)\, The Armories\, Bike Wash Girls\, Susan Osuch-Toth (Shore To Shine Nails)\, Judy’s Treasures\nFood by Daleo’s Hot Dogs\, Not Your Mama’s Pancakes Sun 11am -3pm\, Full Bar by Graffiti Junktion \nHarley-Davidson demo ride truck will be here all 3 days!
URL:https://flbikers.com/event/stormy-hill-bike-rally-h-d-demo-ride-truck/
LOCATION:2480 S HWY 27\, Clermont\, FL 34711
END:VEVENT
BEGIN:VEVENT
DTSTART;TZID=UTC:20201114T120000
DTEND;TZID=UTC:20201114T180000
DTSTAMP:20260425T112359
CREATED:20201020T140558Z
LAST-MODIFIED:20201020T140558Z
UID:7185-1605355200-1605376800@flbikers.com
SUMMARY:Bikers Against Child Abuse Annual Ride
DESCRIPTION:The annual ride for the Bay Bridges Chapter of Bikers Against Child Abuse (BACA). All money raised will be for our children. They are entirely donation supported and no member receives a salary. They are a 501(c)(3) nonprofit organization that works directly with abused children.
URL:https://flbikers.com/event/bikers-against-child-abuse-annual-ride/
LOCATION:Chester McKay V.F.W. Post 7987 in New Port Richey\, Florida
END:VEVENT
BEGIN:VEVENT
DTSTART;VALUE=DATE:20201121
DTEND;VALUE=DATE:20201122
DTSTAMP:20260425T112359
CREATED:20201020T141242Z
LAST-MODIFIED:20201020T141242Z
UID:7188-1605916800-1606003199@flbikers.com
SUMMARY:WREATHS ACROSS AMERICA BENEFIT RUN
DESCRIPTION:Registration begins at 9:45 AM at Crystal H-D. $20 Rider and Passenger fee which includes a meal at the final stop. KSU 11 AM. Last Bike in 5 PM. Stops include American Legion\, Crystal River Eagles\, IRRU Social Club\, VFW and American Legion Post 237. 50/50 at each stop. 100% of the profits go to purchase wreaths to be placed at Bushnell National Cemetery for our fallen heroes and their families. Please come out and help us with this worthy cause.
URL:https://flbikers.com/event/wreaths-across-america-benefit-run/
LOCATION:1147 S. Suncoast Blvd\, Homosassa\, FL\, 34448-1461\, US
END:VEVENT
BEGIN:VEVENT
DTSTART;TZID=UTC:20201129T110000
DTEND;TZID=UTC:20201129T150000
DTSTAMP:20260425T112359
CREATED:20201020T141907Z
LAST-MODIFIED:20201020T141907Z
UID:7191-1606647600-1606662000@flbikers.com
SUMMARY:CHROME SUNDAY - PALOMINO BLONDE BAND LIVE
DESCRIPTION:Live Entertainment by Palamino Blonde and her horse\, Available Food\, Free Beer (Please Drink Responsibly) and Fun!
URL:https://flbikers.com/event/chrome-sunday-palomino-blonde-band-live/
LOCATION:1147 S. Suncoast Blvd\, Homosassa\, FL\, 34448-1461\, US
END:VEVENT
BEGIN:VEVENT
DTSTART;TZID=UTC:20201205T090000
DTEND;TZID=UTC:20201205T160000
DTSTAMP:20260425T112359
CREATED:20201201T175036Z
LAST-MODIFIED:20201201T175036Z
UID:7251-1607158800-1607184000@flbikers.com
SUMMARY:The Biker Book for Charity Fundraiser
DESCRIPTION:Head out to this awesome event for charity! All proceeds from this book signing and fundraiser will be donated to the Children’s Hospital.
URL:https://flbikers.com/event/the-biker-book-for-charity-fundraiser/
LOCATION:Bruce Rossmeyer’s Daytona Harley-Davidson 1637 N US Hwy 1\, Ormond Beach\, Florida\, 32174
END:VEVENT
BEGIN:VEVENT
DTSTART;TZID=UTC:20210109T120000
DTEND;TZID=UTC:20210109T160000
DTSTAMP:20260425T112359
CREATED:20210105T165037Z
LAST-MODIFIED:20210105T165037Z
UID:7276-1610193600-1610208000@flbikers.com
SUMMARY:The Shane Gang Live
DESCRIPTION:Live Entertainment\, Available Food\, Free Beer (Please Drink Responsibly) and Fun! \nContact Phone: (352) 5639900
URL:https://flbikers.com/event/the-shane-gang-live/
LOCATION:1147 S. Suncoast Blvd\, Homosassa\, FL\, 34448-1461\, US
END:VEVENT
BEGIN:VEVENT
DTSTART;TZID=UTC:20210109T120000
DTEND;TZID=UTC:20210109T170000
DTSTAMP:20260425T112359
CREATED:20210105T165556Z
LAST-MODIFIED:20210105T165556Z
UID:7278-1610193600-1610211600@flbikers.com
SUMMARY:2021 New Model Release Customer Appreciation Week
DESCRIPTION:Rockstar Harley Davidson will be hosting it’s first single elimination cornhole competition as we celebrate YOU! There’s no fee to enter. Food and drinks are free! Free beer for guests that are 21+ with a valid ID\, Please drink responsibly. \nContact Phone: (239)5339693
URL:https://flbikers.com/event/2021-new-model-release-customer-appreciation-week/
LOCATION:9501 Thunder Rd\, Fort Myers\, FL\, 33913-8271\, US
END:VEVENT
BEGIN:VEVENT
DTSTART;TZID=UTC:20210113T080000
DTEND;TZID=UTC:20210113T080000
DTSTAMP:20260425T112359
CREATED:20210105T165956Z
LAST-MODIFIED:20210105T165956Z
UID:7281-1610524800-1610524800@flbikers.com
SUMMARY:Super Swap Meet Sunday
DESCRIPTION:$10.00 for a vendor spot. All proceeds benefit charity. Contact Gregg Daniel for more information. gdaniel@brhd.com \nContact Phone: 386-671-7120
URL:https://flbikers.com/event/super-swap-meet-sunday/
LOCATION:1637 N US Highway 1 Ormond Beach Fl 32174
END:VEVENT
BEGIN:VEVENT
DTSTART;TZID=UTC:20210119T100000
DTEND;TZID=UTC:20210119T130000
DTSTAMP:20260425T112359
CREATED:20210105T171558Z
LAST-MODIFIED:20210105T171558Z
UID:7284-1611050400-1611061200@flbikers.com
SUMMARY:2021 H-D Virtual Launch Party
DESCRIPTION:Join the reveal! LIVE watch party in our showroom. See all the new motorcycles\, parts & accessories\, riding gear and apparel Bagels & Coffee @10am *while supplies lasts Show Starts @11am Hear from Harley-Davidson’s leaders\, bike designers\, engineers and apparel makers on all that’s coming to Adamec H-D® in 2021. \nContact: (904)493-1931
URL:https://flbikers.com/event/2021-h-d-virtual-launch-party/
LOCATION:8909 Baymeadows Rd\, Jacksonville\, FL\, 32256-7507\, US
END:VEVENT
BEGIN:VEVENT
DTSTART;TZID=UTC:20210128T180000
DTEND;TZID=UTC:20210128T180000
DTSTAMP:20260425T112359
CREATED:20210105T171952Z
LAST-MODIFIED:20210105T171952Z
UID:7288-1611856800-1611856800@flbikers.com
SUMMARY:Full Moon Ride
DESCRIPTION:Meet outside the service department for a Full Moon Ride – KSU 6pm. Don’t forget to come in and sign a waiver. Destination TBA! RSVP to Mandy 386-671-7103 or mrossmeyer@brhd.com. \nContact Phone: (386)671-7100
URL:https://flbikers.com/event/full-moon-ride/
LOCATION:1637 N US Highway 1 Ormond Beach Fl 32174
END:VEVENT
BEGIN:VEVENT
DTSTART;VALUE=DATE:20210205
DTEND;VALUE=DATE:20210208
DTSTAMP:20260425T112359
CREATED:20210127T140750Z
LAST-MODIFIED:20210127T140750Z
UID:7314-1612483200-1612742399@flbikers.com
SUMMARY:Treasure Fest
DESCRIPTION:Great Live Music featuring Saving Able and others\, Bike Shows\, Wall of Death\, Full Bar\, Tattoo Expo\, Vendors and Lots More. With Radical Randy Emcee keeping it going \nPlus all the new 2021 Harley-Davidsons will be debuted \n* * THIS IS A FREE EVENT * *49
URL:https://flbikers.com/event/treasure-fest/
LOCATION:Treasure Coast Harley-Davidson\, 4967 SE Federal Hwy\, Stuart\, FL\, 34997\, United States
END:VEVENT
BEGIN:VEVENT
DTSTART;VALUE=DATE:20210206
DTEND;VALUE=DATE:20210207
DTSTAMP:20260425T112359
CREATED:20210127T140117Z
LAST-MODIFIED:20210127T140117Z
UID:7311-1612569600-1612655999@flbikers.com
SUMMARY:Tailgate Party
DESCRIPTION:”Are you ready for this years super bowl?? Well\, we are!! Come in sporting your favorite teams Jersey and enter in a raffle to win a $100 gift certificate. Live music from DJ Billy D\, Free food & Beer till 2pm!!”
URL:https://flbikers.com/event/tailgate-party/
LOCATION:Exit 33 off of I-4\, 4202 lakeland hills blvd\, Lakeland\, FL\, 33805
END:VEVENT
BEGIN:VEVENT
DTSTART;TZID=UTC:20210211T173000
DTEND;TZID=UTC:20210211T203000
DTSTAMP:20260425T112359
CREATED:20210127T142525Z
LAST-MODIFIED:20210127T142525Z
UID:7317-1613064600-1613075400@flbikers.com
SUMMARY:Thursday Bike Night - Feb
DESCRIPTION:Motorcycles\, Cold Beer\, Full Bar\, Chicago Style Food & Pizza\, Live Music & Great People!
URL:https://flbikers.com/event/thursday-bike-night-feb/
LOCATION:Great Chicago Fire Brewery & Eatery\, 311 W. Magnolia\, Leesburg\, FL\, 34748\, United States
END:VEVENT
BEGIN:VEVENT
DTSTART;VALUE=DATE:20210214
DTEND;VALUE=DATE:20210215
DTSTAMP:20260425T112359
CREATED:20210211T142614Z
LAST-MODIFIED:20210211T142615Z
UID:7357-1613260800-1613347199@flbikers.com
SUMMARY:Treat Your Sweetheart
DESCRIPTION:Go out to Lakeland Harley-Davidson and treat tour sweetheart! They will be having free champagne/mimosas\, chocolate and roses while supplies last!
URL:https://flbikers.com/event/treat-your-sweetheart/
LOCATION:Lakeland Harley Davidson\, 4202 lakeland hills blvd\, Lakeland\, Florida\, 33805
END:VEVENT
BEGIN:VEVENT
DTSTART;VALUE=DATE:20210219
DTEND;VALUE=DATE:20210222
DTSTAMP:20260425T112359
CREATED:20210127T143301Z
LAST-MODIFIED:20210127T143301Z
UID:7321-1613692800-1613951999@flbikers.com
SUMMARY:23rd Annual Thunder By The Bay Music & Motorcycle Festival
DESCRIPTION:The 23rd Annual Thunder By The Bay Music & Motorcycle Festival is a three day event held at the Sarasota Fairgrounds to benefit Suncoast Charities for Children. \nBring your lawn chair and enjoy continuous live music with featured headliner Molly Hatchet performing Saturday – February 20th. \nThis years Festival includes a “United We Ride – America Strong” charity motorcycle ride\, 17 Class Bike Show\, Stereo “Sound Off” contest\, burnout contest\, great food\, and much more! \nDry & full service camping is available on site. \nDaily gate admission is $5 – 12 and under free. \nFor more information visit: thunderbythebay.org
URL:https://flbikers.com/event/23rd-annual-thunder-by-the-bay-music-motorcycle-festival/
LOCATION:Sarasota Fairgrounds\, 3000 Ringling Blvd\, Sarasota\, FL\, 34232
END:VEVENT
BEGIN:VEVENT
DTSTART;VALUE=DATE:20210220
DTEND;VALUE=DATE:20210221
DTSTAMP:20260425T112359
CREATED:20210211T142955Z
LAST-MODIFIED:20210211T142955Z
UID:7360-1613779200-1613865599@flbikers.com
SUMMARY:Love Bites/Karaoke
DESCRIPTION:It’s time to turn up the volume and let your talent shine. Come sing your heart out. They will have free burgers and hotdogs on the grill\, plus free beer!
URL:https://flbikers.com/event/love-bites-karaoke/
LOCATION:Lakeland Harley Davidson\, 4202 lakeland hills blvd\, Lakeland\, Florida\, 33805
END:VEVENT
BEGIN:VEVENT
DTSTART;TZID=UTC:20210227T100000
DTEND;TZID=UTC:20210227T150000
DTSTAMP:20260425T112359
CREATED:20210211T143524Z
LAST-MODIFIED:20210211T143524Z
UID:7362-1614420000-1614438000@flbikers.com
SUMMARY:Bike Week Kick Off
DESCRIPTION:Get ready for Bike Week at the Stormy Hill Harley-Davidson Pre Bike Week Kick Off! Enjoy live music by “Not Dead Yet\,” food\, a variety of vendors\, and a full bar!
URL:https://flbikers.com/event/bike-week-kick-off/
LOCATION:Stormy Hill Harley-Davidson\, 2480 S Hwy 27\, Clermont\, Florida\, 34711
END:VEVENT
BEGIN:VEVENT
DTSTART;TZID=UTC:20210304T180000
DTEND;TZID=UTC:20210304T210000
DTSTAMP:20260425T112359
CREATED:20210303T133905Z
LAST-MODIFIED:20210303T133905Z
UID:7395-1614880800-1614891600@flbikers.com
SUMMARY:Bike Week at ECHD
DESCRIPTION:Bike nights are back at Emerald Coast Harley-Davidson and they’re better than ever! They’ve got free beer\, free food\, live entertainment and\, of course\, awesome giveaways. Grab your friends and ride on down to see your favorite H-D crew! We’ll be partying indoors and outside under the big white tent so don’t miss out.
URL:https://flbikers.com/event/bike-week-at-echd/
LOCATION:788 Beal Pwky NW\, 788 Beal Pwky NW\, Fort Walton Beach\, FL\, 32547\, United States
END:VEVENT
BEGIN:VEVENT
DTSTART;VALUE=DATE:20210305
DTEND;VALUE=DATE:20210315
DTSTAMP:20260425T112359
CREATED:20210211T144446Z
LAST-MODIFIED:20210211T144446Z
UID:7365-1614902400-1615766399@flbikers.com
SUMMARY:Daytona Bike Week Camoing Home of Burning Bike
DESCRIPTION:The place to stay and party during Daytona Bike Week! \nJoin them and enjoy live bands\, hot showers\, food\, vendors\, activities\, entertainment and the Famous Burning Bike! \nFull RV hookups $55 a night\, includes 2 people. Primitive tent camping $15 a night per person or $90 weekly. 24 hour security \nCampground features hot showers\, restrooms\, free Wi-Fi to all campers\, food\, vendor and movie nights each evening taking place at the Fastlane Bar and Grill \nAll campers will have free entry to Fastlane’s Motorcycle Swap Meet & Bike Shows featuring the Wall of Death.
URL:https://flbikers.com/event/daytona-bike-week-camoing-home-of-burning-bike/
LOCATION:Volusia County Fairgrounds\, 3150 E New York Ave\, Deland\, Florida\, 32724
END:VEVENT
BEGIN:VEVENT
DTSTART;TZID=UTC:20210306T120000
DTEND;TZID=UTC:20210306T150000
DTSTAMP:20260425T112359
CREATED:20210303T134431Z
LAST-MODIFIED:20210303T134431Z
UID:7398-1615032000-1615042800@flbikers.com
SUMMARY:HOGS for Dogs
DESCRIPTION:Emerald Coast Harley-Davidson and Road Dogg Rescue are partnering up to help find our local furry friends fur-ever homes. Road Dogg Rescue will be here with adorable\, adoptable dogs and we’ll be grilling out and serving up free beer starting at noon. Come pick out the newest addition to your family\, and make sure to stop by Motorclothes for some stylish H-D goodies for them\, too.\nNot looking to adopt? Road Dogg Rescue will also be collecting supplies and donations while they’re here! They’re always in need of food (especially wet\, puppy food)\, blankets\, beds\, and\, of course\, financial assistance.
URL:https://flbikers.com/event/hogs-for-dogs/
LOCATION:788 Beal Pwky NW\, 788 Beal Pwky NW\, Fort Walton Beach\, FL\, 32547\, United States
END:VEVENT
BEGIN:VEVENT
DTSTART;TZID=UTC:20210307T110000
DTEND;TZID=UTC:20210307T140000
DTSTAMP:20260425T112359
CREATED:20210303T135147Z
LAST-MODIFIED:20210303T135147Z
UID:7400-1615114800-1615125600@flbikers.com
SUMMARY:2021 Bike Week Meet-N-Greet
DESCRIPTION:Meet-N-Greet for those heading to Daytona Bike Week Festivities.\n50/50 Prizes and Raffle.\nMeet up with old friends and make some new ones!
URL:https://flbikers.com/event/2021-bike-week-meet-n-greet/
LOCATION:Highjackers Restaurant\, 202 Airport Road\, Palm Coast\, Florida\, 32164
END:VEVENT
END:VCALENDAR