BEGIN:VCALENDAR
VERSION:2.0
PRODID:-//FL Bikers - ECPv6.15.20//NONSGML v1.0//EN
CALSCALE:GREGORIAN
METHOD:PUBLISH
X-WR-CALNAME:FL Bikers
X-ORIGINAL-URL:https://flbikers.com
X-WR-CALDESC:Events for FL Bikers
REFRESH-INTERVAL;VALUE=DURATION:PT1H
X-Robots-Tag:noindex
X-PUBLISHED-TTL:PT1H
BEGIN:VTIMEZONE
TZID:UTC
BEGIN:STANDARD
TZOFFSETFROM:+0000
TZOFFSETTO:+0000
TZNAME:UTC
DTSTART:20200101T000000
END:STANDARD
END:VTIMEZONE
BEGIN:VEVENT
DTSTART;TZID=UTC:20211001T080000
DTEND;TZID=UTC:20211001T160000
DTSTAMP:20260425T135608
CREATED:20210929T202906Z
LAST-MODIFIED:20210929T202920Z
UID:8296-1633075200-1633104000@flbikers.com
SUMMARY:Cruisin' for St. Judes 2021 Ride
DESCRIPTION:The 10th Annual Cruisin’ for St Judes Will Be an Escorted Ride from Amvets in Mt. Dora to Gator Harley Davidson in Leesburg. There Will be Live Music\, Food\, Full Bar\, 50/50\, Raffles\, Auction and More!\nProceeds benefit St Judes Children’s Hospital.
URL:https://flbikers.com/event/cruisin-for-st-judes-2021-ride/
LOCATION:Gator Harley-Davidson\, 1745 US HWY 441\, Leesburg\, FL\, 34748\, United States
END:VEVENT
BEGIN:VEVENT
DTSTART;TZID=UTC:20210925T100000
DTEND;TZID=UTC:20210925T150000
DTSTAMP:20260425T135608
CREATED:20210623T164029Z
LAST-MODIFIED:20210623T164029Z
UID:8238-1632564000-1632582000@flbikers.com
SUMMARY:Annual Ride to Fight Suicide
DESCRIPTION:American Foundation for Suicide Prevention and Apopka Elks are hosting Ride to Fight Suicide. There Will Be a Light Breakfast Included\,  and the Ride Will Consist of a Back Roads Ride then Returns to Elks Lodge with Live entertainment\, and Lunch Included\, Chapter Challenge\, 50/50\, Raffle\, and a Silent Auction.
URL:https://flbikers.com/event/annual-ride-to-fight-suicide/
LOCATION:Apopka Elks Lodge #2422\, 201 W Orange St.\, Apopka\, FL\, 32703\, United States
END:VEVENT
BEGIN:VEVENT
DTSTART;TZID=UTC:20210918T090000
DTEND;TZID=UTC:20210918T170000
DTSTAMP:20260425T135608
CREATED:20210623T162925Z
LAST-MODIFIED:20210623T162925Z
UID:8236-1631955600-1631984400@flbikers.com
SUMMARY:SCMO Police Motorcycle Challenge
DESCRIPTION:Law Enforcement Officers come from around the US to compete and demonstrate their riding skills. \nAdmission is Free and There Will Be Vendors\, Food and More. \nCome out to watch and show your support!
URL:https://flbikers.com/event/scmo-police-motorcycle-challenge/
LOCATION:Space Coast Harley-Davidson 1440 Sportsman Lane NE\, Palm Bay\, Florida\, 32905
END:VEVENT
BEGIN:VEVENT
DTSTART;TZID=UTC:20210911T080000
DTEND;TZID=UTC:20210911T170000
DTSTAMP:20260425T135608
CREATED:20210623T134500Z
LAST-MODIFIED:20210623T134500Z
UID:8216-1631347200-1631379600@flbikers.com
SUMMARY:9/11 Never Forget Ride & 20th Anniversary Remembrance Event
DESCRIPTION:Breakfast and Flag Raising followed with a Blessing of the Bikes and Ride. After the ride there will be Live Music\, Vendors\, Food Trucks and More. Registration $30 – includes a 20th Year Remembrance Shirt. Benefits victims of 9/11 covering their medical bills and needs\, via the James Zadroga 9/11 Health and Compensation Act.
URL:https://flbikers.com/event/9-11-never-forget-ride-20th-anniversary-remembrance-event/
LOCATION:Harley-Davidson of New Port Richey\, 5817 State Road 54\, New Port Richey\, Florida\, 34652\, United States
END:VEVENT
BEGIN:VEVENT
DTSTART;TZID=UTC:20210909T173000
DTEND;TZID=UTC:20210909T203000
DTSTAMP:20260425T135608
CREATED:20210623T140440Z
LAST-MODIFIED:20210623T140440Z
UID:8224-1631208600-1631219400@flbikers.com
SUMMARY:Great Chicago Fire Thursday Bike Night - Sept
DESCRIPTION:Take a break from your week and come visit us! No matter what your riding\, you’re all welcome to the Great Chicago Fire Brewery & Eatery\, Leesburg Florida – Cold Beer\, Full Bar\, Chicago Style Food & Pizza\, Live Music! Come early for our HAPPY HOUR 4-7pm.
URL:https://flbikers.com/event/great-chicago-fire-thursday-bike-night-sept/
LOCATION:Great Chicago Fire Brewery & Eatery\, 311 W. Magnolia\, Leesburg\, FL\, 34748\, United States
END:VEVENT
BEGIN:VEVENT
DTSTART;VALUE=DATE:20210904
DTEND;VALUE=DATE:20210906
DTSTAMP:20260425T135608
CREATED:20210623T134956Z
LAST-MODIFIED:20210623T135841Z
UID:8221-1630713600-1630886399@flbikers.com
SUMMARY:Webster Westside Auto & Motorcycle Swap Meet & Show
DESCRIPTION:Webster Westside Market presents Florida’s largest monthly car and motorcycle swap meet & show! \nMore than 200 vendors provide both new and used parts and related merchandise. You find everything from that unique part you’ve been looking for\, to a ready-made project car or motorcycle or your own custom ride. You can either buy or sell a car or bike or just enjoy sharing your amazing ride with other enthusiasts. \nIn the show\, we award trophies and cash prizes! So shine up and bring your car or motorcycle and get in on the action. \nFood\, drinks\, an ATM machine and camping are also available.
URL:https://flbikers.com/event/webster-westside-auto-motorcycle-swap-meet-show-2/
LOCATION:Webster Auto and Cycle Swap Meet\, 516 NW 3rd Street\, Webster\, FL\, 33597\, United States
END:VEVENT
BEGIN:VEVENT
DTSTART;TZID=UTC:20210902T190000
DTEND;TZID=UTC:20210902T220000
DTSTAMP:20260425T135608
CREATED:20210623T134719Z
LAST-MODIFIED:20210623T134719Z
UID:8219-1630609200-1630620000@flbikers.com
SUMMARY:West Coast Florida Riders Bike Night
DESCRIPTION:Live Music\, Vendors\, Bike Show\, Bucket Specials & Special Menu/Food Truck
URL:https://flbikers.com/event/west-coast-florida-riders-bike-night-3/
LOCATION:Breeze19 Kitchen-Bar\, 6818 US-19\, New Port Richey\, FL\, 34652\, United States
END:VEVENT
BEGIN:VEVENT
DTSTART;TZID=UTC:20210812T173000
DTEND;TZID=UTC:20210812T203000
DTSTAMP:20260425T135608
CREATED:20210622T182830Z
LAST-MODIFIED:20210622T182830Z
UID:8213-1628789400-1628800200@flbikers.com
SUMMARY:Great Chicago Fire Thursday Bike Night
DESCRIPTION:Motorcycles\, Cold Beer\, Full Bar\, Chicago Style Food & Pizza\, Live Music & Great People!
URL:https://flbikers.com/event/great-chicago-fire-thursday-bike-night-2/
LOCATION:Great Chicago Fire Brewery & Eatery\, 311 W. Magnolia\, Leesburg\, FL\, 34748\, United States
END:VEVENT
BEGIN:VEVENT
DTSTART;TZID=UTC:20210808T080000
DTEND;TZID=UTC:20210808T140000
DTSTAMP:20260425T135608
CREATED:20210623T161625Z
LAST-MODIFIED:20210623T161625Z
UID:8233-1628409600-1628431200@flbikers.com
SUMMARY:Motorcycle Swap Meet
DESCRIPTION:Our Motorcycle Swap Meets take place on the 2nd Sunday of each month! Buy Motorcycle Goods and Meet With other Motorcycle Enthusiasts with Food and Fun!
URL:https://flbikers.com/event/motorcycle-swap-meet-2/
LOCATION:Biker Life Port Charlotte\, 3265 Tamiami Trail\, Port Charlotte\, Florida\, 33952\, United States
END:VEVENT
BEGIN:VEVENT
DTSTART;TZID=UTC:20210807T080000
DTEND;TZID=UTC:20210807T170000
DTSTAMP:20260425T135608
CREATED:20210622T181651Z
LAST-MODIFIED:20210622T181651Z
UID:8207-1628323200-1628355600@flbikers.com
SUMMARY:Pirate's Pub Party
DESCRIPTION:Come  Over and Hang Out With Us For Some Local Fun! We Will Have Drinks\, Food Vendors\, Jewelry Vendors\, and Much More! It’s Always a Fun Time and a Great Ride Through the Country on Scenic Highway 42!
URL:https://flbikers.com/event/pirates-pub-party/
LOCATION:Pirate’s Pub\, 25031 County Road 42\, Paisley\, FL\, 32767\, United States
END:VEVENT
BEGIN:VEVENT
DTSTART;VALUE=DATE:20210807
DTEND;VALUE=DATE:20210809
DTSTAMP:20260425T135608
CREATED:20210622T182111Z
LAST-MODIFIED:20210623T133935Z
UID:8210-1628294400-1628467199@flbikers.com
SUMMARY:Webster Westside Auto & Motorcycle Swap Meet & Show
DESCRIPTION:Florida’s largest monthly car and motorcycle swap meet & show! Since 1995\, this event has catered to motorcycle and car enthusiasts across Florida. \nMore than 200 vendors provide both new and used parts and related merchandise. You find everything from that unique part you’ve been looking for\, to a ready-made project car or motorcycle or your own custom ride. \nIn the corral\, you can either buy or sell a car or bike or just enjoy sharing your amazing ride with other enthusiasts. \nIn the show\, we award trophies and cash prizes! So shine up and bring your car or motorcycle and get in on the action.
URL:https://flbikers.com/event/webster-westside-auto-motorcycle-swap-meet-show/
LOCATION:Webster Auto and Cycle Swap Meet\, 516 NW 3rd Street\, Webster\, FL\, 33597\, United States
END:VEVENT
BEGIN:VEVENT
DTSTART;TZID=UTC:20210805T190000
DTEND;TZID=UTC:20210805T220000
DTSTAMP:20260425T135608
CREATED:20210622T181140Z
LAST-MODIFIED:20210622T181140Z
UID:8205-1628190000-1628200800@flbikers.com
SUMMARY:West Coast Florida Riders Bike Night
DESCRIPTION:Join West Coast With Live Music\, Vendors\, Bike Show\, Bucket Specials & Special Menus and Food Trucks
URL:https://flbikers.com/event/west-coast-florida-riders-bike-night-2/
LOCATION:Breeze19 Kitchen-Bar\, 6818 US-19\, New Port Richey\, FL\, 34652\, United States
END:VEVENT
BEGIN:VEVENT
DTSTART;TZID=UTC:20210730T080000
DTEND;TZID=UTC:20210831T170000
DTSTAMP:20260425T135608
CREATED:20210608T192446Z
LAST-MODIFIED:20210608T192446Z
UID:8192-1627632000-1630429200@flbikers.com
SUMMARY:Warrior Weekend for the 14th Hour Foundation
DESCRIPTION:Friday – Live Music\, Auctions\, Speakers\, Full Bar \nSaturday – Police Escorted Warrior Ride\, Shooting Experience\, Lunch and More \nBenefits the 14th Hour Foundation – dedicated to honoring and supporting individuals and their families who have served and sacrificed to protect the American homeland. \nEvent Hotel\nMarriott Orlando Downtown – 400 West Livingston Street\, Orlando \nConcert Venue\nThe Abbey – 100 South Eola Drive\, Orlando
URL:https://flbikers.com/event/warrior-weekend-for-the-14th-hour-foundation/
LOCATION:Marriott Orlando Downtown\, 400 West Livingston Street\, Orlando\, FL\, United States
END:VEVENT
BEGIN:VEVENT
DTSTART;TZID=UTC:20210724T110000
DTEND;TZID=UTC:20210724T170000
DTSTAMP:20260425T135608
CREATED:20210608T191813Z
LAST-MODIFIED:20210608T191813Z
UID:8189-1627124400-1627146000@flbikers.com
SUMMARY:Great American Motofest
DESCRIPTION:Enjoy a Motorcycle Rodeo\, Hot Rod Roundup\, Chopper Show\, Ride-In Bike Show\, Pin-Up Contest\, Live Music\, Vendors\, Swap Meet and More.
URL:https://flbikers.com/event/great-american-motofest/
LOCATION:906 Sam Allen Road\, 906 Sam Allen Road\, Plant City\, FL\, United States
END:VEVENT
BEGIN:VEVENT
DTSTART;TZID=UTC:20210724T090000
DTEND;TZID=UTC:20210724T170000
DTSTAMP:20260425T135608
CREATED:20210608T191538Z
LAST-MODIFIED:20210608T192000Z
UID:8187-1627117200-1627146000@flbikers.com
SUMMARY:Freedom Ride to End Sex Trafficking
DESCRIPTION:A Statewide Event held at multiple locations throughout Florida and beyond to benefit Operation Underground Railroad (O.U.R.) \nThere will be a Ride\, Music\, Food & Refreshments \nAdvance Registration: $25 Riders – $15 Passengers\nDay of: $30 Riders – $20 Passengers \nLocations:\nSanford (Orlando Area) – Seminole Harley Davidson\nFort Lauderdale – Alligator Alley Harley Davidson\nFort Myers – Rock Star Harley Davidson\nTampa – Bert’s Barracuda Harley Davidson\nSt Augustine – Adamec Harley Davidson\nPensacola – Pensacola Harley Davidson\nTitusville – Miracle City Harley Davidson\nPalm Bay – Space Coast Harley Davidson\nStuart – Treasure Coast Harley Davidson\nDaytona Beach – Bruce Rossmeyer’s Harley Davidson
URL:https://flbikers.com/event/freedom-ride-to-end-sex-trafficking/
END:VEVENT
BEGIN:VEVENT
DTSTART;TZID=UTC:20210720T100000
DTEND;TZID=UTC:20210720T170000
DTSTAMP:20260425T135608
CREATED:20210608T191142Z
LAST-MODIFIED:20210608T191142Z
UID:8184-1626775200-1626800400@flbikers.com
SUMMARY:The Great American Redneck Biker Bash
DESCRIPTION:Bike Show with Trophies & Awards\, Bike & People Games & Contests\, Bikini Bike Wash\, Raffles\, Vendors\, Food & Drink and a Whole Lot of Fun!
URL:https://flbikers.com/event/the-great-american-redneck-biker-bash/
LOCATION:Harley Davidson of New Port Richie\, 5817 State Road 54\, New Port Richey\, FL\, 34652\, United States
END:VEVENT
BEGIN:VEVENT
DTSTART;TZID=UTC:20210711T080000
DTEND;TZID=UTC:20210711T140000
DTSTAMP:20260425T135608
CREATED:20210608T190119Z
LAST-MODIFIED:20210608T190119Z
UID:8182-1625990400-1626012000@flbikers.com
SUMMARY:Motorcycle Swap Meet
DESCRIPTION:Buy\, Sell\, Swap Motorcycle Parts and Accessories. Proceeds from the event benefit the Harry Chapin Food Bank
URL:https://flbikers.com/event/motorcycle-swap-meet/
LOCATION:Biker Life\, 3265 Tamiami Trail\, Port Charlotte\, FL\, 33952\, United States
END:VEVENT
BEGIN:VEVENT
DTSTART;TZID=UTC:20210710T123000
DTEND;TZID=UTC:20210710T180000
DTSTAMP:20260425T135608
CREATED:20210608T184902Z
LAST-MODIFIED:20210608T184902Z
UID:8180-1625920200-1625940000@flbikers.com
SUMMARY:Tampa Bay Heroes Freedom Fest
DESCRIPTION:The Tampa Bay Heroes Freedom Fest\, supports our Veterans and First Responders. Meet Some Hometown Heroes While Enjoying Great Music\, Drinks\, Food\, Venders\, Contests\, Raffles and More
URL:https://flbikers.com/event/tampa-bay-heroes-freedom-fest/
LOCATION:Bert’s Barracuda Harley Davidson\, 10525 49th St. N\, Clearwater\, FL\, 33762\, United States
END:VEVENT
BEGIN:VEVENT
DTSTART;TZID=UTC:20210708T173000
DTEND;TZID=UTC:20210708T203000
DTSTAMP:20260425T135608
CREATED:20210608T184557Z
LAST-MODIFIED:20210608T184557Z
UID:8178-1625765400-1625776200@flbikers.com
SUMMARY:Great Chicago Fire Thursday Bike Night
DESCRIPTION:Motorcycles\, Cold Beer\, Full Bar\, Chicago Style Food & Pizza\, Live Music & Great People!
URL:https://flbikers.com/event/great-chicago-fire-thursday-bike-night/
LOCATION:Great Chicago Fire Brewery & Eatery\, 311 W. Magnolia\, Leesburg\, FL\, 34748\, United States
END:VEVENT
BEGIN:VEVENT
DTSTART;TZID=UTC:20210702T180000
DTEND;TZID=UTC:20210702T220000
DTSTAMP:20260425T135608
CREATED:20210607T190217Z
LAST-MODIFIED:20210607T190217Z
UID:8175-1625248800-1625263200@flbikers.com
SUMMARY:Rev\, White and Brew
DESCRIPTION:The Lead Foot City “Rev\, White & Brew Festival” will get you in the patriotic spirit! Complete with a Car\, Truck\, Bike Show\, Live Music\, Food Trucks\, Eating Contests\, Burnout Contest\, Beer\, oh and did we mention… FIREWORKS!! Hear music by headlining band\, Jaded.
URL:https://flbikers.com/event/rev-white-and-brew/
LOCATION:Lead Foot City\, 17109 Old Ayers Road\, Brooksville\, FL\, 34604\, United States
END:VEVENT
BEGIN:VEVENT
DTSTART;TZID=UTC:20210626T100000
DTEND;TZID=UTC:20210626T140000
DTSTAMP:20260425T135608
CREATED:20210601T180328Z
LAST-MODIFIED:20210601T180328Z
UID:8155-1624701600-1624716000@flbikers.com
SUMMARY:MCHD H.O.G. Chapter Bike Show
DESCRIPTION:MCHD H.O.G. Chapter & Ladies of Harley Presents a Car and Bike Show with Prize Winners. Top 2 Peoples’ Choice Bikes & Top 2 Peoples’ Choice Cars. Food is provided and vendors are welcome.\n\nTo register: call (321) 307-2755 or email ladiesofharleymchd@gmail.com\nVehicle Registration:\nBIKES • $10\nCARS • $15\n*Proceeds to benefit local charities*
URL:https://flbikers.com/event/mchd-h-o-g-chapter-bike-show/
LOCATION:Miracle City Harley-Davidson\, 2405 South Hopkins Avenue\, Titusville\, Florida\, 32780\, United States
END:VEVENT
BEGIN:VEVENT
DTSTART;TZID=UTC:20210620T090000
DTEND;TZID=UTC:20210620T150000
DTSTAMP:20260425T135608
CREATED:20210601T175139Z
LAST-MODIFIED:20210601T175139Z
UID:8152-1624179600-1624201200@flbikers.com
SUMMARY:Crossroads Father's Day Car\, Truck & Motorcycle Show
DESCRIPTION:The 11th Annual Crossroads Father’s Day Car\, Truck & Motorcycle Show is a Multi-Class Car\, Truck & Motorcycle Show for all Makes\, Models and Years. There will also be Live Music\, 50/50\, Giveaways\, Food Trucks\, Worship Service and More
URL:https://flbikers.com/event/crossroads-fathers-day-car-truck-motorcycle-show/
LOCATION:Crossroads Christian Church\, 3838 State Road 44\, New Smyrna Beach\, FL\, 32168\, United States
END:VEVENT
BEGIN:VEVENT
DTSTART;TZID=UTC:20210619T090000
DTEND;TZID=UTC:20210619T170000
DTSTAMP:20260425T135608
CREATED:20210601T173652Z
LAST-MODIFIED:20210601T173652Z
UID:8149-1624093200-1624122000@flbikers.com
SUMMARY:Sea 2 Sea 4 PTSD Awareness Ride
DESCRIPTION:This Ride is Escorted by the Lake County Sheriff’s Office. The Ride Starts at St John’s Hops (40923 Maxwell rd. Umatilla) and Ends at Gator H-D (1745 US Hwy 441\, Leesburg) with Live Music (from 11:30-3:30PM)\, Vendors\, Food Truck\, Full Bar and More.
URL:https://flbikers.com/event/sea-2-sea-4-ptsd-awareness-ride/
LOCATION:St Johns Hops\, 40923 Maxwell rd\, Umatilla\, FL\, United States
END:VEVENT
BEGIN:VEVENT
DTSTART;TZID=UTC:20210613T080000
DTEND;TZID=UTC:20210613T140000
DTSTAMP:20260425T135608
CREATED:20210601T172821Z
LAST-MODIFIED:20210601T172821Z
UID:8145-1623571200-1623592800@flbikers.com
SUMMARY:Biker Life Motorcycle Swap Meet
DESCRIPTION:Buy\, Sell\, Swap Motorcycle Parts and Accessories with the Proceeds benefiting the Harry Chapin Food Bank.
URL:https://flbikers.com/event/biker-life-motorcycle-swap-meet/
LOCATION:Biker Life\, 3265 Tamiami Trail\, Port Charlotte\, FL\, 33952\, United States
END:VEVENT
BEGIN:VEVENT
DTSTART;TZID=UTC:20210612T110000
DTEND;TZID=UTC:20210612T170000
DTSTAMP:20260425T135608
CREATED:20210601T171902Z
LAST-MODIFIED:20210601T171902Z
UID:8142-1623495600-1623517200@flbikers.com
SUMMARY:Family Fun Day
DESCRIPTION:Join Lakeland Harley Davidson for their Family Fun Day that has Bounce Houses\, Axe throwing\, Meet Cottonelle the lamb from 1-2\, Free Food\, Drinks and Live Music.
URL:https://flbikers.com/event/family-fun-day/
LOCATION:Lakeland Harley-Davidson\, 4202 Lakeland Hills Blvd\, Lakeland\, FL\, 33805\, United States
END:VEVENT
BEGIN:VEVENT
DTSTART;TZID=UTC:20210606T100000
DTEND;TZID=UTC:20210606T150000
DTSTAMP:20260425T135608
CREATED:20210601T170639Z
LAST-MODIFIED:20210601T170639Z
UID:8138-1622973600-1622991600@flbikers.com
SUMMARY:Rockabilly Car and Bike Show
DESCRIPTION:Join Adamec Harley-Davidson for their Bike Show that will have Trophies\, Pin-Up Contest\, Live Music\, Vendors\, Food & Drinks\, Raffles and More.
URL:https://flbikers.com/event/rockabilly-car-and-bike-show/
LOCATION:Adamec Harley-Davidson\, 1520 Wells Rd\, Orange Park\, FL\, 32073\, United States
END:VEVENT
BEGIN:VEVENT
DTSTART;TZID=UTC:20210605T180000
DTEND;TZID=UTC:20210605T210000
DTSTAMP:20260425T135608
CREATED:20210527T191429Z
LAST-MODIFIED:20210527T191429Z
UID:8129-1622916000-1622926800@flbikers.com
SUMMARY:Harley Luau
DESCRIPTION:Bike Night at Tanners Lakeside Restaurant & Bar with Live music\, Drink specials\, Vendors on-site\, and Live music from DJ Billy.
URL:https://flbikers.com/event/harley-luau/
LOCATION:Tanners Lakeside Restaurant and Bar\, 4202 Lakeland Hills Blvd\, Lakeland\, Florida
END:VEVENT
BEGIN:VEVENT
DTSTART;TZID=UTC:20210605T080000
DTEND;TZID=UTC:20210605T150000
DTSTAMP:20260425T135608
CREATED:20210601T165704Z
LAST-MODIFIED:20210601T165704Z
UID:8133-1622880000-1622905200@flbikers.com
SUMMARY:Veteran Salute Benefit\, Car\, Truck\, & Motorcycle Show
DESCRIPTION:Join the Marine Corps League\, Detachment 57 and Bert Barracuda Harley Davidson\, as they proudly present the inaugural\nVeterans Salute Benefit Car\, Truck\, & Motorcycle Show. There will be Food & Drinks\, Raffles\, Silent Auction and Fun. The motorcycle show entry fee is $25.
URL:https://flbikers.com/event/veteran-salute-benefit-car-truck-motorcycle-show/
LOCATION:Bert’s Barracuda Harley Davidson\, 10525 49th Street N\, Pinellas Park\, 33762\, United States
END:VEVENT
BEGIN:VEVENT
DTSTART;TZID=UTC:20210604T180000
DTEND;TZID=UTC:20210604T210000
DTSTAMP:20260425T135608
CREATED:20210527T190623Z
LAST-MODIFIED:20210527T190623Z
UID:8126-1622829600-1622840400@flbikers.com
SUMMARY:Seminole Harley-Davidson Bike Night
DESCRIPTION:Join Seminole Harley-Davidson for their monthly Bike Night!
URL:https://flbikers.com/event/seminole-harley-davidson-bike-night/
LOCATION:Seminole Harley-Davidson\, 620 Hickman Cir\, Sanford\, FL\, 32771\, United States
END:VEVENT
BEGIN:VEVENT
DTSTART;TZID=UTC:20210603T190000
DTEND;TZID=UTC:20210603T220000
DTSTAMP:20260425T135608
CREATED:20210527T190211Z
LAST-MODIFIED:20210527T190211Z
UID:8123-1622746800-1622757600@flbikers.com
SUMMARY:West Coast Florida Riders Bike Night
DESCRIPTION:Ain’t No Party Like A West Coast Party!!! \nJoin us for WCFR for their monthly bike night with Live Music\, Vendors\, Bike Show\, Bucket Specials & Special Menu/Food Truck
URL:https://flbikers.com/event/west-coast-florida-riders-bike-night/
LOCATION:Breeze19 Kitchen-Bar\, 6818 US-19\, New Port Richey\, FL\, 34652\, United States
END:VEVENT
END:VCALENDAR