BEGIN:VCALENDAR
VERSION:2.0
PRODID:-//FL Bikers - ECPv6.15.20//NONSGML v1.0//EN
CALSCALE:GREGORIAN
METHOD:PUBLISH
X-WR-CALNAME:FL Bikers
X-ORIGINAL-URL:https://flbikers.com
X-WR-CALDESC:Events for FL Bikers
REFRESH-INTERVAL;VALUE=DURATION:PT1H
X-Robots-Tag:noindex
X-PUBLISHED-TTL:PT1H
BEGIN:VTIMEZONE
TZID:UTC
BEGIN:STANDARD
TZOFFSETFROM:+0000
TZOFFSETTO:+0000
TZNAME:UTC
DTSTART:20190101T000000
END:STANDARD
END:VTIMEZONE
BEGIN:VEVENT
DTSTART;TZID=UTC:20200306T200000
DTEND;TZID=UTC:20200306T233000
DTSTAMP:20260425T034853
CREATED:20200306T151329Z
LAST-MODIFIED:20200306T151329Z
UID:6261-1583524800-1583537400@flbikers.com
SUMMARY:AC/DC Tribute\, featuring Shoot to Thrill
DESCRIPTION:WHO: Hard Rock Hotel Daytona Beach and select tribute bands \nWHAT: From hairbands and heavy metal to straight-up classic rock & roll\, tribute bands will take the stage at Hard Rock Hotel Daytona Beach for a series of free weekly concerts this spring. All concerts will take place on the Wave Terrace\, located on the upper level of the resort\, overlooking the Atlantic Ocean. \nWHEN: Friday nights from March 6 through April 24\, 2020\, 8 p.m. to Midnight
URL:https://flbikers.com/event/ac-dc-tribute-featuring-shoot-to-thrill/
LOCATION:Hard Rock Hotel Daytona Beach 918 N Atlantic Ave\, Flagler Beach\, Florida\, 32118
END:VEVENT
BEGIN:VEVENT
DTSTART;TZID=UTC:20200306T180000
DTEND;TZID=UTC:20200306T210000
DTSTAMP:20260425T034853
CREATED:20200306T161301Z
LAST-MODIFIED:20200306T161301Z
UID:6291-1583517600-1583528400@flbikers.com
SUMMARY:Completely Unchained\, The Ultimate Tribute to Van Halen
DESCRIPTION:The Worlds Greatest Tribute To VANHALEN Doing all the GREATEST Songs ever Recorded from one of America”s Best Rock Bands in the World on site to kick off Bike Week!! This is a Free Concert!
URL:https://flbikers.com/event/completely-unchained-the-ultimate-tribute-to-van-halen/
LOCATION:Space Coast Harley-Davidson 1440 Sportsman Lane NE\, Palm Bay\, Florida\, 32905
END:VEVENT
BEGIN:VEVENT
DTSTART;TZID=UTC:20200208T090000
DTEND;TZID=UTC:20200208T170000
DTSTAMP:20260425T034853
CREATED:20200128T155425Z
LAST-MODIFIED:20200128T155425Z
UID:6124-1581152400-1581181200@flbikers.com
SUMMARY:LUTZAPALOOZA 2020 BROWARD
DESCRIPTION:Live Music\, Delicious Food\, Dynamic Speakers\, Military Honors & Awards\, everything that encompasses the essence of diversity and patriotism that is Broward County will be at this event. Kicking off the event will be a 37-mile motorcycle honor ride with MC’s and riders from all over the country starting at Alligator Alley Harley-Davidson and ending at Markham park. The LUTZapalooza Community Festivities will be at Markham Park and will include:\n● New vehicle and product display\n● Live Bands (headliner TBA)\n● Military Vehicles display\n● Appearance of Tank03xx (mobile command unit)\n● Performances by the Lutz Live To Tell Honor Guard\n● Keynote speakers Boone Cutler & Mama Lutz\n● Family Fun Activities\n● Police & Fire Vehicles + SWAT Demonstration\n● Beer Trucks\n● Food\, Vendors\, and Local Non-Profits\n● Spartan Sword brought by NYFD-was forged from the Twin Towers Steal\n● And Much More… \nVendors Wanted \nContact Phone	(954) 445-1590 – Janine Lutz\nContact Email	j9lutz@gmail.com\nEvent URL	lcpllutzlivetotell.org/lutz-buddy-up/
URL:https://flbikers.com/event/lutzapalooza-2020-broward/
LOCATION:201 INTERNATIONAL PARKWAY Sunrise\, Fl 33325\, 201 INTERNATIONAL PARKWAY\, Sunrise\, FL\, 33325\, United States
END:VEVENT
END:VCALENDAR