BEGIN:VCALENDAR
VERSION:2.0
PRODID:-//FL Bikers - ECPv6.15.20//NONSGML v1.0//EN
CALSCALE:GREGORIAN
METHOD:PUBLISH
X-WR-CALNAME:FL Bikers
X-ORIGINAL-URL:https://flbikers.com
X-WR-CALDESC:Events for FL Bikers
REFRESH-INTERVAL;VALUE=DURATION:PT1H
X-Robots-Tag:noindex
X-PUBLISHED-TTL:PT1H
BEGIN:VTIMEZONE
TZID:UTC
BEGIN:STANDARD
TZOFFSETFROM:+0000
TZOFFSETTO:+0000
TZNAME:UTC
DTSTART:20240101T000000
END:STANDARD
END:VTIMEZONE
BEGIN:VEVENT
DTSTART;TZID=UTC:20250830T190000
DTEND;TZID=UTC:20250830T210000
DTSTAMP:20260425T152506
CREATED:20250721T220235Z
LAST-MODIFIED:20250721T220235Z
UID:40282-1756580400-1756587600@flbikers.com
SUMMARY:ALR August Bike Night @ Captain and Tequilla Dockside
DESCRIPTION:Event Details\n\n\n\nSat\, Aug 30\, 2025\n7:00 PM – 9:00 PM\n\n\nCaptain and Tequilla Dockside\n\n\n69 Lakeview Dr\n\n\nKissimmee\, FL 34741\n\n\nJoin the American Legion Riders the last Saturday of every month for Bike Night\n\nDJ Music\n$2 Domestics \nRaffles 50/50\nMoney raised stays in the community \nand Lots of Fun
URL:https://flbikers.com/event/alr-august-bike-night-captain-and-tequilla-dockside/
LOCATION:69 lakeview dr\, 69 Lakeview Dr\, Kissimmee\, FL\, 34741
END:VEVENT
END:VCALENDAR