BEGIN:VCALENDAR
VERSION:2.0
PRODID:-//FL Bikers - ECPv6.15.20//NONSGML v1.0//EN
CALSCALE:GREGORIAN
METHOD:PUBLISH
X-ORIGINAL-URL:https://flbikers.com
X-WR-CALDESC:Events for FL Bikers
REFRESH-INTERVAL;VALUE=DURATION:PT1H
X-Robots-Tag:noindex
X-PUBLISHED-TTL:PT1H
BEGIN:VTIMEZONE
TZID:UTC
BEGIN:STANDARD
TZOFFSETFROM:+0000
TZOFFSETTO:+0000
TZNAME:UTC
DTSTART:20240101T000000
END:STANDARD
END:VTIMEZONE
BEGIN:VEVENT
DTSTART;VALUE=DATE:20250801
DTEND;VALUE=DATE:20250804
DTSTAMP:20260425T163342
CREATED:20250625T191005Z
LAST-MODIFIED:20250625T191005Z
UID:40256-1754006400-1754265599@flbikers.com
SUMMARY:Too Broke for Sturgis at Scooter Haven Country Club
DESCRIPTION:Event Details\n\n\n\nFri\, Aug 01\, 2025 –\nSun\, Aug 03\, 2025\n\n\nScooter Haven Country Club\n\n\n19350 SE Butler Rd\n\n\nInglis\, FL 34449\n\n\n\n\n\nCan’t make it to Sturgis this year? \nJoin us at Scooter Haven Country Club for a weekend of fun… \nLive Music\nRivals & Villains\n(more bands TBA) \nVendors \nFood Trucks \nand Lots More Fun being planned \nTent & RV Camping Available
URL:https://flbikers.com/event/too-broke-for-sturgis-at-scooter-haven-country-club/
LOCATION:Scooter Haven 19350 SE Butler Rd\, Inglis\, Florida 34449
END:VEVENT
BEGIN:VEVENT
DTSTART;VALUE=DATE:20250802
DTEND;VALUE=DATE:20250804
DTSTAMP:20260425T163342
CREATED:20250709T215537Z
LAST-MODIFIED:20250709T215537Z
UID:40266-1754092800-1754265599@flbikers.com
SUMMARY:Webster Motorcycle Swap Meet
DESCRIPTION:2025 Swap Meet Dates –\nAug 2 & 3\,  Sept. 6 & 7\,  Oct. 4 & 5\,  Nov. 1 & 2\,  Dec. 6 & 7 \nThe first Sunday and Saturday of every month. Webster Westside presents Florida’s largest monthly motorcycle swap meet!  Since 1995\, this event has catered to motorcycle enthusiasts across Florida. \nWe have vendors that sell both new and used parts and related merchandise. You find everything from that unique part you’ve been looking for\, to a ready-made project motorcycle or your own custom ride. \nGreat shopping\, hot food\, cold drinks\, an ATM machine\, overnight night camping and early vendor setup is also available. Make  the Webster Cycle Swap Meet  a regular ride for you… mark your calendar to attend the 1st Sunday/Saturday of every month\, year-round. We’ll be there rain or shine! \nEvent Details\n\n\n\nSat\, Aug 02\, 2025 –\nSun\, Aug 03\, 2025\n\n\nWebster Cycle Swap Meet\n\n\n516 NW 3rd St\n\n\nWebster\, FL 33597
URL:https://flbikers.com/event/webster-motorcycle-swap-meet-4/
LOCATION:516 NW 3rd St. Webster\, Florida 33597
END:VEVENT
END:VCALENDAR