BEGIN:VCALENDAR
VERSION:2.0
PRODID:-//FL Bikers - ECPv6.15.20//NONSGML v1.0//EN
CALSCALE:GREGORIAN
METHOD:PUBLISH
X-ORIGINAL-URL:https://flbikers.com
X-WR-CALDESC:Events for FL Bikers
REFRESH-INTERVAL;VALUE=DURATION:PT1H
X-Robots-Tag:noindex
X-PUBLISHED-TTL:PT1H
BEGIN:VTIMEZONE
TZID:UTC
BEGIN:STANDARD
TZOFFSETFROM:+0000
TZOFFSETTO:+0000
TZNAME:UTC
DTSTART:20230101T000000
END:STANDARD
END:VTIMEZONE
BEGIN:VEVENT
DTSTART;VALUE=DATE:20241121
DTEND;VALUE=DATE:20241125
DTSTAMP:20260426T011524
CREATED:20240423T154000Z
LAST-MODIFIED:20240423T154000Z
UID:30284-1732147200-1732492799@flbikers.com
SUMMARY:St. Pete Beach BikerFest 2024
DESCRIPTION:JOIN US FOR ST. PETE BIKEFEST™ NOVEMBER 16-19\, 2023!  \n  \nPresented by Bert’s Barracuda and Bert’s Black Widow Harley-Davidson®\, this four day event is one of the best rallies in the state! \n  \nIn the heart of the Tampa Bay area\, near the award winning sand of St. Pete Beach\, Florida\, attendees will have endless opportunities for things to do. \n  \nFEATURED EVENTS \n\nNightly concerts – National Acts\nFree afternoon concerts – Regional Favorites\nOrange County Choppers Personal Appearances\nBike Shows\nTons of Vendors\nSkyway Charity Ride \n\n  \nHosted by Orange County Choppers Road House & Museum with incredible packages available at RumFish Beach Resort by TradeWinds\, the official hotel of St. Pete BikeFest.
URL:https://flbikers.com/event/st-pete-beach-bikerfest-2024/
LOCATION:FL
END:VEVENT
END:VCALENDAR