BEGIN:VCALENDAR
VERSION:2.0
PRODID:-//FL Bikers - ECPv6.15.20//NONSGML v1.0//EN
CALSCALE:GREGORIAN
METHOD:PUBLISH
X-WR-CALNAME:FL Bikers
X-ORIGINAL-URL:https://flbikers.com
X-WR-CALDESC:Events for FL Bikers
REFRESH-INTERVAL;VALUE=DURATION:PT1H
X-Robots-Tag:noindex
X-PUBLISHED-TTL:PT1H
BEGIN:VTIMEZONE
TZID:UTC
BEGIN:STANDARD
TZOFFSETFROM:+0000
TZOFFSETTO:+0000
TZNAME:UTC
DTSTART:20230101T000000
END:STANDARD
END:VTIMEZONE
BEGIN:VEVENT
DTSTART;VALUE=DATE:20241109
DTEND;VALUE=DATE:20241110
DTSTAMP:20260426T024535
CREATED:20241108T162732Z
LAST-MODIFIED:20241108T162732Z
UID:33222-1731110400-1731196799@flbikers.com
SUMMARY:Gainesville Harley Davidson 23rd Annual Chili Cook-Off
DESCRIPTION:Head over to Gainesville Harley Davidson for a delicious day of amazing chili and cash prizes!
URL:https://flbikers.com/event/gainesville-harley-davidson-23rd-annual-chili-cook-off/
LOCATION:Gainesville Harley-Davidson 4125 NW 97th Blvd\, Gainesville\, FL 32606
END:VEVENT
BEGIN:VEVENT
DTSTART;TZID=UTC:20241109T110000
DTEND;TZID=UTC:20241109T160000
DTSTAMP:20260426T024535
CREATED:20241108T154051Z
LAST-MODIFIED:20241108T154051Z
UID:33218-1731150000-1731168000@flbikers.com
SUMMARY:St. Pete Fools Charity Ride
DESCRIPTION:The members of the St Pete Fools along with local residents and community members will ride throughout the St. Petersburg area\, including across the Skyway Bridge\, with breaks and stops at local businesses. \nMotorcycles | Ride Over the Sunshine Skyway\nSt. Pete Police Department Escort\nMerchandise & Fools Ash Cigars for Sale\n50/50 Raffle + Prizes\nFood & Drinks\nLive Entertainment\nProceeds Benefit Local Charities
URL:https://flbikers.com/event/st-pete-fools-charity-ride/
LOCATION:OCC Road House & Museum 10575 49th St N\, Clearwater\, Florida 33762
END:VEVENT
BEGIN:VEVENT
DTSTART;TZID=UTC:20241109T110000
DTEND;TZID=UTC:20241109T170000
DTSTAMP:20260426T024535
CREATED:20241108T154630Z
LAST-MODIFIED:20241108T154630Z
UID:33220-1731150000-1731171600@flbikers.com
SUMMARY:Bikes N Bass Fall Bash & Custom Bike Show
DESCRIPTION:Get ready for an unforgettable day at the Bikes N Bass Fall Bash Custom Bike Show \nShow off your ride or admire the best bikes around! Compete in various classes \nThere will be a DJ\, Vendors\, Food Trucks\, and Lots of Fun!
URL:https://flbikers.com/event/bikes-n-bass-fall-bash-custom-bike-show/
LOCATION:Space Coast Harley-Davidson 1440 Sportsman Lane NE\, Palm Bay\, Florida\, 32905
END:VEVENT
END:VCALENDAR