BEGIN:VCALENDAR
VERSION:2.0
PRODID:-//FL Bikers - ECPv6.15.20//NONSGML v1.0//EN
CALSCALE:GREGORIAN
METHOD:PUBLISH
X-ORIGINAL-URL:https://flbikers.com
X-WR-CALDESC:Events for FL Bikers
REFRESH-INTERVAL;VALUE=DURATION:PT1H
X-Robots-Tag:noindex
X-PUBLISHED-TTL:PT1H
BEGIN:VTIMEZONE
TZID:UTC
BEGIN:STANDARD
TZOFFSETFROM:+0000
TZOFFSETTO:+0000
TZNAME:UTC
DTSTART:20230101T000000
END:STANDARD
END:VTIMEZONE
BEGIN:VEVENT
DTSTART;VALUE=DATE:20241026
DTEND;VALUE=DATE:20241103
DTSTAMP:20260426T011648
CREATED:20240423T152324Z
LAST-MODIFIED:20240423T152324Z
UID:30281-1729900800-1730591999@flbikers.com
SUMMARY:High Seas Rally 2024 - Motorcycle Rally on a Cruise Ship
DESCRIPTION:High Seas is an ALL-INCLUSIVE biker vacation with 7 days of wild parties\, rockin’ live music\, big-money raffles\, kickass theme nights and Caribbean island adventures. \n  \nThe World’s Only Motorcycle Rally on a Cruise Ship has sailed the high seas since 2003\, bringing together motorcycle enthusiasts from around the world for one-of-a-kind adventures at amazing destinations. \n  \n2024 marks the 23rd High Seas Rally sailing\, each powered by legions of bike enthusiasts who come together for a first-class vacation in celebration of the their love of motorcycles and the freedom of the high seas. For the first time\, High Seas Rally is All-INCLUSIVE\, with a Royal Caribbean Deluxe Drink Package free to all guests.
URL:https://flbikers.com/event/high-seas-rally-2024-motorcycle-rally-on-a-cruise-ship/
LOCATION:Port of Tampa Bay
END:VEVENT
END:VCALENDAR