BEGIN:VCALENDAR
VERSION:2.0
PRODID:-//FL Bikers - ECPv6.15.20//NONSGML v1.0//EN
CALSCALE:GREGORIAN
METHOD:PUBLISH
X-WR-CALNAME:FL Bikers
X-ORIGINAL-URL:https://flbikers.com
X-WR-CALDESC:Events for FL Bikers
REFRESH-INTERVAL;VALUE=DURATION:PT1H
X-Robots-Tag:noindex
X-PUBLISHED-TTL:PT1H
BEGIN:VTIMEZONE
TZID:UTC
BEGIN:STANDARD
TZOFFSETFROM:+0000
TZOFFSETTO:+0000
TZNAME:UTC
DTSTART:20230101T000000
END:STANDARD
END:VTIMEZONE
BEGIN:VEVENT
DTSTART;VALUE=DATE:20241017
DTEND;VALUE=DATE:20241021
DTSTAMP:20260425T233639
CREATED:20240423T152143Z
LAST-MODIFIED:20240423T152143Z
UID:30279-1729123200-1729468799@flbikers.com
SUMMARY:Biketoberfest Daytona Beach 2024
DESCRIPTION:2024 marks the 32nd Annual Daytona Beach Biktoberfest  \n \nBiketoberfest® celebrates the motorcycle lifestyle with something for all bikers\, riders and motorcycle enthusiasts. \n\nOver 100\,000 motorcycles roll into Daytona Beach to enjoy beautiful Florida weather\, live music & entertainment\, motorcycle racing at Daytona International Speedway\, scenic rides\, motorcycle shows\, custom bike builds and hundreds of the industry’s top vendors.
URL:https://flbikers.com/event/biketoberfest-daytona-beach-2024/
LOCATION:Daytona Beach
END:VEVENT
BEGIN:VEVENT
DTSTART;VALUE=DATE:20241017
DTEND;VALUE=DATE:20241021
DTSTAMP:20260425T233639
CREATED:20240913T171423Z
LAST-MODIFIED:20240913T171423Z
UID:30428-1729123200-1729468799@flbikers.com
SUMMARY:Hogtoberfest - Orlando Harley Davidson
DESCRIPTION:Celebrate the ultimate biker festival at Hogtoberfest! This multi-day event features live music\, food vendors\, demo rides\, and custom bike showcases. Enjoy exclusive sales on Harley gear and parts\, meet fellow riders\, and immerse yourself in the exciting atmosphere. Whether you’re a seasoned rider or just love the culture\, this event is perfect for all Harley enthusiasts. \nFor more details\, visit the Orlando Harley-Davidson event page.
URL:https://flbikers.com/event/hogtoberfest-orlando-harley-davidson/
LOCATION:Orlando Harley-Davidson 3770 37th St\, Orlando\, FL 32805
END:VEVENT
END:VCALENDAR