BEGIN:VCALENDAR
VERSION:2.0
PRODID:-//FL Bikers - ECPv6.15.20//NONSGML v1.0//EN
CALSCALE:GREGORIAN
METHOD:PUBLISH
X-ORIGINAL-URL:https://flbikers.com
X-WR-CALDESC:Events for FL Bikers
REFRESH-INTERVAL;VALUE=DURATION:PT1H
X-Robots-Tag:noindex
X-PUBLISHED-TTL:PT1H
BEGIN:VTIMEZONE
TZID:UTC
BEGIN:STANDARD
TZOFFSETFROM:+0000
TZOFFSETTO:+0000
TZNAME:UTC
DTSTART:20230101T000000
END:STANDARD
END:VTIMEZONE
BEGIN:VEVENT
DTSTART;VALUE=DATE:20240907
DTEND;VALUE=DATE:20240908
DTSTAMP:20260425T170107
CREATED:20240826T182724Z
LAST-MODIFIED:20240826T182724Z
UID:30404-1725667200-1725753599@flbikers.com
SUMMARY:Combat Veterans Motorcycle Association Scavenger Hunt
DESCRIPTION:Organized by the Combat Veterans Motorcycle Association\, this event offers a thrilling combination of a scavenger hunt and a group ride. Participants will navigate through various checkpoints\, completing challenges and collecting items along the way. It’s a great opportunity to enjoy a day of camaraderie\, riding\, and fun\, all while supporting a good cause. Riders of all levels are welcome to join in on this exciting adventure.
URL:https://flbikers.com/event/combat-veterans-motorcycle-association-scavenger-hunt/
LOCATION:AMVETS\, 227 S Dover Rd\, Dover\, FL\, 33527\, United States
END:VEVENT
BEGIN:VEVENT
DTSTART;TZID=UTC:20240907T100000
DTEND;TZID=UTC:20240907T170000
DTSTAMP:20260425T170107
CREATED:20240826T183031Z
LAST-MODIFIED:20240826T183031Z
UID:30407-1725703200-1725728400@flbikers.com
SUMMARY:Police & Civilians Motorcycle Skills Challenge
DESCRIPTION:This event is perfect for those who love a weekend of mudding\, off-roading\, and outdoor fun. Hosted at the Soggy Bottom Mud Park\, attendees can expect live music\, food vendors\, and plenty of muddy trails to tackle with their ATVs\, trucks\, and other off-road vehicles. It’s an ideal event for adventure seekers and those looking to experience some serious mud action. \nFor more details\, check out their Facebook event page.
URL:https://flbikers.com/event/police-civilians-motorcycle-skills-challenge/
LOCATION:Orlando Harley-Davidson 3770 37th St\, Orlando\, FL 32805
END:VEVENT
END:VCALENDAR