BEGIN:VCALENDAR
VERSION:2.0
PRODID:-//FL Bikers - ECPv6.15.20//NONSGML v1.0//EN
CALSCALE:GREGORIAN
METHOD:PUBLISH
X-WR-CALNAME:FL Bikers
X-ORIGINAL-URL:https://flbikers.com
X-WR-CALDESC:Events for FL Bikers
REFRESH-INTERVAL;VALUE=DURATION:PT1H
X-Robots-Tag:noindex
X-PUBLISHED-TTL:PT1H
BEGIN:VTIMEZONE
TZID:UTC
BEGIN:STANDARD
TZOFFSETFROM:+0000
TZOFFSETTO:+0000
TZNAME:UTC
DTSTART:20230101T000000
END:STANDARD
END:VTIMEZONE
BEGIN:VEVENT
DTSTART;TZID=UTC:20240815T170000
DTEND;TZID=UTC:20240815T210000
DTSTAMP:20260425T191832
CREATED:20240812T141639Z
LAST-MODIFIED:20240812T141639Z
UID:30396-1723741200-1723755600@flbikers.com
SUMMARY:Throttle Thursday Bike Night
DESCRIPTION:Every 3rd Thurs. is Bike Night at War Horse Harley-Davidson! Hang out with The Horde of Culture Band 5-9pm! Grab a Free Bike Wash! Warrior Wheels Foundation will be onsite. Enjoy cold drinks\, raffles\, available food and more. .
URL:https://flbikers.com/event/throttle-thursday-bike-night/
LOCATION:War Horse Harley-Davidson 5331 N US Hwy 441\, Ocala\, FL 34475
END:VEVENT
END:VCALENDAR