BEGIN:VCALENDAR
VERSION:2.0
PRODID:-//FL Bikers - ECPv6.15.20//NONSGML v1.0//EN
CALSCALE:GREGORIAN
METHOD:PUBLISH
X-WR-CALNAME:FL Bikers
X-ORIGINAL-URL:https://flbikers.com
X-WR-CALDESC:Events for FL Bikers
REFRESH-INTERVAL;VALUE=DURATION:PT1H
X-Robots-Tag:noindex
X-PUBLISHED-TTL:PT1H
BEGIN:VTIMEZONE
TZID:UTC
BEGIN:STANDARD
TZOFFSETFROM:+0000
TZOFFSETTO:+0000
TZNAME:UTC
DTSTART:20230101T000000
END:STANDARD
END:VTIMEZONE
BEGIN:VEVENT
DTSTART;TZID=UTC:20240803T070000
DTEND;TZID=UTC:20240804T140000
DTSTAMP:20260425T143339
CREATED:20240711T154451Z
LAST-MODIFIED:20240711T154451Z
UID:30361-1722668400-1722780000@flbikers.com
SUMMARY:Webster Cycle Swap Meet
DESCRIPTION:Join Florida’s largest monthly motorcycle swap meet featuring vendors with both new and used parts\, project motorcycles\, custom rides\, and more. Enjoy great shopping\, hot food\, cold drinks\, and overnight camping.
URL:https://flbikers.com/event/webster-cycle-swap-meet-2/
LOCATION:516 NW 3rd St. Webster\, Florida 33597
END:VEVENT
BEGIN:VEVENT
DTSTART;TZID=UTC:20240803T110000
DTEND;TZID=UTC:20240803T160000
DTSTAMP:20260425T143339
CREATED:20240711T155111Z
LAST-MODIFIED:20240711T155111Z
UID:30370-1722682800-1722700800@flbikers.com
SUMMARY:Space Coast HOG Grill & Chill
DESCRIPTION:Join the Space Coast HOG Chapter for the Grill & Chill Customer Appreciation Event on Saturday\, August 3\, 2024\, from 11:00 AM to 4:00 PM at Space Coast Harley-Davidson\, 1440 Sportsman Ln NE\, Palm Bay\, FL. Enjoy free beer\, burgers\, hot dogs\, and great times with fellow Harley enthusiasts. This event is a perfect opportunity to relax\, socialize\, and celebrate the vibrant Harley-Davidson community.
URL:https://flbikers.com/event/space-coast-hog-grill-chill-2/
LOCATION:Space Coast Harley-Davidson 1440 Sportsman Lane NE\, Palm Bay\, Florida\, 32905
END:VEVENT
END:VCALENDAR