BEGIN:VCALENDAR
VERSION:2.0
PRODID:-//FL Bikers - ECPv6.15.20//NONSGML v1.0//EN
CALSCALE:GREGORIAN
METHOD:PUBLISH
X-ORIGINAL-URL:https://flbikers.com
X-WR-CALDESC:Events for FL Bikers
REFRESH-INTERVAL;VALUE=DURATION:PT1H
X-Robots-Tag:noindex
X-PUBLISHED-TTL:PT1H
BEGIN:VTIMEZONE
TZID:UTC
BEGIN:STANDARD
TZOFFSETFROM:+0000
TZOFFSETTO:+0000
TZNAME:UTC
DTSTART:20230101T000000
END:STANDARD
END:VTIMEZONE
BEGIN:VEVENT
DTSTART;TZID=UTC:20240731T170000
DTEND;TZID=UTC:20240731T210000
DTSTAMP:20260425T180157
CREATED:20240711T155004Z
LAST-MODIFIED:20240711T155004Z
UID:30368-1722445200-1722459600@flbikers.com
SUMMARY:End of the Month Extravaganza
DESCRIPTION:Join us for the End of the Month Extravaganza at War Horse Harley-Davidson on Wednesday\, July 31\, 2024\, from 5:00 PM to 9:00 PM. Enjoy live music by Propaganjah\, exciting raffles\, a free bike wash\, a cash bar\, and delicious food by Poppy Dog’s. All proceeds benefit Vets on Sets\, sponsored by the Warrior Wheels Foundation. Don’t miss out on the fun and community spirit! \nFor more information\, visit the event page.
URL:https://flbikers.com/event/end-of-the-month-extravaganza/
LOCATION:War Horse Harley-Davidson 5331 N US Hwy 441\, Ocala\, FL 34475
END:VEVENT
END:VCALENDAR