BEGIN:VCALENDAR
VERSION:2.0
PRODID:-//FL Bikers - ECPv6.15.20//NONSGML v1.0//EN
CALSCALE:GREGORIAN
METHOD:PUBLISH
X-WR-CALNAME:FL Bikers
X-ORIGINAL-URL:https://flbikers.com
X-WR-CALDESC:Events for FL Bikers
REFRESH-INTERVAL;VALUE=DURATION:PT1H
X-Robots-Tag:noindex
X-PUBLISHED-TTL:PT1H
BEGIN:VTIMEZONE
TZID:UTC
BEGIN:STANDARD
TZOFFSETFROM:+0000
TZOFFSETTO:+0000
TZNAME:UTC
DTSTART:20220101T000000
END:STANDARD
END:VTIMEZONE
BEGIN:VEVENT
DTSTART;TZID=UTC:20230615T180000
DTEND;TZID=UTC:20230615T180000
DTSTAMP:20260426T041948
CREATED:20230421T182215Z
LAST-MODIFIED:20230421T182328Z
UID:18960-1686852000-1686852000@flbikers.com
SUMMARY:Shovelhed at Bike Night TCHD
DESCRIPTION:ShovelHed is a Central/South Florida Classic Rock Cover Band comprised of members that have graced both National and International stages with some of the worlds most influential artists.
URL:https://flbikers.com/event/shovelhed-at-bike-night-tchd/
LOCATION:Treasure Coast Harley-Davidson 4967 SE Federal Hwy Stuart\, Florida 34997
END:VEVENT
END:VCALENDAR