BEGIN:VCALENDAR
VERSION:2.0
PRODID:-//FL Bikers - ECPv6.15.20//NONSGML v1.0//EN
CALSCALE:GREGORIAN
METHOD:PUBLISH
X-ORIGINAL-URL:https://flbikers.com
X-WR-CALDESC:Events for FL Bikers
REFRESH-INTERVAL;VALUE=DURATION:PT1H
X-Robots-Tag:noindex
X-PUBLISHED-TTL:PT1H
BEGIN:VTIMEZONE
TZID:UTC
BEGIN:STANDARD
TZOFFSETFROM:+0000
TZOFFSETTO:+0000
TZNAME:UTC
DTSTART:20220101T000000
END:STANDARD
END:VTIMEZONE
BEGIN:VEVENT
DTSTART;TZID=UTC:20230602T000000
DTEND;TZID=UTC:20230604T000000
DTSTAMP:20260426T011624
CREATED:20230421T181550Z
LAST-MODIFIED:20230421T181859Z
UID:18957-1685664000-1685836800@flbikers.com
SUMMARY:Ellie Ray’s 11th Annual Bike Rodeo
DESCRIPTION:Pedal to the metal! Get ready for Ellie Ray’s 11th Annual Biker Rodeo – an event you don’t want to miss. Saddle up and join in on this super fun biker extravaganza that’ll have wheels everywhere spinning with delight!
URL:https://flbikers.com/event/ellie-rays-11th-annual-bike-rodeo/
LOCATION:Ellie Ray’s RV Resort & Campground 3349 Northwest 110th St.\, Branford\, FL
END:VEVENT
END:VCALENDAR