BEGIN:VCALENDAR
VERSION:2.0
PRODID:-//FL Bikers - ECPv6.15.20//NONSGML v1.0//EN
CALSCALE:GREGORIAN
METHOD:PUBLISH
X-WR-CALNAME:FL Bikers
X-ORIGINAL-URL:https://flbikers.com
X-WR-CALDESC:Events for FL Bikers
REFRESH-INTERVAL;VALUE=DURATION:PT1H
X-Robots-Tag:noindex
X-PUBLISHED-TTL:PT1H
BEGIN:VTIMEZONE
TZID:UTC
BEGIN:STANDARD
TZOFFSETFROM:+0000
TZOFFSETTO:+0000
TZNAME:UTC
DTSTART:20220101T000000
END:STANDARD
END:VTIMEZONE
BEGIN:VEVENT
DTSTART;TZID=UTC:20230513T080000
DTEND;TZID=UTC:20230513T230000
DTSTAMP:20260426T042039
CREATED:20230328T174414Z
LAST-MODIFIED:20230328T174845Z
UID:18789-1683964800-1684018800@flbikers.com
SUMMARY:Boots on the Ground 2023 Poker Run and Concert
DESCRIPTION:10th Annual Boots on the Ground Poker Run and Concert \n44 different Poker Stops\, Live Music\, Slingshot and Bike Show\, Vendors\, Food Trucks\, Jeep & Golf Cart Poker Run and more. \nBenefits K9s For Warriors\, K9 Line\, Inc.\, Operation Barnabas\, Northeast Florida Women Veterans\, Inc.\, The Veterans Village of NE Florida\, The Florida Fallen Heroes Memorial Fund and Wreaths Across America.
URL:https://flbikers.com/event/boots-on-the-ground-2023-poker-run-and-concert/
LOCATION:Flamingo Lake RV Resort 3640 Newcomb Rd Jacksonville\, Florida 32218
END:VEVENT
END:VCALENDAR