BEGIN:VCALENDAR
VERSION:2.0
PRODID:-//FL Bikers - ECPv6.15.20//NONSGML v1.0//EN
CALSCALE:GREGORIAN
METHOD:PUBLISH
X-WR-CALNAME:FL Bikers
X-ORIGINAL-URL:https://flbikers.com
X-WR-CALDESC:Events for FL Bikers
REFRESH-INTERVAL;VALUE=DURATION:PT1H
X-Robots-Tag:noindex
X-PUBLISHED-TTL:PT1H
BEGIN:VTIMEZONE
TZID:UTC
BEGIN:STANDARD
TZOFFSETFROM:+0000
TZOFFSETTO:+0000
TZNAME:UTC
DTSTART:20220101T000000
END:STANDARD
END:VTIMEZONE
BEGIN:VEVENT
DTSTART;TZID=UTC:20230427T000000
DTEND;TZID=UTC:20230430T000000
DTSTAMP:20260425T143554
CREATED:20230227T201035Z
LAST-MODIFIED:20230227T202159Z
UID:13950-1682553600-1682812800@flbikers.com
SUMMARY:Gator Bike Rally 2023
DESCRIPTION:4 days of music\, vendors\, food\, motorcycles and more! ALL AT GATOR HARLEY-DAVIDSON!
URL:https://flbikers.com/event/gator-bike-rally-2023/
LOCATION:Gator Harley Davidson 1745 US-441\, Leesburg\, Florida 34748
END:VEVENT
BEGIN:VEVENT
DTSTART;TZID=UTC:20230428T000000
DTEND;TZID=UTC:20230430T000000
DTSTAMP:20260425T143554
CREATED:20230227T202604Z
LAST-MODIFIED:20230227T203702Z
UID:13952-1682640000-1682812800@flbikers.com
SUMMARY:Leesburg BikeFest 2023
DESCRIPTION:Leesburg Bike Fest is back for 2023 and is going to be a 3 day motorcycle rally you do not want to miss!!! \nOnce a year Downtown Leesburg transforms its streets and businesses into a celebration of music and bikes. \nEnjoy Live Music at Multiple Venues\, Bike Show\, Vendors\, Food and Drink at the many Downtown Leesburg Restaurants & Bars and a Whole Lot More Fun throughout the area.
URL:https://flbikers.com/event/leesburg-bikefest-2023/
LOCATION:The Historic district of Downtown Leesburg
END:VEVENT
BEGIN:VEVENT
DTSTART;TZID=UTC:20230429T090000
DTEND;TZID=UTC:20230429T090000
DTSTAMP:20260425T143554
CREATED:20230227T204039Z
LAST-MODIFIED:20230227T204356Z
UID:13955-1682758800-1682758800@flbikers.com
SUMMARY:Ride for the Fallen 13 Poker Run
DESCRIPTION:2nd Annual Motorcycle Poker Run with Mystery Stops\, Raffle\, Door Prizes\, and More \n$15 Rider – $5 Passenger – $5 Additional Poker Run Hand \nBreakfast & Lunch Available \nProceeds benefit Remembering Vets Inc & VFW Riders Post 8696
URL:https://flbikers.com/event/ride-for-the-fallen-13-poker-run/
LOCATION:VFW Post 8696 47 Old Kings Rd N Palm Coast\, Florida 32137
END:VEVENT
END:VCALENDAR