BEGIN:VCALENDAR
VERSION:2.0
PRODID:-//FL Bikers - ECPv6.15.20//NONSGML v1.0//EN
CALSCALE:GREGORIAN
METHOD:PUBLISH
X-ORIGINAL-URL:https://flbikers.com
X-WR-CALDESC:Events for FL Bikers
REFRESH-INTERVAL;VALUE=DURATION:PT1H
X-Robots-Tag:noindex
X-PUBLISHED-TTL:PT1H
BEGIN:VTIMEZONE
TZID:UTC
BEGIN:STANDARD
TZOFFSETFROM:+0000
TZOFFSETTO:+0000
TZNAME:UTC
DTSTART:20220101T000000
END:STANDARD
END:VTIMEZONE
BEGIN:VEVENT
DTSTART;TZID=UTC:20230422T100000
DTEND;TZID=UTC:20230422T180000
DTSTAMP:20260425T104807
CREATED:20230227T195239Z
LAST-MODIFIED:20230227T195931Z
UID:13944-1682157600-1682186400@flbikers.com
SUMMARY:ALR 2023 Florida State Rally
DESCRIPTION:Join the American Legion Riders Department of Florida to raise awareness and collect donations for PROJECT:VET RELIEF / Suicide Prevention Initiative. \nOPEN TO THE PUBLIC! \nThere will be Live Music\, Bike Raffle\, Food and More \nFree Admission
URL:https://flbikers.com/event/alr-2023-florida-state-rally/
LOCATION:Bert’s Barracuda Harley-Davidson 10525 49th St N Clearwater\, Florida 33762
END:VEVENT
BEGIN:VEVENT
DTSTART;TZID=UTC:20230422T120000
DTEND;TZID=UTC:20230422T170000
DTSTAMP:20260425T104807
CREATED:20230227T200253Z
LAST-MODIFIED:20230227T200633Z
UID:13947-1682164800-1682182800@flbikers.com
SUMMARY:Palm Beach County Blessing of the Bikes
DESCRIPTION:Come have your bike blessed\, and enjoy a day filled with good people\, and awesome bikes. \nHosted by: VFW Post 9610 Riders\, Nam Knights Palm Beach County Chapter\, and American Legion Riders Chapter 268\nAll are welcome! bikes\, trikes\, spyders\, slingshots – The blessing is free \nThere will be a 50/50 raffle and other raffles to participate in. \nDJ Uno will be spinning tunes from 12-5\nand there will be food trucks on site!
URL:https://flbikers.com/event/palm-beach-county-blessing-of-the-bikes/
LOCATION:American Legion Post #268 1690 Avenue H West Riviera Beach\, Florida 33404
END:VEVENT
END:VCALENDAR