BEGIN:VCALENDAR
VERSION:2.0
PRODID:-//FL Bikers - ECPv6.15.20//NONSGML v1.0//EN
CALSCALE:GREGORIAN
METHOD:PUBLISH
X-WR-CALNAME:FL Bikers
X-ORIGINAL-URL:https://flbikers.com
X-WR-CALDESC:Events for FL Bikers
REFRESH-INTERVAL;VALUE=DURATION:PT1H
X-Robots-Tag:noindex
X-PUBLISHED-TTL:PT1H
BEGIN:VTIMEZONE
TZID:UTC
BEGIN:STANDARD
TZOFFSETFROM:+0000
TZOFFSETTO:+0000
TZNAME:UTC
DTSTART:20220101T000000
END:STANDARD
END:VTIMEZONE
BEGIN:VEVENT
DTSTART;TZID=UTC:20230414T000000
DTEND;TZID=UTC:20230416T000000
DTSTAMP:20260425T164038
CREATED:20230227T180825Z
LAST-MODIFIED:20230227T181912Z
UID:13935-1681430400-1681603200@flbikers.com
SUMMARY:Tallahassee Bike Fest 2023
DESCRIPTION:Tallahassee Bike Fest is Florida’s capital city’s annual motorcycle rally. As one of the only cities in Florida with rolling hills and canopy roads\, our festival is perfect for bikers seeking an extra thrilling and unique biking experience you can’t find anywhere else in the sunshine state. \nEntertainment | Vendors | Poker Runs | Bike Show | Audio Show | Mapped Rides | And more \nFeatured Entertainment includes… \nJasmine Cain\nWicked Serenity – Tribute to Godsmack\nThe Mae West Band\nAnd Lots More to be Announced! \nThe Full Throttle Bike Show will be on April 15th
URL:https://flbikers.com/event/tallahassee-bike-fest-2023/
LOCATION:FL
END:VEVENT
BEGIN:VEVENT
DTSTART;TZID=UTC:20230415T100000
DTEND;TZID=UTC:20230415T100000
DTSTAMP:20260425T164038
CREATED:20230227T183602Z
LAST-MODIFIED:20230227T183719Z
UID:13940-1681552800-1681552800@flbikers.com
SUMMARY:Darla Lathrem Fallen Heroes Fundraiser Ride & Event - 17th Annual
DESCRIPTION:Fundraiser Motorcycle Ride and After Party to provide financial assistance to local police\, fire and military that are injured\, killed or in critical need of assistance during time of crisis. \nRide starts at 10:30 \nIf you don’t ride you can still come out for the after party at noon and enjoy Live Music\, Food\, Drink and Fun
URL:https://flbikers.com/event/darla-lathrem-fallen-heroes-fundraiser-ride-event-17th-annual/
LOCATION:Bert’s Black Widow Harley-Davidson 2224 El Jobean Rd Port Charlotte\, Florida 33948
END:VEVENT
BEGIN:VEVENT
DTSTART;TZID=UTC:20230415T100000
DTEND;TZID=UTC:20230415T100000
DTSTAMP:20260425T164038
CREATED:20230227T183940Z
LAST-MODIFIED:20230227T194506Z
UID:13942-1681552800-1681552800@flbikers.com
SUMMARY:Radical's Baggerz & Tailz Custom Bike Show
DESCRIPTION:Join Harley-Davidson of New Port Richey as we celebrate our 20th Anniversary \nThere will be a Custom Bike Show & Sound Showdown and Lots More Fun
URL:https://flbikers.com/event/radicals-baggerz-tailz-custom-bike-show/
LOCATION:Harley-Davidson of New Port Richey 5817 State Road 54 New Port Richey\, Florida 34652
END:VEVENT
BEGIN:VEVENT
DTSTART;TZID=UTC:20230415T160000
DTEND;TZID=UTC:20230415T210000
DTSTAMP:20260425T164038
CREATED:20230302T192933Z
LAST-MODIFIED:20230302T193103Z
UID:13964-1681574400-1681592400@flbikers.com
SUMMARY:19th Annual Music & Motorcycles
DESCRIPTION:Come rock the block with Bobby Friss and enjoy drinks\, vendors\, Bike contest\, and more!
URL:https://flbikers.com/event/19th-annual-music-motorcycles/
LOCATION:Main Street Zephyrhills\, 38421 5th Ave\, Zephyrhills\, FL\, 33542\, United States
END:VEVENT
END:VCALENDAR