BEGIN:VCALENDAR
VERSION:2.0
PRODID:-//FL Bikers - ECPv6.15.20//NONSGML v1.0//EN
CALSCALE:GREGORIAN
METHOD:PUBLISH
X-WR-CALNAME:FL Bikers
X-ORIGINAL-URL:https://flbikers.com
X-WR-CALDESC:Events for FL Bikers
REFRESH-INTERVAL;VALUE=DURATION:PT1H
X-Robots-Tag:noindex
X-PUBLISHED-TTL:PT1H
BEGIN:VTIMEZONE
TZID:UTC
BEGIN:STANDARD
TZOFFSETFROM:+0000
TZOFFSETTO:+0000
TZNAME:UTC
DTSTART:20220101T000000
END:STANDARD
END:VTIMEZONE
BEGIN:VEVENT
DTSTART;TZID=UTC:20230414T000000
DTEND;TZID=UTC:20230416T000000
DTSTAMP:20260425T115608
CREATED:20230227T180825Z
LAST-MODIFIED:20230227T181912Z
UID:13935-1681430400-1681603200@flbikers.com
SUMMARY:Tallahassee Bike Fest 2023
DESCRIPTION:Tallahassee Bike Fest is Florida’s capital city’s annual motorcycle rally. As one of the only cities in Florida with rolling hills and canopy roads\, our festival is perfect for bikers seeking an extra thrilling and unique biking experience you can’t find anywhere else in the sunshine state. \nEntertainment | Vendors | Poker Runs | Bike Show | Audio Show | Mapped Rides | And more \nFeatured Entertainment includes… \nJasmine Cain\nWicked Serenity – Tribute to Godsmack\nThe Mae West Band\nAnd Lots More to be Announced! \nThe Full Throttle Bike Show will be on April 15th
URL:https://flbikers.com/event/tallahassee-bike-fest-2023/
LOCATION:FL
END:VEVENT
END:VCALENDAR