BEGIN:VCALENDAR
VERSION:2.0
PRODID:-//FL Bikers - ECPv6.15.20//NONSGML v1.0//EN
CALSCALE:GREGORIAN
METHOD:PUBLISH
X-ORIGINAL-URL:https://flbikers.com
X-WR-CALDESC:Events for FL Bikers
REFRESH-INTERVAL;VALUE=DURATION:PT1H
X-Robots-Tag:noindex
X-PUBLISHED-TTL:PT1H
BEGIN:VTIMEZONE
TZID:UTC
BEGIN:STANDARD
TZOFFSETFROM:+0000
TZOFFSETTO:+0000
TZNAME:UTC
DTSTART:20220101T000000
END:STANDARD
END:VTIMEZONE
BEGIN:VEVENT
DTSTART;TZID=UTC:20230330T000000
DTEND;TZID=UTC:20230401T000000
DTSTAMP:20260425T133934
CREATED:20221220T194227Z
LAST-MODIFIED:20221220T194227Z
UID:13688-1680134400-1680307200@flbikers.com
SUMMARY:All Female Ride - Jax 2023
DESCRIPTION:A Motorcycle Rally in Jacksonville\, FL for women from all walks of life celebrating and sharing a love for motorcycling. \nThe ride is also focused on giving awareness of motorcycle safety.
URL:https://flbikers.com/event/all-female-ride-jax-2023/
LOCATION:Fairfield Inn 4888 Lenoir Ave Jacksonville\, Florida 32216
END:VEVENT
END:VCALENDAR