BEGIN:VCALENDAR
VERSION:2.0
PRODID:-//FL Bikers - ECPv6.15.20//NONSGML v1.0//EN
CALSCALE:GREGORIAN
METHOD:PUBLISH
X-WR-CALNAME:FL Bikers
X-ORIGINAL-URL:https://flbikers.com
X-WR-CALDESC:Events for FL Bikers
REFRESH-INTERVAL;VALUE=DURATION:PT1H
X-Robots-Tag:noindex
X-PUBLISHED-TTL:PT1H
BEGIN:VTIMEZONE
TZID:UTC
BEGIN:STANDARD
TZOFFSETFROM:+0000
TZOFFSETTO:+0000
TZNAME:UTC
DTSTART:20220101T000000
END:STANDARD
END:VTIMEZONE
BEGIN:VEVENT
DTSTART;TZID=UTC:20230217T000000
DTEND;TZID=UTC:20230219T000000
DTSTAMP:20260425T191844
CREATED:20221219T181900Z
LAST-MODIFIED:20221219T181900Z
UID:13655-1676592000-1676764800@flbikers.com
SUMMARY:Thunder By The Bay Music & Motorcycle Festival - 25th Annual
DESCRIPTION:The 25th Annual Thunder By The Bay Music & Motorcycle Festival is a three-day event held Feb. 17-19\, 2023 at the Sarasota Fairgrounds to benefit Suncoast Charities for Children. Bring your lawn chair and enjoy continuous live music. Featured headline acts include 38 Special (Saturday – February 18) and Colt Ford (Sunday – February 19). The Festival features over 100 vendors\, motorcycle freestyle shows\, a charity motorcycle ride\, 17 class bike show\, a motorcycle stereo contest\, a burnout contest\, “little riders” kid zone\, great food\, a “Born To Be Wild” Festival kickoff party\, and so much more!
URL:https://flbikers.com/event/thunder-by-the-bay-music-motorcycle-festival-25th-annual/
LOCATION:Sarasota Fairgrounds 3000 Ringling Blvd Sarasota\, Florida 34232
END:VEVENT
BEGIN:VEVENT
DTSTART;TZID=UTC:20230218T090000
DTEND;TZID=UTC:20230218T090000
DTSTAMP:20260425T191844
CREATED:20221219T182132Z
LAST-MODIFIED:20221219T185413Z
UID:13658-1676710800-1676710800@flbikers.com
SUMMARY:Hittin' the Road for Hospice Motorcycle Poker Run
DESCRIPTION:2023 is the 11th Annual Hittin’ the Road for Hospice Motorcycle Poker Run \nA scenic Poker Run ride from Harley-Davidson of New Port Richey through Pasco County ending at the Zephyrhills Moose Lodge with Cash Prizes for best Poker Hands\, Music\, Drawings and More \n$30 per Person \nBenefits Gulfside Hospice to support patient care in Pasco County.
URL:https://flbikers.com/event/hittin-the-road-for-hospice-motorcycle-poker-run/
LOCATION:Harley-Davidson of New Port Richey 5817 State Road 54 New Port Richey\, Florida 34652
END:VEVENT
END:VCALENDAR