BEGIN:VCALENDAR
VERSION:2.0
PRODID:-//FL Bikers - ECPv6.15.20//NONSGML v1.0//EN
CALSCALE:GREGORIAN
METHOD:PUBLISH
X-WR-CALNAME:FL Bikers
X-ORIGINAL-URL:https://flbikers.com
X-WR-CALDESC:Events for FL Bikers
REFRESH-INTERVAL;VALUE=DURATION:PT1H
X-Robots-Tag:noindex
X-PUBLISHED-TTL:PT1H
BEGIN:VTIMEZONE
TZID:UTC
BEGIN:STANDARD
TZOFFSETFROM:+0000
TZOFFSETTO:+0000
TZNAME:UTC
DTSTART:20220101T000000
END:STANDARD
END:VTIMEZONE
BEGIN:VEVENT
DTSTART;TZID=UTC:20230113T000000
DTEND;TZID=UTC:20230114T000000
DTSTAMP:20260425T121813
CREATED:20221222T174549Z
LAST-MODIFIED:20221222T175059Z
UID:13714-1673568000-1673654400@flbikers.com
SUMMARY:BMW Motorcycle Owners Northeast Florida 40th Annual Winter Rally
DESCRIPTION:Join the BMW Motorcycle Owners of Northeast Florida and other BMW Riders from all over for a weekend of motorcycles\, riding\, food & drink and fun \nThe event is held on 500+ acre site located in Live Oak\, FL with a variety of lodging options which include tent camping\, RV hookups\, hotel style guest rooms\, and shared cabins.
URL:https://flbikers.com/event/bmw-motorcycle-owners-northeast-florida-40th-annual-winter-rally/
LOCATION:Camp Weed and Cerveny Confernce Center 11057 Camp Weed Place Live Oak\, Florida 32060
END:VEVENT
BEGIN:VEVENT
DTSTART;TZID=UTC:20230113T080000
DTEND;TZID=UTC:20230115T170000
DTSTAMP:20260425T121813
CREATED:20221214T210844Z
LAST-MODIFIED:20221214T210844Z
UID:13647-1673596800-1673802000@flbikers.com
SUMMARY:Eastbound Getdown Car\, Bike & Truck Show
DESCRIPTION:
URL:https://flbikers.com/event/eastbound-getdown-car-bike-truck-show/
LOCATION:Bruce Rossmeyer’s Destination Daytona 1637 North US Highway 1\, Ormond Beach\, FL 32174
END:VEVENT
END:VCALENDAR