BEGIN:VCALENDAR
VERSION:2.0
PRODID:-//FL Bikers - ECPv6.15.20//NONSGML v1.0//EN
CALSCALE:GREGORIAN
METHOD:PUBLISH
X-ORIGINAL-URL:https://flbikers.com
X-WR-CALDESC:Events for FL Bikers
REFRESH-INTERVAL;VALUE=DURATION:PT1H
X-Robots-Tag:noindex
X-PUBLISHED-TTL:PT1H
BEGIN:VTIMEZONE
TZID:UTC
BEGIN:STANDARD
TZOFFSETFROM:+0000
TZOFFSETTO:+0000
TZNAME:UTC
DTSTART:20210101T000000
END:STANDARD
END:VTIMEZONE
BEGIN:VEVENT
DTSTART;TZID=UTC:20221230T180000
DTEND;TZID=UTC:20221230T220000
DTSTAMP:20260425T104828
CREATED:20221206T170159Z
LAST-MODIFIED:20221206T171453Z
UID:13609-1672423200-1672437600@flbikers.com
SUMMARY:RideNow Jax December Bike Night
DESCRIPTION:
URL:https://flbikers.com/event/ridenow-jax-december-bike-night/
LOCATION:RideNow Powersports 6407 Blanding Boulevard Jacksonville\, Florida 32244
END:VEVENT
END:VCALENDAR