BEGIN:VCALENDAR
VERSION:2.0
PRODID:-//FL Bikers - ECPv6.15.20//NONSGML v1.0//EN
CALSCALE:GREGORIAN
METHOD:PUBLISH
X-ORIGINAL-URL:https://flbikers.com
X-WR-CALDESC:Events for FL Bikers
REFRESH-INTERVAL;VALUE=DURATION:PT1H
X-Robots-Tag:noindex
X-PUBLISHED-TTL:PT1H
BEGIN:VTIMEZONE
TZID:UTC
BEGIN:STANDARD
TZOFFSETFROM:+0000
TZOFFSETTO:+0000
TZNAME:UTC
DTSTART:20210101T000000
END:STANDARD
END:VTIMEZONE
BEGIN:VEVENT
DTSTART;TZID=UTC:20221117T000000
DTEND;TZID=UTC:20221120T000000
DTSTAMP:20260426T011649
CREATED:20221019T165228Z
LAST-MODIFIED:20221019T170823Z
UID:13525-1668643200-1668902400@flbikers.com
SUMMARY:ST. PETE BIKEFEST 2022
DESCRIPTION:
URL:https://flbikers.com/event/st-pete-bikefest-2022/
LOCATION:St. Petersburg\, Florida
END:VEVENT
END:VCALENDAR