BEGIN:VCALENDAR
VERSION:2.0
PRODID:-//FL Bikers - ECPv6.15.20//NONSGML v1.0//EN
CALSCALE:GREGORIAN
METHOD:PUBLISH
X-WR-CALNAME:FL Bikers
X-ORIGINAL-URL:https://flbikers.com
X-WR-CALDESC:Events for FL Bikers
REFRESH-INTERVAL;VALUE=DURATION:PT1H
X-Robots-Tag:noindex
X-PUBLISHED-TTL:PT1H
BEGIN:VTIMEZONE
TZID:UTC
BEGIN:STANDARD
TZOFFSETFROM:+0000
TZOFFSETTO:+0000
TZNAME:UTC
DTSTART:20210101T000000
END:STANDARD
END:VTIMEZONE
BEGIN:VEVENT
DTSTART;TZID=UTC:20221110T180000
DTEND;TZID=UTC:20221110T220000
DTSTAMP:20260426T042016
CREATED:20221019T191224Z
LAST-MODIFIED:20221019T191343Z
UID:13537-1668103200-1668117600@flbikers.com
SUMMARY:Bike Night
DESCRIPTION:
URL:https://flbikers.com/event/bike-night-3/
LOCATION:Caddy’s Bradenton 801 Riverside Dr E\, Bradenton\, Florida 34208
END:VEVENT
END:VCALENDAR