BEGIN:VCALENDAR
VERSION:2.0
PRODID:-//FL Bikers - ECPv6.15.20//NONSGML v1.0//EN
CALSCALE:GREGORIAN
METHOD:PUBLISH
X-WR-CALNAME:FL Bikers
X-ORIGINAL-URL:https://flbikers.com
X-WR-CALDESC:Events for FL Bikers
REFRESH-INTERVAL;VALUE=DURATION:PT1H
X-Robots-Tag:noindex
X-PUBLISHED-TTL:PT1H
BEGIN:VTIMEZONE
TZID:UTC
BEGIN:STANDARD
TZOFFSETFROM:+0000
TZOFFSETTO:+0000
TZNAME:UTC
DTSTART:20190101T000000
END:STANDARD
END:VTIMEZONE
BEGIN:VEVENT
DTSTART;TZID=UTC:20200628T170000
DTEND;TZID=UTC:20200628T220000
DTSTAMP:20260425T231913
CREATED:20200625T160412Z
LAST-MODIFIED:20200625T160412Z
UID:6977-1593363600-1593381600@flbikers.com
SUMMARY:Biker Meet Up!
DESCRIPTION:Join us this Saturday for our newest monthly meetup at the Sandbar and Grille!
URL:https://flbikers.com/event/biker-meet-up/
LOCATION:Sandbar and Grille\, 4606 S Cleveland Ave\, Fort Meyers\, 33907\, United States
END:VEVENT
END:VCALENDAR