BEGIN:VCALENDAR
VERSION:2.0
PRODID:-//FL Bikers - ECPv6.15.20//NONSGML v1.0//EN
CALSCALE:GREGORIAN
METHOD:PUBLISH
X-WR-CALNAME:FL Bikers
X-ORIGINAL-URL:https://flbikers.com
X-WR-CALDESC:Events for FL Bikers
REFRESH-INTERVAL;VALUE=DURATION:PT1H
X-Robots-Tag:noindex
X-PUBLISHED-TTL:PT1H
BEGIN:VTIMEZONE
TZID:UTC
BEGIN:STANDARD
TZOFFSETFROM:+0000
TZOFFSETTO:+0000
TZNAME:UTC
DTSTART:20190101T000000
END:STANDARD
END:VTIMEZONE
BEGIN:VEVENT
DTSTART;TZID=UTC:20200306T080000
DTEND;TZID=UTC:20200315T170000
DTSTAMP:20260425T133817
CREATED:20200306T160408Z
LAST-MODIFIED:20200306T160408Z
UID:6271-1583481600-1584291600@flbikers.com
SUMMARY:Bike Week 2020 at Dirty Harry's
DESCRIPTION:Dirty Harry’s and it’s outdoor venue (The Outback) are proud to return Bike Week favorites Bobby Friss\, Jasmine Cain\, Hypersona\, and Diesel to our stage. Wet T-shirt contests are every afternoon with Cowboy!
URL:https://flbikers.com/event/bike-week-2020-at-dirty-harrys/
LOCATION:FL
END:VEVENT
BEGIN:VEVENT
DTSTART;TZID=UTC:20200306T080000
DTEND;TZID=UTC:20200315T170000
DTSTAMP:20260425T133817
CREATED:20200306T160625Z
LAST-MODIFIED:20200306T160625Z
UID:6276-1583481600-1584291600@flbikers.com
SUMMARY:Bike Week 2020 at Space Coast Harley-Davidson
DESCRIPTION:FREE concerts all week long\, events\, Miss Space Coast Harley-Davidson Bikini Contest\, Bike Washes all week\, Code Rum with Pirates\, Freakshow Friday the 13th\, Bike Show Contest\, Busted Knuckle Stunt Shows\, Bull Riding/BBQ/Blues\, St. Paddy’s Send Off Party/Green Beer!
URL:https://flbikers.com/event/bike-week-2020-at-space-coast-harley-davidson/
LOCATION:Space Coast Harley-Davidson 1440 Sportsman Lane NE\, Palm Bay\, Florida\, 32905
END:VEVENT
BEGIN:VEVENT
DTSTART;TZID=UTC:20200306T080000
DTEND;TZID=UTC:20200315T170000
DTSTAMP:20260425T133817
CREATED:20200306T160942Z
LAST-MODIFIED:20200306T160942Z
UID:6282-1583481600-1584291600@flbikers.com
SUMMARY:Bike Week Party at Bruce's
DESCRIPTION:You are invited over to Bruce Rossmeyer’s Daytona-Harley Davidson & Destination Daytona for Bike Week 2020! Industry vendors\, stunt shows\, bike shows\, live music\, the world’s largest two-story Harley-Davidson shows and more! Visit our website for a complete list of events: https://www.brucerossmeyer.com/–bikeweek
URL:https://flbikers.com/event/bike-week-party-at-bruces/
LOCATION:Bruce Rossmeyer’s Daytona Harley-Davidson 1637 N US Hwy 1\, Ormond Beach\, Florida\, 32174
END:VEVENT
BEGIN:VEVENT
DTSTART;TZID=UTC:20200306T080000
DTEND;TZID=UTC:20200315T170000
DTSTAMP:20260425T133817
CREATED:20200306T162023Z
LAST-MODIFIED:20200306T162023Z
UID:6296-1583481600-1584291600@flbikers.com
SUMMARY:Djay Karaoke w/ Starry Night Events
DESCRIPTION:Join Manda and Taylor as they rock the night away with music from the decades past and all the best current music\, with a little bit of dancin’ and a whole lot of singing! Come on out!!!
URL:https://flbikers.com/event/djay-karaoke-w-starry-night-events/
LOCATION:Rudy’s Bar and Grill 1130 Ridgewood Avenue\, Daytona Beach\, Florida\, 32117
END:VEVENT
BEGIN:VEVENT
DTSTART;TZID=UTC:20200306T080000
DTEND;TZID=UTC:20200315T210000
DTSTAMP:20260425T133817
CREATED:20200306T161357Z
LAST-MODIFIED:20200306T161357Z
UID:6293-1583481600-1584306000@flbikers.com
SUMMARY:Daytona Swapmeet
DESCRIPTION:Worlds Largest Motorcycle Swapmeet
URL:https://flbikers.com/event/daytona-swapmeet/
LOCATION:JAM-ON PRODUCTIONS 4120 40TH STREET\, BRENTWOOD\, Maryland\, 20722
END:VEVENT
BEGIN:VEVENT
DTSTART;TZID=UTC:20200306T080000
DTEND;TZID=UTC:20200315T233000
DTSTAMP:20260425T133817
CREATED:20200306T154337Z
LAST-MODIFIED:20200306T154507Z
UID:6265-1583481600-1584315000@flbikers.com
SUMMARY:2020 Official Bike Week Welcome Center
DESCRIPTION:Our local Chamber Ambassadors are here daily to help you find an insider’s view of great places to go\, fun things to do or services you may need. Here you’ll find the Official Pocket Guide & 2020 Official Bike Week Poster specially designed by our Official Artist\, Matthew Hintz – It’s also the last stop on the AMSOIL® Treasure Hunt for that commemorative coin. Take a selfie with your friends with the Official Bike Week logo backdrop.
URL:https://flbikers.com/event/2020-official-bike-week-welcome-center/
LOCATION:Daytona Regional Chamber of Commerce 126 E Orange Ave\, Daytona Beach\, Florida\, 32115
END:VEVENT
BEGIN:VEVENT
DTSTART;TZID=UTC:20200306T080000
DTEND;TZID=UTC:20200316T170000
DTSTAMP:20260425T133817
CREATED:20200306T161043Z
LAST-MODIFIED:20200306T161043Z
UID:6285-1583481600-1584378000@flbikers.com
SUMMARY:Bikini Bike Wash
DESCRIPTION:Come meet our fantastic bike team\, consisting of girls with knowledge and training on motorcycles! You’ll get to enjoy the fun of chatting with our lovely young ladies\, as well as leaving with a bike that looks prettier than when you arrived!
URL:https://flbikers.com/event/bikini-bike-wash/
LOCATION:Rudy’s Bar and Grill 1130 Ridgewood Avenue\, Daytona Beach\, Florida\, 32117
END:VEVENT
BEGIN:VEVENT
DTSTART;TZID=UTC:20200314T090000
DTEND;TZID=UTC:20200318T170000
DTSTAMP:20260425T133817
CREATED:20200306T162146Z
LAST-MODIFIED:20200306T162146Z
UID:6299-1584176400-1584550800@flbikers.com
SUMMARY:Fastlane Motorcycle Swap Meet and Bike Show
DESCRIPTION:Fastlane Promotions Presents The 14th Annual Bike Week Motorcycle Swap Meet Extravaganza & Bike Show Located at the Volusia County Fairgrounds. 10 Big days\, Fri March 9th -Sun 18th 2018. Buy-Sell-Trade! Acres of vendors from all over the country will be on display and ready to make deals on everything from frames to fenders\, leather\, boots\, goggles\, patches\, Jewelry\, and even have those hard-to-find vintage parts and accessories. Shovelhead show Sat 10th 3:00pm \, Rat Bike Show Sun 11th 3:00pm\, Side Car & Trike show Wed 14th 3:00pm\, Old School Chopper show 3:00pm Thurs 15th 3:00pm\, British/European Show Fri 16th 3:00pm\, Antique Bike Show Sat 17th 3:00pm. Free bike show registration at gate prior to show. Prizes & Trophies awarded. Great Food-Beer Tent-Live Music\, Admission $5.00 9am-5pm Daily\,Rain or Shine\, Free parking. Stop bye\, sign and pose for pictures in front of Fastlane’s Giant Wooden Motorcycle Sculpture (Burning Bike) located in front of the Swap Meet until the night we burn it down Friday March 16th. Vendor Spots Available. $150.00 for a 15’x30’ space for all 10 days. Please call 386-801-1810 or visit us at www.fastlanedaytona.com
URL:https://flbikers.com/event/fastlane-motorcycle-swap-meet-and-bike-show/
LOCATION:Fastlane Promotions LLC 3150 E New York Ave\, Deland\, Florida\, 32724
END:VEVENT
END:VCALENDAR